{"text_format":"1","workbook":"xlsx","n_sheets":7,"sheets":["Summary","Project Summary","Features","User System","Usage Times","Versions","Feature Significance"],"not_rendered":{"charts":10,"images":28,"macros":1,"external_links":0,"defined_names":0,"comments":0,"pivot_tables":0},"unopened":[],"bounds":{"document_bytes":16777216,"sheet_cells":100000,"rows_first":2000,"rows_last":500,"rows_between":2000,"halvings":0,"cell_chars":16384,"cell_head_chars":4096},"cells_cut":0,"cells_raw":0,"read":"whole","date_system":"1900"}

{"sheet":"Summary","index":0,"n_rows":26,"n_cols":5,"rows_kept":26,"cut":false,"hidden":false,"merged":[]}
[]
[null,"Overall Summary"]
[]
[null,"   Please select whether your data is on a SQL Server or in an MDB file.  If you do not know, look in SmartAssembly under 'Options'"]
[]
[null,null,"rg-sql01","Windows Authentication will be used to connect to this server"]
[null,null,"C:\\ProgramData\\Red Gate\\SmartAssembly\\database.mdb"]
[]
[null,"Total projects",null,null,"IP Filtering"]
[null,"Total feature usages"]
[null,"Total features"]
[null,"Total unique users"]
[null,"Total sessions"]
[]
[null,"Projects for which feature reporting data is available:"]
[null,null,null,null,"{50ea7942-4483-59ef-7e39-4800b74fcbaa}"]
[null,"Project Name","Project Guid"]
[]
[]
[]
[]
[]
[null,null,null,null,"IP Hashes to filter "]
[null,null,null,null,"212.44.26.236"]
[null,null,null,null,"193.34.187.129"]
[null,null,null,null,"{50ea7942-4483-59ef-7e39-4800b74fcbaa}"]

{"sheet":"Project Summary","index":1,"n_rows":26,"n_cols":6,"rows_kept":26,"cut":false,"hidden":false,"merged":[]}
[]
[null,"Project Summary"]
[]
[null,"Select Project:"]
[null,"Project GUID"]
[null,"Build",null,null,"all statistics will be filtered by this build, where appropriate"]
[null,"Build Assembly GUID"]
[]
[null,"Total Sessions",null,"Total runs of the application by your users."]
[null,"Unique Users",null,"Total number of unique users who have submitted reports.  Research shows about 1/3 of users opt-in when prompted."]
[null,"First session",null,"The date of the first session."]
[null,"Most recent session",null,"The date of the most recent session.  Bear in mind, this may be in the future due to people changing their clocks."]
[null,"Mean total sessions per day",null,"The mean number of times the application is run in a day, over all users"]
[null,"Mean sessions per day per user",{"$f":"C13 / C10","v":{"$error":"#DIV/0!"}},"The mean number of times each user runs the software per day"]
[null,"Mean duration of active use (days)",null,"Mean of how long it is from first to final usage over all users"]
[null,"Mean sessions per day per active user",null,"How many times a day a user uses the product, from his/her first usage to his/her most recent usage of it"]
[null,"Mean total sessions per user",{"$f":" C9 / C10","v":{"$error":"#DIV/0!"}}]
[null,"Median total sessions per user"]
[]
[]
[]
[]
[]
[]
[]
[null,"Build Version","Build Date","Assembly ID","Usages","Unique Users"]

{"sheet":"Features","index":2,"n_rows":1143,"n_cols":13,"rows_kept":1143,"cut":false,"hidden":false,"merged":[]}
[]
[null,"Features"]
[]
[null,"This lists aggregated statistics from feature reports returned by your users about the features they used, and statistics derived from these data."]
[]
[null,"Sort:"]
[]
[]
[null,"Individual Features Stats"]
[null,"ID","Feature Name","Total usages","Sessions used in","Unique Users used by","Mean Usages in a session, if used","% of all sessions used in","% of all users used by","Max usages in a  session","Standard Deviation of Usages per session","First build seen in","Most Recent build seen in"]
[null,null,null,null,null,null,{"$f":"IF(D11<>\"\", D11/E11, \"\")","v":""},{"$f":"IF(E11<>\"\",E11/'Project Summary'!$C$9,\"\")","v":""},{"$f":"IF(F11<>\"\",F11/'Project Summary'!$C$10, \"\")","v":""}]
[null,null,null,null,null,null,{"$f":"IF(D12<>\"\", D12/E12, \"\")","v":""},{"$f":"IF(E12<>\"\",E12/'Project Summary'!$C$9,\"\")","v":""},{"$f":"IF(F12<>\"\",F12/'Project Summary'!$C$10, \"\")","v":""}]
[null,null,null,null,null,null,"",{"$f":"IF(E13<>\"\",E13/'Project Summary'!$C$9,\"\")","v":""},{"$f":"IF(F13<>\"\",F13/'Project Summary'!$C$10, \"\")","v":""}]
[null,null,null,null,null,null,"",{"$f":"IF(E14<>\"\",E14/'Project Summary'!$C$9,\"\")","v":""},{"$f":"IF(F14<>\"\",F14/'Project Summary'!$C$10, \"\")","v":""}]
[null,null,null,null,null,null,"",{"$f":"IF(E15<>\"\",E15/'Project Summary'!$C$9,\"\")","v":""},{"$f":"IF(F15<>\"\",F15/'Project Summary'!$C$10, \"\")","v":""}]
[null,null,null,null,null,null,"",{"$f":"IF(E16<>\"\",E16/'Project Summary'!$C$9,\"\")","v":""},{"$f":"IF(F16<>\"\",F16/'Project Summary'!$C$10, \"\")","v":""}]
[null,null,null,null,null,null,"",{"$f":"IF(E17<>\"\",E17/'Project Summary'!$C$9,\"\")","v":""},{"$f":"IF(F17<>\"\",F17/'Project Summary'!$C$10, \"\")","v":""}]
[null,null,null,null,null,null,"",{"$f":"IF(E18<>\"\",E18/'Project Summary'!$C$9,\"\")","v":""},{"$f":"IF(F18<>\"\",F18/'Project Summary'!$C$10, \"\")","v":""}]
[null,null,null,null,null,null,"",{"$f":"IF(E19<>\"\",E19/'Project Summary'!$C$9,\"\")","v":""},{"$f":"IF(F19<>\"\",F19/'Project Summary'!$C$10, \"\")","v":""}]
[null,null,null,null,null,null,"",{"$f":"IF(E20<>\"\",E20/'Project Summary'!$C$9,\"\")","v":""},{"$f":"IF(F20<>\"\",F20/'Project Summary'!$C$10, \"\")","v":""}]
[null,null,null,null,null,null,"",{"$f":"IF(E21<>\"\",E21/'Project Summary'!$C$9,\"\")","v":""},{"$f":"IF(F21<>\"\",F21/'Project Summary'!$C$10, \"\")","v":""}]
[null,null,null,null,null,null,"",{"$f":"IF(E22<>\"\",E22/'Project Summary'!$C$9,\"\")","v":""},{"$f":"IF(F22<>\"\",F22/'Project Summary'!$C$10, \"\")","v":""}]
[null,null,null,null,null,null,"",{"$f":"IF(E23<>\"\",E23/'Project Summary'!$C$9,\"\")","v":""},{"$f":"IF(F23<>\"\",F23/'Project Summary'!$C$10, \"\")","v":""}]
[null,null,null,null,null,null,"",{"$f":"IF(E24<>\"\",E24/'Project Summary'!$C$9,\"\")","v":""},{"$f":"IF(F24<>\"\",F24/'Project Summary'!$C$10, \"\")","v":""}]
[null,null,null,null,null,null,"",{"$f":"IF(E25<>\"\",E25/'Project Summary'!$C$9,\"\")","v":""},{"$f":"IF(F25<>\"\",F25/'Project Summary'!$C$10, \"\")","v":""}]
[null,null,null,null,null,null,"",{"$f":"IF(E26<>\"\",E26/'Project Summary'!$C$9,\"\")","v":""},{"$f":"IF(F26<>\"\",F26/'Project Summary'!$C$10, \"\")","v":""}]
[null,null,null,null,null,null,"",{"$f":"IF(E27<>\"\",E27/'Project Summary'!$C$9,\"\")","v":""},{"$f":"IF(F27<>\"\",F27/'Project Summary'!$C$10, \"\")","v":""}]
[null,null,null,null,null,null,"",{"$f":"IF(E28<>\"\",E28/'Project Summary'!$C$9,\"\")","v":""},{"$f":"IF(F28<>\"\",F28/'Project Summary'!$C$10, \"\")","v":""}]
[null,null,null,null,null,null,"",{"$f":"IF(E29<>\"\",E29/'Project Summary'!$C$9,\"\")","v":""},{"$f":"IF(F29<>\"\",F29/'Project Summary'!$C$10, \"\")","v":""}]
[null,null,null,null,null,null,"",{"$f":"IF(E30<>\"\",E30/'Project Summary'!$C$9,\"\")","v":""},{"$f":"IF(F30<>\"\",F30/'Project Summary'!$C$10, \"\")","v":""}]
[null,null,null,null,null,null,"",{"$f":"IF(E31<>\"\",E31/'Project Summary'!$C$9,\"\")","v":""},{"$f":"IF(F31<>\"\",F31/'Project Summary'!$C$10, \"\")","v":""}]
[null,null,null,null,null,null,"",{"$f":"IF(E32<>\"\",E32/'Project Summary'!$C$9,\"\")","v":""},{"$f":"IF(F32<>\"\",F32/'Project Summary'!$C$10, \"\")","v":""}]
[null,null,null,null,null,null,"",{"$f":"IF(E33<>\"\",E33/'Project Summary'!$C$9,\"\")","v":""},{"$f":"IF(F33<>\"\",F33/'Project Summary'!$C$10, \"\")","v":""}]
[null,null,null,null,null,null,"",{"$f":"IF(E34<>\"\",E34/'Project Summary'!$C$9,\"\")","v":""},{"$f":"IF(F34<>\"\",F34/'Project Summary'!$C$10, \"\")","v":""}]
[null,null,null,null,null,null,"",{"$f":"IF(E35<>\"\",E35/'Project Summary'!$C$9,\"\")","v":""},{"$f":"IF(F35<>\"\",F35/'Project Summary'!$C$10, \"\")","v":""}]
[null,null,null,null,null,null,"",{"$f":"IF(E36<>\"\",E36/'Project Summary'!$C$9,\"\")","v":""},{"$f":"IF(F36<>\"\",F36/'Project Summary'!$C$10, \"\")","v":""}]
[null,null,null,null,null,null,"",{"$f":"IF(E37<>\"\",E37/'Project Summary'!$C$9,\"\")","v":""},{"$f":"IF(F37<>\"\",F37/'Project Summary'!$C$10, \"\")","v":""}]
[null,null,null,null,null,null,"",{"$f":"IF(E38<>\"\",E38/'Project Summary'!$C$9,\"\")","v":""},{"$f":"IF(F38<>\"\",F38/'Project Summary'!$C$10, \"\")","v":""}]
[null,null,null,null,null,null,"",{"$f":"IF(E39<>\"\",E39/'Project Summary'!$C$9,\"\")","v":""},{"$f":"IF(F39<>\"\",F39/'Project Summary'!$C$10, \"\")","v":""}]
[null,null,null,null,null,null,"",{"$f":"IF(E40<>\"\",E40/'Project Summary'!$C$9,\"\")","v":""},{"$f":"IF(F40<>\"\",F40/'Project Summary'!$C$10, \"\")","v":""}]
[null,null,null,null,null,null,"",{"$f":"IF(E41<>\"\",E41/'Project Summary'!$C$9,\"\")","v":""},{"$f":"IF(F41<>\"\",F41/'Project Summary'!$C$10, \"\")","v":""}]
[null,null,null,null,null,null,"",{"$f":"IF(E42<>\"\",E42/'Project Summary'!$C$9,\"\")","v":""},{"$f":"IF(F42<>\"\",F42/'Project Summary'!$C$10, \"\")","v":""}]
[null,null,null,null,null,null,"",{"$f":"IF(E43<>\"\",E43/'Project Summary'!$C$9,\"\")","v":""},{"$f":"IF(F43<>\"\",F43/'Project Summary'!$C$10, \"\")","v":""}]
[null,null,null,null,null,null,"",{"$f":"IF(E44<>\"\",E44/'Project Summary'!$C$9,\"\")","v":""},{"$f":"IF(F44<>\"\",F44/'Project Summary'!$C$10, \"\")","v":""}]
[null,null,null,null,null,null,"",{"$f":"IF(E45<>\"\",E45/'Project Summary'!$C$9,\"\")","v":""},{"$f":"IF(F45<>\"\",F45/'Project Summary'!$C$10, \"\")","v":""}]
[null,null,null,null,null,null,"",{"$f":"IF(E46<>\"\",E46/'Project Summary'!$C$9,\"\")","v":""},{"$f":"IF(F46<>\"\",F46/'Project Summary'!$C$10, \"\")","v":""}]
[null,null,null,null,null,null,"",{"$f":"IF(E47<>\"\",E47/'Project Summary'!$C$9,\"\")","v":""},{"$f":"IF(F47<>\"\",F47/'Project Summary'!$C$10, \"\")","v":""}]
[null,null,null,null,null,null,"",{"$f":"IF(E48<>\"\",E48/'Project Summary'!$C$9,\"\")","v":""},{"$f":"IF(F48<>\"\",F48/'Project Summary'!$C$10, \"\")","v":""}]
[null,null,null,null,null,null,"",{"$f":"IF(E49<>\"\",E49/'Project Summary'!$C$9,\"\")","v":""},{"$f":"IF(F49<>\"\",F49/'Project Summary'!$C$10, \"\")","v":""}]
[null,null,null,null,null,null,"",{"$f":"IF(E50<>\"\",E50/'Project Summary'!$C$9,\"\")","v":""},{"$f":"IF(F50<>\"\",F50/'Project Summary'!$C$10, \"\")","v":""}]
[null,null,null,null,null,null,"",{"$f":"IF(E51<>\"\",E51/'Project Summary'!$C$9,\"\")","v":""},{"$f":"IF(F51<>\"\",F51/'Project Summary'!$C$10, \"\")","v":""}]
[null,null,null,null,null,null,"",{"$f":"IF(E52<>\"\",E52/'Project Summary'!$C$9,\"\")","v":""},{"$f":"IF(F52<>\"\",F52/'Project Summary'!$C$10, \"\")","v":""}]
[null,null,null,null,null,null,"",{"$f":"IF(E53<>\"\",E53/'Project Summary'!$C$9,\"\")","v":""},{"$f":"IF(F53<>\"\",F53/'Project Summary'!$C$10, \"\")","v":""}]
[null,null,null,null,null,null,"",{"$f":"IF(E54<>\"\",E54/'Project Summary'!$C$9,\"\")","v":""},{"$f":"IF(F54<>\"\",F54/'Project Summary'!$C$10, \"\")","v":""}]
[null,null,null,null,null,null,"",{"$f":"IF(E55<>\"\",E55/'Project Summary'!$C$9,\"\")","v":""},{"$f":"IF(F55<>\"\",F55/'Project Summary'!$C$10, \"\")","v":""}]
[null,null,null,null,null,null,"",{"$f":"IF(E56<>\"\",E56/'Project Summary'!$C$9,\"\")","v":""},{"$f":"IF(F56<>\"\",F56/'Project Summary'!$C$10, \"\")","v":""}]
[null,null,null,null,null,null,"",{"$f":"IF(E57<>\"\",E57/'Project Summary'!$C$9,\"\")","v":""},{"$f":"IF(F57<>\"\",F57/'Project Summary'!$C$10, \"\")","v":""}]
[null,null,null,null,null,null,"",{"$f":"IF(E58<>\"\",E58/'Project Summary'!$C$9,\"\")","v":""},{"$f":"IF(F58<>\"\",F58/'Project Summary'!$C$10, \"\")","v":""}]
[null,null,null,null,null,null,"",{"$f":"IF(E59<>\"\",E59/'Project Summary'!$C$9,\"\")","v":""},{"$f":"IF(F59<>\"\",F59/'Project Summary'!$C$10, \"\")","v":""}]
[null,null,null,null,null,null,"",{"$f":"IF(E60<>\"\",E60/'Project Summary'!$C$9,\"\")","v":""},{"$f":"IF(F60<>\"\",F60/'Project Summary'!$C$10, \"\")","v":""}]
[null,null,null,null,null,null,"",{"$f":"IF(E61<>\"\",E61/'Project Summary'!$C$9,\"\")","v":""},{"$f":"IF(F61<>\"\",F61/'Project Summary'!$C$10, \"\")","v":""}]
[null,null,null,null,null,null,"",{"$f":"IF(E62<>\"\",E62/'Project Summary'!$C$9,\"\")","v":""},{"$f":"IF(F62<>\"\",F62/'Project Summary'!$C$10, \"\")","v":""}]
[null,null,null,null,null,null,"",{"$f":"IF(E63<>\"\",E63/'Project Summary'!$C$9,\"\")","v":""},{"$f":"IF(F63<>\"\",F63/'Project Summary'!$C$10, \"\")","v":""}]
[null,null,null,null,null,null,"",{"$f":"IF(E64<>\"\",E64/'Project Summary'!$C$9,\"\")","v":""},{"$f":"IF(F64<>\"\",F64/'Project Summary'!$C$10, \"\")","v":""}]
[null,null,null,null,null,null,"",{"$f":"IF(E65<>\"\",E65/'Project Summary'!$C$9,\"\")","v":""},{"$f":"IF(F65<>\"\",F65/'Project Summary'!$C$10, \"\")","v":""}]
[null,null,null,null,null,null,"",{"$f":"IF(E66<>\"\",E66/'Project Summary'!$C$9,\"\")","v":""},{"$f":"IF(F66<>\"\",F66/'Project Summary'!$C$10, \"\")","v":""}]
[null,null,null,null,null,null,"",{"$f":"IF(E67<>\"\",E67/'Project Summary'!$C$9,\"\")","v":""},{"$f":"IF(F67<>\"\",F67/'Project Summary'!$C$10, \"\")","v":""}]
[null,null,null,null,null,null,"",{"$f":"IF(E68<>\"\",E68/'Project Summary'!$C$9,\"\")","v":""},{"$f":"IF(F68<>\"\",F68/'Project Summary'!$C$10, \"\")","v":""}]
[null,null,null,null,null,null,"",{"$f":"IF(E69<>\"\",E69/'Project Summary'!$C$9,\"\")","v":""},{"$f":"IF(F69<>\"\",F69/'Project Summary'!$C$10, \"\")","v":""}]
[null,null,null,null,null,null,"",{"$f":"IF(E70<>\"\",E70/'Project Summary'!$C$9,\"\")","v":""},{"$f":"IF(F70<>\"\",F70/'Project Summary'!$C$10, \"\")","v":""}]
[null,null,null,null,null,null,"",{"$f":"IF(E71<>\"\",E71/'Project Summary'!$C$9,\"\")","v":""},{"$f":"IF(F71<>\"\",F71/'Project Summary'!$C$10, \"\")","v":""}]
[null,null,null,null,null,null,"",{"$f":"IF(E72<>\"\",E72/'Project Summary'!$C$9,\"\")","v":""},{"$f":"IF(F72<>\"\",F72/'Project Summary'!$C$10, \"\")","v":""}]
[null,null,null,null,null,null,"",{"$f":"IF(E73<>\"\",E73/'Project Summary'!$C$9,\"\")","v":""},{"$f":"IF(F73<>\"\",F73/'Project Summary'!$C$10, \"\")","v":""}]
[null,null,null,null,null,null,"",{"$f":"IF(E74<>\"\",E74/'Project Summary'!$C$9,\"\")","v":""},{"$f":"IF(F74<>\"\",F74/'Project Summary'!$C$10, \"\")","v":""}]
[null,null,null,null,null,null,"",{"$f":"IF(E75<>\"\",E75/'Project Summary'!$C$9,\"\")","v":""},{"$f":"IF(F75<>\"\",F75/'Project Summary'!$C$10, \"\")","v":""}]
[null,null,null,null,null,null,{"$f":"IF(D76<>\"\", D76/E76, \"\")","v":""},{"$f":"IF(E76<>\"\",E76/'Project Summary'!$C$9,\"\")","v":""},{"$f":"IF(F76<>\"\",F76/'Project Summary'!$C$10, \"\")","v":""}]
[null,null,null,null,null,null,"",{"$f":"IF(E77<>\"\",E77/'Project Summary'!$C$9,\"\")","v":""},{"$f":"IF(F77<>\"\",F77/'Project Summary'!$C$10, \"\")","v":""}]
[null,null,null,null,null,null,"",{"$f":"IF(E78<>\"\",E78/'Project Summary'!$C$9,\"\")","v":""},{"$f":"IF(F78<>\"\",F78/'Project Summary'!$C$10, \"\")","v":""}]
[null,null,null,null,null,null,"",{"$f":"IF(E79<>\"\",E79/'Project Summary'!$C$9,\"\")","v":""},{"$f":"IF(F79<>\"\",F79/'Project Summary'!$C$10, \"\")","v":""}]
[null,null,null,null,null,null,"",{"$f":"IF(E80<>\"\",E80/'Project Summary'!$C$9,\"\")","v":""},{"$f":"IF(F80<>\"\",F80/'Project Summary'!$C$10, \"\")","v":""}]
[null,null,null,null,null,null,"",{"$f":"IF(E81<>\"\",E81/'Project Summary'!$C$9,\"\")","v":""},{"$f":"IF(F81<>\"\",F81/'Project Summary'!$C$10, \"\")","v":""}]
[null,null,null,null,null,null,"",{"$f":"IF(E82<>\"\",E82/'Project Summary'!$C$9,\"\")","v":""},{"$f":"IF(F82<>\"\",F82/'Project Summary'!$C$10, \"\")","v":""}]
[null,null,null,null,null,null,"",{"$f":"IF(E83<>\"\",E83/'Project Summary'!$C$9,\"\")","v":""},{"$f":"IF(F83<>\"\",F83/'Project Summary'!$C$10, \"\")","v":""}]
[null,null,null,null,null,null,"",{"$f":"IF(E84<>\"\",E84/'Project Summary'!$C$9,\"\")","v":""},{"$f":"IF(F84<>\"\",F84/'Project Summary'!$C$10, \"\")","v":""}]
[null,null,null,null,null,null,"",{"$f":"IF(E85<>\"\",E85/'Project Summary'!$C$9,\"\")","v":""},{"$f":"IF(F85<>\"\",F85/'Project Summary'!$C$10, \"\")","v":""}]
[null,null,null,null,null,null,"",{"$f":"IF(E86<>\"\",E86/'Project Summary'!$C$9,\"\")","v":""},{"$f":"IF(F86<>\"\",F86/'Project Summary'!$C$10, \"\")","v":""}]
[null,null,null,null,null,null,"",{"$f":"IF(E87<>\"\",E87/'Project Summary'!$C$9,\"\")","v":""},{"$f":"IF(F87<>\"\",F87/'Project Summary'!$C$10, \"\")","v":""}]
[null,null,null,null,null,null,"",{"$f":"IF(E88<>\"\",E88/'Project Summary'!$C$9,\"\")","v":""},{"$f":"IF(F88<>\"\",F88/'Project Summary'!$C$10, \"\")","v":""}]
[null,null,null,null,null,null,"",{"$f":"IF(E89<>\"\",E89/'Project Summary'!$C$9,\"\")","v":""},{"$f":"IF(F89<>\"\",F89/'Project Summary'!$C$10, \"\")","v":""}]
[null,null,null,null,null,null,"",{"$f":"IF(E90<>\"\",E90/'Project Summary'!$C$9,\"\")","v":""},{"$f":"IF(F90<>\"\",F90/'Project Summary'!$C$10, \"\")","v":""}]
[null,null,null,null,null,null,"",{"$f":"IF(E91<>\"\",E91/'Project Summary'!$C$9,\"\")","v":""},{"$f":"IF(F91<>\"\",F91/'Project Summary'!$C$10, \"\")","v":""}]
[null,null,null,null,null,null,"",{"$f":"IF(E92<>\"\",E92/'Project Summary'!$C$9,\"\")","v":""},{"$f":"IF(F92<>\"\",F92/'Project Summary'!$C$10, \"\")","v":""}]
[null,null,null,null,null,null,"",{"$f":"IF(E93<>\"\",E93/'Project Summary'!$C$9,\"\")","v":""},{"$f":"IF(F93<>\"\",F93/'Project Summary'!$C$10, \"\")","v":""}]
[null,null,null,null,null,null,"",{"$f":"IF(E94<>\"\",E94/'Project Summary'!$C$9,\"\")","v":""},{"$f":"IF(F94<>\"\",F94/'Project Summary'!$C$10, \"\")","v":""}]
[null,null,null,null,null,null,"",{"$f":"IF(E95<>\"\",E95/'Project Summary'!$C$9,\"\")","v":""},{"$f":"IF(F95<>\"\",F95/'Project Summary'!$C$10, \"\")","v":""}]
[null,null,null,null,null,null,"",{"$f":"IF(E96<>\"\",E96/'Project Summary'!$C$9,\"\")","v":""},{"$f":"IF(F96<>\"\",F96/'Project Summary'!$C$10, \"\")","v":""}]
[null,null,null,null,null,null,"",{"$f":"IF(E97<>\"\",E97/'Project Summary'!$C$9,\"\")","v":""},{"$f":"IF(F97<>\"\",F97/'Project Summary'!$C$10, \"\")","v":""}]
[null,null,null,null,null,null,"",{"$f":"IF(E98<>\"\",E98/'Project Summary'!$C$9,\"\")","v":""},{"$f":"IF(F98<>\"\",F98/'Project Summary'!$C$10, \"\")","v":""}]
[null,null,null,null,null,null,"",{"$f":"IF(E99<>\"\",E99/'Project Summary'!$C$9,\"\")","v":""},{"$f":"IF(F99<>\"\",F99/'Project Summary'!$C$10, \"\")","v":""}]
[null,null,null,null,null,null,"",{"$f":"IF(E100<>\"\",E100/'Project Summary'!$C$9,\"\")","v":""},{"$f":"IF(F100<>\"\",F100/'Project Summary'!$C$10, \"\")","v":""}]
[null,null,null,null,null,null,"",{"$f":"IF(E101<>\"\",E101/'Project Summary'!$C$9,\"\")","v":""},{"$f":"IF(F101<>\"\",F101/'Project Summary'!$C$10, \"\")","v":""}]
[null,null,null,null,null,null,"",{"$f":"IF(E102<>\"\",E102/'Project Summary'!$C$9,\"\")","v":""},{"$f":"IF(F102<>\"\",F102/'Project Summary'!$C$10, \"\")","v":""}]
[null,null,null,null,null,null,"",{"$f":"IF(E103<>\"\",E103/'Project Summary'!$C$9,\"\")","v":""},{"$f":"IF(F103<>\"\",F103/'Project Summary'!$C$10, \"\")","v":""}]
[null,null,null,null,null,null,"",{"$f":"IF(E104<>\"\",E104/'Project Summary'!$C$9,\"\")","v":""},{"$f":"IF(F104<>\"\",F104/'Project Summary'!$C$10, \"\")","v":""}]
[null,null,null,null,null,null,"",{"$f":"IF(E105<>\"\",E105/'Project Summary'!$C$9,\"\")","v":""},{"$f":"IF(F105<>\"\",F105/'Project Summary'!$C$10, \"\")","v":""}]
[null,null,null,null,null,null,"",{"$f":"IF(E106<>\"\",E106/'Project Summary'!$C$9,\"\")","v":""},{"$f":"IF(F106<>\"\",F106/'Project Summary'!$C$10, \"\")","v":""}]
[null,null,null,null,null,null,"",{"$f":"IF(E107<>\"\",E107/'Project Summary'!$C$9,\"\")","v":""},{"$f":"IF(F107<>\"\",F107/'Project Summary'!$C$10, \"\")","v":""}]
[null,null,null,null,null,null,"",{"$f":"IF(E108<>\"\",E108/'Project Summary'!$C$9,\"\")","v":""},{"$f":"IF(F108<>\"\",F108/'Project Summary'!$C$10, \"\")","v":""}]
[null,null,null,null,null,null,"",{"$f":"IF(E109<>\"\",E109/'Project Summary'!$C$9,\"\")","v":""},{"$f":"IF(F109<>\"\",F109/'Project Summary'!$C$10, \"\")","v":""}]
[null,null,null,null,null,null,"",{"$f":"IF(E110<>\"\",E110/'Project Summary'!$C$9,\"\")","v":""},{"$f":"IF(F110<>\"\",F110/'Project Summary'!$C$10, \"\")","v":""}]
[null,null,null,null,null,null,"",{"$f":"IF(E111<>\"\",E111/'Project Summary'!$C$9,\"\")","v":""},{"$f":"IF(F111<>\"\",F111/'Project Summary'!$C$10, \"\")","v":""}]
[null,null,null,null,null,null,"",{"$f":"IF(E112<>\"\",E112/'Project Summary'!$C$9,\"\")","v":""},{"$f":"IF(F112<>\"\",F112/'Project Summary'!$C$10, \"\")","v":""}]
[null,null,null,null,null,null,"",{"$f":"IF(E113<>\"\",E113/'Project Summary'!$C$9,\"\")","v":""},{"$f":"IF(F113<>\"\",F113/'Project Summary'!$C$10, \"\")","v":""}]
[null,null,null,null,null,null,"",{"$f":"IF(E114<>\"\",E114/'Project Summary'!$C$9,\"\")","v":""},{"$f":"IF(F114<>\"\",F114/'Project Summary'!$C$10, \"\")","v":""}]
[null,null,null,null,null,null,"",{"$f":"IF(E115<>\"\",E115/'Project Summary'!$C$9,\"\")","v":""},{"$f":"IF(F115<>\"\",F115/'Project Summary'!$C$10, \"\")","v":""}]
[null,null,null,null,null,null,"",{"$f":"IF(E116<>\"\",E116/'Project Summary'!$C$9,\"\")","v":""},{"$f":"IF(F116<>\"\",F116/'Project Summary'!$C$10, \"\")","v":""}]
[null,null,null,null,null,null,"",{"$f":"IF(E117<>\"\",E117/'Project Summary'!$C$9,\"\")","v":""},{"$f":"IF(F117<>\"\",F117/'Project Summary'!$C$10, \"\")","v":""}]
[null,null,null,null,null,null,"",{"$f":"IF(E118<>\"\",E118/'Project Summary'!$C$9,\"\")","v":""},{"$f":"IF(F118<>\"\",F118/'Project Summary'!$C$10, \"\")","v":""}]
[null,null,null,null,null,null,"",{"$f":"IF(E119<>\"\",E119/'Project Summary'!$C$9,\"\")","v":""},{"$f":"IF(F119<>\"\",F119/'Project Summary'!$C$10, \"\")","v":""}]
[null,null,null,null,null,null,"",{"$f":"IF(E120<>\"\",E120/'Project Summary'!$C$9,\"\")","v":""},{"$f":"IF(F120<>\"\",F120/'Project Summary'!$C$10, \"\")","v":""}]
[null,null,null,null,null,null,"",{"$f":"IF(E121<>\"\",E121/'Project Summary'!$C$9,\"\")","v":""},{"$f":"IF(F121<>\"\",F121/'Project Summary'!$C$10, \"\")","v":""}]
[null,null,null,null,null,null,"",{"$f":"IF(E122<>\"\",E122/'Project Summary'!$C$9,\"\")","v":""},{"$f":"IF(F122<>\"\",F122/'Project Summary'!$C$10, \"\")","v":""}]
[null,null,null,null,null,null,"",{"$f":"IF(E123<>\"\",E123/'Project Summary'!$C$9,\"\")","v":""},{"$f":"IF(F123<>\"\",F123/'Project Summary'!$C$10, \"\")","v":""}]
[null,null,null,null,null,null,"",{"$f":"IF(E124<>\"\",E124/'Project Summary'!$C$9,\"\")","v":""},{"$f":"IF(F124<>\"\",F124/'Project Summary'!$C$10, \"\")","v":""}]
[null,null,null,null,null,null,"",{"$f":"IF(E125<>\"\",E125/'Project Summary'!$C$9,\"\")","v":""},{"$f":"IF(F125<>\"\",F125/'Project Summary'!$C$10, \"\")","v":""}]
[null,null,null,null,null,null,"",{"$f":"IF(E126<>\"\",E126/'Project Summary'!$C$9,\"\")","v":""},{"$f":"IF(F126<>\"\",F126/'Project Summary'!$C$10, \"\")","v":""}]
[null,null,null,null,null,null,"",{"$f":"IF(E127<>\"\",E127/'Project Summary'!$C$9,\"\")","v":""},{"$f":"IF(F127<>\"\",F127/'Project Summary'!$C$10, \"\")","v":""}]
[null,null,null,null,null,null,"",{"$f":"IF(E128<>\"\",E128/'Project Summary'!$C$9,\"\")","v":""},{"$f":"IF(F128<>\"\",F128/'Project Summary'!$C$10, \"\")","v":""}]
[null,null,null,null,null,null,"",{"$f":"IF(E129<>\"\",E129/'Project Summary'!$C$9,\"\")","v":""},{"$f":"IF(F129<>\"\",F129/'Project Summary'!$C$10, \"\")","v":""}]
[null,null,null,null,null,null,"",{"$f":"IF(E130<>\"\",E130/'Project Summary'!$C$9,\"\")","v":""},{"$f":"IF(F130<>\"\",F130/'Project Summary'!$C$10, \"\")","v":""}]
[null,null,null,null,null,null,"",{"$f":"IF(E131<>\"\",E131/'Project Summary'!$C$9,\"\")","v":""},{"$f":"IF(F131<>\"\",F131/'Project Summary'!$C$10, \"\")","v":""}]
[null,null,null,null,null,null,"",{"$f":"IF(E132<>\"\",E132/'Project Summary'!$C$9,\"\")","v":""},{"$f":"IF(F132<>\"\",F132/'Project Summary'!$C$10, \"\")","v":""}]
[null,null,null,null,null,null,"",{"$f":"IF(E133<>\"\",E133/'Project Summary'!$C$9,\"\")","v":""},{"$f":"IF(F133<>\"\",F133/'Project Summary'!$C$10, \"\")","v":""}]
[null,null,null,null,null,null,"",{"$f":"IF(E134<>\"\",E134/'Project Summary'!$C$9,\"\")","v":""},{"$f":"IF(F134<>\"\",F134/'Project Summary'!$C$10, \"\")","v":""}]
[null,null,null,null,null,null,"",{"$f":"IF(E135<>\"\",E135/'Project Summary'!$C$9,\"\")","v":""},{"$f":"IF(F135<>\"\",F135/'Project Summary'!$C$10, \"\")","v":""}]
[null,null,null,null,null,null,"",{"$f":"IF(E136<>\"\",E136/'Project Summary'!$C$9,\"\")","v":""},{"$f":"IF(F136<>\"\",F136/'Project Summary'!$C$10, \"\")","v":""}]
[null,null,null,null,null,null,"",{"$f":"IF(E137<>\"\",E137/'Project Summary'!$C$9,\"\")","v":""},{"$f":"IF(F137<>\"\",F137/'Project Summary'!$C$10, \"\")","v":""}]
[null,null,null,null,null,null,"",{"$f":"IF(E138<>\"\",E138/'Project Summary'!$C$9,\"\")","v":""},{"$f":"IF(F138<>\"\",F138/'Project Summary'!$C$10, \"\")","v":""}]
[null,null,null,null,null,null,"",{"$f":"IF(E139<>\"\",E139/'Project Summary'!$C$9,\"\")","v":""},{"$f":"IF(F139<>\"\",F139/'Project Summary'!$C$10, \"\")","v":""}]
[null,null,null,null,null,null,{"$f":"IF(D140<>\"\", D140/E140, \"\")","v":""},{"$f":"IF(E140<>\"\",E140/'Project Summary'!$C$9,\"\")","v":""},{"$f":"IF(F140<>\"\",F140/'Project Summary'!$C$10, \"\")","v":""}]
[null,null,null,null,null,null,"",{"$f":"IF(E141<>\"\",E141/'Project Summary'!$C$9,\"\")","v":""},{"$f":"IF(F141<>\"\",F141/'Project Summary'!$C$10, \"\")","v":""}]
[null,null,null,null,null,null,"",{"$f":"IF(E142<>\"\",E142/'Project Summary'!$C$9,\"\")","v":""},{"$f":"IF(F142<>\"\",F142/'Project Summary'!$C$10, \"\")","v":""}]
[null,null,null,null,null,null,"",{"$f":"IF(E143<>\"\",E143/'Project Summary'!$C$9,\"\")","v":""},{"$f":"IF(F143<>\"\",F143/'Project Summary'!$C$10, \"\")","v":""}]
[null,null,null,null,null,null,"",{"$f":"IF(E144<>\"\",E144/'Project Summary'!$C$9,\"\")","v":""},{"$f":"IF(F144<>\"\",F144/'Project Summary'!$C$10, \"\")","v":""}]
[null,null,null,null,null,null,"",{"$f":"IF(E145<>\"\",E145/'Project Summary'!$C$9,\"\")","v":""},{"$f":"IF(F145<>\"\",F145/'Project Summary'!$C$10, \"\")","v":""}]
[null,null,null,null,null,null,"",{"$f":"IF(E146<>\"\",E146/'Project Summary'!$C$9,\"\")","v":""},{"$f":"IF(F146<>\"\",F146/'Project Summary'!$C$10, \"\")","v":""}]
[null,null,null,null,null,null,"",{"$f":"IF(E147<>\"\",E147/'Project Summary'!$C$9,\"\")","v":""},{"$f":"IF(F147<>\"\",F147/'Project Summary'!$C$10, \"\")","v":""}]
[null,null,null,null,null,null,"",{"$f":"IF(E148<>\"\",E148/'Project Summary'!$C$9,\"\")","v":""},{"$f":"IF(F148<>\"\",F148/'Project Summary'!$C$10, \"\")","v":""}]
[null,null,null,null,null,null,"",{"$f":"IF(E149<>\"\",E149/'Project Summary'!$C$9,\"\")","v":""},{"$f":"IF(F149<>\"\",F149/'Project Summary'!$C$10, \"\")","v":""}]
[null,null,null,null,null,null,"",{"$f":"IF(E150<>\"\",E150/'Project Summary'!$C$9,\"\")","v":""},{"$f":"IF(F150<>\"\",F150/'Project Summary'!$C$10, \"\")","v":""}]
[null,null,null,null,null,null,"",{"$f":"IF(E151<>\"\",E151/'Project Summary'!$C$9,\"\")","v":""},{"$f":"IF(F151<>\"\",F151/'Project Summary'!$C$10, \"\")","v":""}]
[null,null,null,null,null,null,"",{"$f":"IF(E152<>\"\",E152/'Project Summary'!$C$9,\"\")","v":""},{"$f":"IF(F152<>\"\",F152/'Project Summary'!$C$10, \"\")","v":""}]
[null,null,null,null,null,null,"",{"$f":"IF(E153<>\"\",E153/'Project Summary'!$C$9,\"\")","v":""},{"$f":"IF(F153<>\"\",F153/'Project Summary'!$C$10, \"\")","v":""}]
[null,null,null,null,null,null,"",{"$f":"IF(E154<>\"\",E154/'Project Summary'!$C$9,\"\")","v":""},{"$f":"IF(F154<>\"\",F154/'Project Summary'!$C$10, \"\")","v":""}]
[null,null,null,null,null,null,"",{"$f":"IF(E155<>\"\",E155/'Project Summary'!$C$9,\"\")","v":""},{"$f":"IF(F155<>\"\",F155/'Project Summary'!$C$10, \"\")","v":""}]
[null,null,null,null,null,null,"",{"$f":"IF(E156<>\"\",E156/'Project Summary'!$C$9,\"\")","v":""},{"$f":"IF(F156<>\"\",F156/'Project Summary'!$C$10, \"\")","v":""}]
[null,null,null,null,null,null,"",{"$f":"IF(E157<>\"\",E157/'Project Summary'!$C$9,\"\")","v":""},{"$f":"IF(F157<>\"\",F157/'Project Summary'!$C$10, \"\")","v":""}]
[null,null,null,null,null,null,"",{"$f":"IF(E158<>\"\",E158/'Project Summary'!$C$9,\"\")","v":""},{"$f":"IF(F158<>\"\",F158/'Project Summary'!$C$10, \"\")","v":""}]
[null,null,null,null,null,null,"",{"$f":"IF(E159<>\"\",E159/'Project Summary'!$C$9,\"\")","v":""},{"$f":"IF(F159<>\"\",F159/'Project Summary'!$C$10, \"\")","v":""}]
[null,null,null,null,null,null,"",{"$f":"IF(E160<>\"\",E160/'Project Summary'!$C$9,\"\")","v":""},{"$f":"IF(F160<>\"\",F160/'Project Summary'!$C$10, \"\")","v":""}]
[null,null,null,null,null,null,"",{"$f":"IF(E161<>\"\",E161/'Project Summary'!$C$9,\"\")","v":""},{"$f":"IF(F161<>\"\",F161/'Project Summary'!$C$10, \"\")","v":""}]
[null,null,null,null,null,null,"",{"$f":"IF(E162<>\"\",E162/'Project Summary'!$C$9,\"\")","v":""},{"$f":"IF(F162<>\"\",F162/'Project Summary'!$C$10, \"\")","v":""}]
[null,null,null,null,null,null,"",{"$f":"IF(E163<>\"\",E163/'Project Summary'!$C$9,\"\")","v":""},{"$f":"IF(F163<>\"\",F163/'Project Summary'!$C$10, \"\")","v":""}]
[null,null,null,null,null,null,"",{"$f":"IF(E164<>\"\",E164/'Project Summary'!$C$9,\"\")","v":""},{"$f":"IF(F164<>\"\",F164/'Project Summary'!$C$10, \"\")","v":""}]
[null,null,null,null,null,null,"",{"$f":"IF(E165<>\"\",E165/'Project Summary'!$C$9,\"\")","v":""},{"$f":"IF(F165<>\"\",F165/'Project Summary'!$C$10, \"\")","v":""}]
[null,null,null,null,null,null,"",{"$f":"IF(E166<>\"\",E166/'Project Summary'!$C$9,\"\")","v":""},{"$f":"IF(F166<>\"\",F166/'Project Summary'!$C$10, \"\")","v":""}]
[null,null,null,null,null,null,"",{"$f":"IF(E167<>\"\",E167/'Project Summary'!$C$9,\"\")","v":""},{"$f":"IF(F167<>\"\",F167/'Project Summary'!$C$10, \"\")","v":""}]
[null,null,null,null,null,null,"",{"$f":"IF(E168<>\"\",E168/'Project Summary'!$C$9,\"\")","v":""},{"$f":"IF(F168<>\"\",F168/'Project Summary'!$C$10, \"\")","v":""}]
[null,null,null,null,null,null,"",{"$f":"IF(E169<>\"\",E169/'Project Summary'!$C$9,\"\")","v":""},{"$f":"IF(F169<>\"\",F169/'Project Summary'!$C$10, \"\")","v":""}]
[null,null,null,null,null,null,"",{"$f":"IF(E170<>\"\",E170/'Project Summary'!$C$9,\"\")","v":""},{"$f":"IF(F170<>\"\",F170/'Project Summary'!$C$10, \"\")","v":""}]
[null,null,null,null,null,null,"",{"$f":"IF(E171<>\"\",E171/'Project Summary'!$C$9,\"\")","v":""},{"$f":"IF(F171<>\"\",F171/'Project Summary'!$C$10, \"\")","v":""}]
[null,null,null,null,null,null,"",{"$f":"IF(E172<>\"\",E172/'Project Summary'!$C$9,\"\")","v":""},{"$f":"IF(F172<>\"\",F172/'Project Summary'!$C$10, \"\")","v":""}]
[null,null,null,null,null,null,"",{"$f":"IF(E173<>\"\",E173/'Project Summary'!$C$9,\"\")","v":""},{"$f":"IF(F173<>\"\",F173/'Project Summary'!$C$10, \"\")","v":""}]
[null,null,null,null,null,null,"",{"$f":"IF(E174<>\"\",E174/'Project Summary'!$C$9,\"\")","v":""},{"$f":"IF(F174<>\"\",F174/'Project Summary'!$C$10, \"\")","v":""}]
[null,null,null,null,null,null,"",{"$f":"IF(E175<>\"\",E175/'Project Summary'!$C$9,\"\")","v":""},{"$f":"IF(F175<>\"\",F175/'Project Summary'!$C$10, \"\")","v":""}]
[null,null,null,null,null,null,"",{"$f":"IF(E176<>\"\",E176/'Project Summary'!$C$9,\"\")","v":""},{"$f":"IF(F176<>\"\",F176/'Project Summary'!$C$10, \"\")","v":""}]
[null,null,null,null,null,null,"",{"$f":"IF(E177<>\"\",E177/'Project Summary'!$C$9,\"\")","v":""},{"$f":"IF(F177<>\"\",F177/'Project Summary'!$C$10, \"\")","v":""}]
[null,null,null,null,null,null,"",{"$f":"IF(E178<>\"\",E178/'Project Summary'!$C$9,\"\")","v":""},{"$f":"IF(F178<>\"\",F178/'Project Summary'!$C$10, \"\")","v":""}]
[null,null,null,null,null,null,"",{"$f":"IF(E179<>\"\",E179/'Project Summary'!$C$9,\"\")","v":""},{"$f":"IF(F179<>\"\",F179/'Project Summary'!$C$10, \"\")","v":""}]
[null,null,null,null,null,null,"",{"$f":"IF(E180<>\"\",E180/'Project Summary'!$C$9,\"\")","v":""},{"$f":"IF(F180<>\"\",F180/'Project Summary'!$C$10, \"\")","v":""}]
[null,null,null,null,null,null,"",{"$f":"IF(E181<>\"\",E181/'Project Summary'!$C$9,\"\")","v":""},{"$f":"IF(F181<>\"\",F181/'Project Summary'!$C$10, \"\")","v":""}]
[null,null,null,null,null,null,"",{"$f":"IF(E182<>\"\",E182/'Project Summary'!$C$9,\"\")","v":""},{"$f":"IF(F182<>\"\",F182/'Project Summary'!$C$10, \"\")","v":""}]
[null,null,null,null,null,null,"",{"$f":"IF(E183<>\"\",E183/'Project Summary'!$C$9,\"\")","v":""},{"$f":"IF(F183<>\"\",F183/'Project Summary'!$C$10, \"\")","v":""}]
[null,null,null,null,null,null,"",{"$f":"IF(E184<>\"\",E184/'Project Summary'!$C$9,\"\")","v":""},{"$f":"IF(F184<>\"\",F184/'Project Summary'!$C$10, \"\")","v":""}]
[null,null,null,null,null,null,"",{"$f":"IF(E185<>\"\",E185/'Project Summary'!$C$9,\"\")","v":""},{"$f":"IF(F185<>\"\",F185/'Project Summary'!$C$10, \"\")","v":""}]
[null,null,null,null,null,null,"",{"$f":"IF(E186<>\"\",E186/'Project Summary'!$C$9,\"\")","v":""},{"$f":"IF(F186<>\"\",F186/'Project Summary'!$C$10, \"\")","v":""}]
[null,null,null,null,null,null,"",{"$f":"IF(E187<>\"\",E187/'Project Summary'!$C$9,\"\")","v":""},{"$f":"IF(F187<>\"\",F187/'Project Summary'!$C$10, \"\")","v":""}]
[null,null,null,null,null,null,"",{"$f":"IF(E188<>\"\",E188/'Project Summary'!$C$9,\"\")","v":""},{"$f":"IF(F188<>\"\",F188/'Project Summary'!$C$10, \"\")","v":""}]
[null,null,null,null,null,null,"",{"$f":"IF(E189<>\"\",E189/'Project Summary'!$C$9,\"\")","v":""},{"$f":"IF(F189<>\"\",F189/'Project Summary'!$C$10, \"\")","v":""}]
[null,null,null,null,null,null,"",{"$f":"IF(E190<>\"\",E190/'Project Summary'!$C$9,\"\")","v":""},{"$f":"IF(F190<>\"\",F190/'Project Summary'!$C$10, \"\")","v":""}]
[null,null,null,null,null,null,"",{"$f":"IF(E191<>\"\",E191/'Project Summary'!$C$9,\"\")","v":""},{"$f":"IF(F191<>\"\",F191/'Project Summary'!$C$10, \"\")","v":""}]
[null,null,null,null,null,null,"",{"$f":"IF(E192<>\"\",E192/'Project Summary'!$C$9,\"\")","v":""},{"$f":"IF(F192<>\"\",F192/'Project Summary'!$C$10, \"\")","v":""}]
[null,null,null,null,null,null,"",{"$f":"IF(E193<>\"\",E193/'Project Summary'!$C$9,\"\")","v":""},{"$f":"IF(F193<>\"\",F193/'Project Summary'!$C$10, \"\")","v":""}]
[null,null,null,null,null,null,"",{"$f":"IF(E194<>\"\",E194/'Project Summary'!$C$9,\"\")","v":""},{"$f":"IF(F194<>\"\",F194/'Project Summary'!$C$10, \"\")","v":""}]
[null,null,null,null,null,null,"",{"$f":"IF(E195<>\"\",E195/'Project Summary'!$C$9,\"\")","v":""},{"$f":"IF(F195<>\"\",F195/'Project Summary'!$C$10, \"\")","v":""}]
[null,null,null,null,null,null,"",{"$f":"IF(E196<>\"\",E196/'Project Summary'!$C$9,\"\")","v":""},{"$f":"IF(F196<>\"\",F196/'Project Summary'!$C$10, \"\")","v":""}]
[null,null,null,null,null,null,"",{"$f":"IF(E197<>\"\",E197/'Project Summary'!$C$9,\"\")","v":""},{"$f":"IF(F197<>\"\",F197/'Project Summary'!$C$10, \"\")","v":""}]
[null,null,null,null,null,null,"",{"$f":"IF(E198<>\"\",E198/'Project Summary'!$C$9,\"\")","v":""},{"$f":"IF(F198<>\"\",F198/'Project Summary'!$C$10, \"\")","v":""}]
[null,null,null,null,null,null,"",{"$f":"IF(E199<>\"\",E199/'Project Summary'!$C$9,\"\")","v":""},{"$f":"IF(F199<>\"\",F199/'Project Summary'!$C$10, \"\")","v":""}]
[null,null,null,null,null,null,"",{"$f":"IF(E200<>\"\",E200/'Project Summary'!$C$9,\"\")","v":""},{"$f":"IF(F200<>\"\",F200/'Project Summary'!$C$10, \"\")","v":""}]
[null,null,null,null,null,null,"",{"$f":"IF(E201<>\"\",E201/'Project Summary'!$C$9,\"\")","v":""},{"$f":"IF(F201<>\"\",F201/'Project Summary'!$C$10, \"\")","v":""}]
[null,null,null,null,null,null,"",{"$f":"IF(E202<>\"\",E202/'Project Summary'!$C$9,\"\")","v":""},{"$f":"IF(F202<>\"\",F202/'Project Summary'!$C$10, \"\")","v":""}]
[null,null,null,null,null,null,"",{"$f":"IF(E203<>\"\",E203/'Project Summary'!$C$9,\"\")","v":""},{"$f":"IF(F203<>\"\",F203/'Project Summary'!$C$10, \"\")","v":""}]
[null,null,null,null,null,null,{"$f":"IF(D204<>\"\", D204/E204, \"\")","v":""},{"$f":"IF(E204<>\"\",E204/'Project Summary'!$C$9,\"\")","v":""},{"$f":"IF(F204<>\"\",F204/'Project Summary'!$C$10, \"\")","v":""}]
[null,null,null,null,null,null,"",{"$f":"IF(E205<>\"\",E205/'Project Summary'!$C$9,\"\")","v":""},{"$f":"IF(F205<>\"\",F205/'Project Summary'!$C$10, \"\")","v":""}]
[null,null,null,null,null,null,"",{"$f":"IF(E206<>\"\",E206/'Project Summary'!$C$9,\"\")","v":""},{"$f":"IF(F206<>\"\",F206/'Project Summary'!$C$10, \"\")","v":""}]
[null,null,null,null,null,null,"",{"$f":"IF(E207<>\"\",E207/'Project Summary'!$C$9,\"\")","v":""},{"$f":"IF(F207<>\"\",F207/'Project Summary'!$C$10, \"\")","v":""}]
[null,null,null,null,null,null,"",{"$f":"IF(E208<>\"\",E208/'Project Summary'!$C$9,\"\")","v":""},{"$f":"IF(F208<>\"\",F208/'Project Summary'!$C$10, \"\")","v":""}]
[null,null,null,null,null,null,"",{"$f":"IF(E209<>\"\",E209/'Project Summary'!$C$9,\"\")","v":""},{"$f":"IF(F209<>\"\",F209/'Project Summary'!$C$10, \"\")","v":""}]
[null,null,null,null,null,null,"",{"$f":"IF(E210<>\"\",E210/'Project Summary'!$C$9,\"\")","v":""},{"$f":"IF(F210<>\"\",F210/'Project Summary'!$C$10, \"\")","v":""}]
[null,null,null,null,null,null,"",{"$f":"IF(E211<>\"\",E211/'Project Summary'!$C$9,\"\")","v":""},{"$f":"IF(F211<>\"\",F211/'Project Summary'!$C$10, \"\")","v":""}]
[null,null,null,null,null,null,"",{"$f":"IF(E212<>\"\",E212/'Project Summary'!$C$9,\"\")","v":""},{"$f":"IF(F212<>\"\",F212/'Project Summary'!$C$10, \"\")","v":""}]
[null,null,null,null,null,null,"",{"$f":"IF(E213<>\"\",E213/'Project Summary'!$C$9,\"\")","v":""},{"$f":"IF(F213<>\"\",F213/'Project Summary'!$C$10, \"\")","v":""}]
[null,null,null,null,null,null,"",{"$f":"IF(E214<>\"\",E214/'Project Summary'!$C$9,\"\")","v":""},{"$f":"IF(F214<>\"\",F214/'Project Summary'!$C$10, \"\")","v":""}]
[null,null,null,null,null,null,"",{"$f":"IF(E215<>\"\",E215/'Project Summary'!$C$9,\"\")","v":""},{"$f":"IF(F215<>\"\",F215/'Project Summary'!$C$10, \"\")","v":""}]
[null,null,null,null,null,null,"",{"$f":"IF(E216<>\"\",E216/'Project Summary'!$C$9,\"\")","v":""},{"$f":"IF(F216<>\"\",F216/'Project Summary'!$C$10, \"\")","v":""}]
[null,null,null,null,null,null,"",{"$f":"IF(E217<>\"\",E217/'Project Summary'!$C$9,\"\")","v":""},{"$f":"IF(F217<>\"\",F217/'Project Summary'!$C$10, \"\")","v":""}]
[null,null,null,null,null,null,"",{"$f":"IF(E218<>\"\",E218/'Project Summary'!$C$9,\"\")","v":""},{"$f":"IF(F218<>\"\",F218/'Project Summary'!$C$10, \"\")","v":""}]
[null,null,null,null,null,null,"",{"$f":"IF(E219<>\"\",E219/'Project Summary'!$C$9,\"\")","v":""},{"$f":"IF(F219<>\"\",F219/'Project Summary'!$C$10, \"\")","v":""}]
[null,null,null,null,null,null,"",{"$f":"IF(E220<>\"\",E220/'Project Summary'!$C$9,\"\")","v":""},{"$f":"IF(F220<>\"\",F220/'Project Summary'!$C$10, \"\")","v":""}]
[null,null,null,null,null,null,"",{"$f":"IF(E221<>\"\",E221/'Project Summary'!$C$9,\"\")","v":""},{"$f":"IF(F221<>\"\",F221/'Project Summary'!$C$10, \"\")","v":""}]
[null,null,null,null,null,null,"",{"$f":"IF(E222<>\"\",E222/'Project Summary'!$C$9,\"\")","v":""},{"$f":"IF(F222<>\"\",F222/'Project Summary'!$C$10, \"\")","v":""}]
[null,null,null,null,null,null,"",{"$f":"IF(E223<>\"\",E223/'Project Summary'!$C$9,\"\")","v":""},{"$f":"IF(F223<>\"\",F223/'Project Summary'!$C$10, \"\")","v":""}]
[null,null,null,null,null,null,"",{"$f":"IF(E224<>\"\",E224/'Project Summary'!$C$9,\"\")","v":""},{"$f":"IF(F224<>\"\",F224/'Project Summary'!$C$10, \"\")","v":""}]
[null,null,null,null,null,null,"",{"$f":"IF(E225<>\"\",E225/'Project Summary'!$C$9,\"\")","v":""},{"$f":"IF(F225<>\"\",F225/'Project Summary'!$C$10, \"\")","v":""}]
[null,null,null,null,null,null,"",{"$f":"IF(E226<>\"\",E226/'Project Summary'!$C$9,\"\")","v":""},{"$f":"IF(F226<>\"\",F226/'Project Summary'!$C$10, \"\")","v":""}]
[null,null,null,null,null,null,"",{"$f":"IF(E227<>\"\",E227/'Project Summary'!$C$9,\"\")","v":""},{"$f":"IF(F227<>\"\",F227/'Project Summary'!$C$10, \"\")","v":""}]
[null,null,null,null,null,null,"",{"$f":"IF(E228<>\"\",E228/'Project Summary'!$C$9,\"\")","v":""},{"$f":"IF(F228<>\"\",F228/'Project Summary'!$C$10, \"\")","v":""}]
[null,null,null,null,null,null,"",{"$f":"IF(E229<>\"\",E229/'Project Summary'!$C$9,\"\")","v":""},{"$f":"IF(F229<>\"\",F229/'Project Summary'!$C$10, \"\")","v":""}]
[null,null,null,null,null,null,"",{"$f":"IF(E230<>\"\",E230/'Project Summary'!$C$9,\"\")","v":""},{"$f":"IF(F230<>\"\",F230/'Project Summary'!$C$10, \"\")","v":""}]
[null,null,null,null,null,null,"",{"$f":"IF(E231<>\"\",E231/'Project Summary'!$C$9,\"\")","v":""},{"$f":"IF(F231<>\"\",F231/'Project Summary'!$C$10, \"\")","v":""}]
[null,null,null,null,null,null,"",{"$f":"IF(E232<>\"\",E232/'Project Summary'!$C$9,\"\")","v":""},{"$f":"IF(F232<>\"\",F232/'Project Summary'!$C$10, \"\")","v":""}]
[null,null,null,null,null,null,"",{"$f":"IF(E233<>\"\",E233/'Project Summary'!$C$9,\"\")","v":""},{"$f":"IF(F233<>\"\",F233/'Project Summary'!$C$10, \"\")","v":""}]
[null,null,null,null,null,null,"",{"$f":"IF(E234<>\"\",E234/'Project Summary'!$C$9,\"\")","v":""},{"$f":"IF(F234<>\"\",F234/'Project Summary'!$C$10, \"\")","v":""}]
[null,null,null,null,null,null,"",{"$f":"IF(E235<>\"\",E235/'Project Summary'!$C$9,\"\")","v":""},{"$f":"IF(F235<>\"\",F235/'Project Summary'!$C$10, \"\")","v":""}]
[null,null,null,null,null,null,"",{"$f":"IF(E236<>\"\",E236/'Project Summary'!$C$9,\"\")","v":""},{"$f":"IF(F236<>\"\",F236/'Project Summary'!$C$10, \"\")","v":""}]
[null,null,null,null,null,null,"",{"$f":"IF(E237<>\"\",E237/'Project Summary'!$C$9,\"\")","v":""},{"$f":"IF(F237<>\"\",F237/'Project Summary'!$C$10, \"\")","v":""}]
[null,null,null,null,null,null,"",{"$f":"IF(E238<>\"\",E238/'Project Summary'!$C$9,\"\")","v":""},{"$f":"IF(F238<>\"\",F238/'Project Summary'!$C$10, \"\")","v":""}]
[null,null,null,null,null,null,"",{"$f":"IF(E239<>\"\",E239/'Project Summary'!$C$9,\"\")","v":""},{"$f":"IF(F239<>\"\",F239/'Project Summary'!$C$10, \"\")","v":""}]
[null,null,null,null,null,null,"",{"$f":"IF(E240<>\"\",E240/'Project Summary'!$C$9,\"\")","v":""},{"$f":"IF(F240<>\"\",F240/'Project Summary'!$C$10, \"\")","v":""}]
[null,null,null,null,null,null,"",{"$f":"IF(E241<>\"\",E241/'Project Summary'!$C$9,\"\")","v":""},{"$f":"IF(F241<>\"\",F241/'Project Summary'!$C$10, \"\")","v":""}]
[null,null,null,null,null,null,"",{"$f":"IF(E242<>\"\",E242/'Project Summary'!$C$9,\"\")","v":""},{"$f":"IF(F242<>\"\",F242/'Project Summary'!$C$10, \"\")","v":""}]
[null,null,null,null,null,null,"",{"$f":"IF(E243<>\"\",E243/'Project Summary'!$C$9,\"\")","v":""},{"$f":"IF(F243<>\"\",F243/'Project Summary'!$C$10, \"\")","v":""}]
[null,null,null,null,null,null,"",{"$f":"IF(E244<>\"\",E244/'Project Summary'!$C$9,\"\")","v":""},{"$f":"IF(F244<>\"\",F244/'Project Summary'!$C$10, \"\")","v":""}]
[null,null,null,null,null,null,"",{"$f":"IF(E245<>\"\",E245/'Project Summary'!$C$9,\"\")","v":""},{"$f":"IF(F245<>\"\",F245/'Project Summary'!$C$10, \"\")","v":""}]
[null,null,null,null,null,null,"",{"$f":"IF(E246<>\"\",E246/'Project Summary'!$C$9,\"\")","v":""},{"$f":"IF(F246<>\"\",F246/'Project Summary'!$C$10, \"\")","v":""}]
[null,null,null,null,null,null,"",{"$f":"IF(E247<>\"\",E247/'Project Summary'!$C$9,\"\")","v":""},{"$f":"IF(F247<>\"\",F247/'Project Summary'!$C$10, \"\")","v":""}]
[null,null,null,null,null,null,"",{"$f":"IF(E248<>\"\",E248/'Project Summary'!$C$9,\"\")","v":""},{"$f":"IF(F248<>\"\",F248/'Project Summary'!$C$10, \"\")","v":""}]
[null,null,null,null,null,null,"",{"$f":"IF(E249<>\"\",E249/'Project Summary'!$C$9,\"\")","v":""},{"$f":"IF(F249<>\"\",F249/'Project Summary'!$C$10, \"\")","v":""}]
[null,null,null,null,null,null,"",{"$f":"IF(E250<>\"\",E250/'Project Summary'!$C$9,\"\")","v":""},{"$f":"IF(F250<>\"\",F250/'Project Summary'!$C$10, \"\")","v":""}]
[null,null,null,null,null,null,"",{"$f":"IF(E251<>\"\",E251/'Project Summary'!$C$9,\"\")","v":""},{"$f":"IF(F251<>\"\",F251/'Project Summary'!$C$10, \"\")","v":""}]
[null,null,null,null,null,null,"",{"$f":"IF(E252<>\"\",E252/'Project Summary'!$C$9,\"\")","v":""},{"$f":"IF(F252<>\"\",F252/'Project Summary'!$C$10, \"\")","v":""}]
[null,null,null,null,null,null,"",{"$f":"IF(E253<>\"\",E253/'Project Summary'!$C$9,\"\")","v":""},{"$f":"IF(F253<>\"\",F253/'Project Summary'!$C$10, \"\")","v":""}]
[null,null,null,null,null,null,"",{"$f":"IF(E254<>\"\",E254/'Project Summary'!$C$9,\"\")","v":""},{"$f":"IF(F254<>\"\",F254/'Project Summary'!$C$10, \"\")","v":""}]
[null,null,null,null,null,null,"",{"$f":"IF(E255<>\"\",E255/'Project Summary'!$C$9,\"\")","v":""},{"$f":"IF(F255<>\"\",F255/'Project Summary'!$C$10, \"\")","v":""}]
[null,null,null,null,null,null,"",{"$f":"IF(E256<>\"\",E256/'Project Summary'!$C$9,\"\")","v":""},{"$f":"IF(F256<>\"\",F256/'Project Summary'!$C$10, \"\")","v":""}]
[null,null,null,null,null,null,"",{"$f":"IF(E257<>\"\",E257/'Project Summary'!$C$9,\"\")","v":""},{"$f":"IF(F257<>\"\",F257/'Project Summary'!$C$10, \"\")","v":""}]
[null,null,null,null,null,null,"",{"$f":"IF(E258<>\"\",E258/'Project Summary'!$C$9,\"\")","v":""},{"$f":"IF(F258<>\"\",F258/'Project Summary'!$C$10, \"\")","v":""}]
[null,null,null,null,null,null,"",{"$f":"IF(E259<>\"\",E259/'Project Summary'!$C$9,\"\")","v":""},{"$f":"IF(F259<>\"\",F259/'Project Summary'!$C$10, \"\")","v":""}]
[null,null,null,null,null,null,"",{"$f":"IF(E260<>\"\",E260/'Project Summary'!$C$9,\"\")","v":""},{"$f":"IF(F260<>\"\",F260/'Project Summary'!$C$10, \"\")","v":""}]
[null,null,null,null,null,null,"",{"$f":"IF(E261<>\"\",E261/'Project Summary'!$C$9,\"\")","v":""},{"$f":"IF(F261<>\"\",F261/'Project Summary'!$C$10, \"\")","v":""}]
[null,null,null,null,null,null,"",{"$f":"IF(E262<>\"\",E262/'Project Summary'!$C$9,\"\")","v":""},{"$f":"IF(F262<>\"\",F262/'Project Summary'!$C$10, \"\")","v":""}]
[null,null,null,null,null,null,"",{"$f":"IF(E263<>\"\",E263/'Project Summary'!$C$9,\"\")","v":""},{"$f":"IF(F263<>\"\",F263/'Project Summary'!$C$10, \"\")","v":""}]
[null,null,null,null,null,null,"",{"$f":"IF(E264<>\"\",E264/'Project Summary'!$C$9,\"\")","v":""},{"$f":"IF(F264<>\"\",F264/'Project Summary'!$C$10, \"\")","v":""}]
[null,null,null,null,null,null,"",{"$f":"IF(E265<>\"\",E265/'Project Summary'!$C$9,\"\")","v":""},{"$f":"IF(F265<>\"\",F265/'Project Summary'!$C$10, \"\")","v":""}]
[null,null,null,null,null,null,"",{"$f":"IF(E266<>\"\",E266/'Project Summary'!$C$9,\"\")","v":""},{"$f":"IF(F266<>\"\",F266/'Project Summary'!$C$10, \"\")","v":""}]
[null,null,null,null,null,null,"",{"$f":"IF(E267<>\"\",E267/'Project Summary'!$C$9,\"\")","v":""},{"$f":"IF(F267<>\"\",F267/'Project Summary'!$C$10, \"\")","v":""}]
[null,null,null,null,null,null,{"$f":"IF(D268<>\"\", D268/E268, \"\")","v":""},{"$f":"IF(E268<>\"\",E268/'Project Summary'!$C$9,\"\")","v":""},{"$f":"IF(F268<>\"\",F268/'Project Summary'!$C$10, \"\")","v":""}]
[null,null,null,null,null,null,"",{"$f":"IF(E269<>\"\",E269/'Project Summary'!$C$9,\"\")","v":""},{"$f":"IF(F269<>\"\",F269/'Project Summary'!$C$10, \"\")","v":""}]
[null,null,null,null,null,null,"",{"$f":"IF(E270<>\"\",E270/'Project Summary'!$C$9,\"\")","v":""},{"$f":"IF(F270<>\"\",F270/'Project Summary'!$C$10, \"\")","v":""}]
[null,null,null,null,null,null,"",{"$f":"IF(E271<>\"\",E271/'Project Summary'!$C$9,\"\")","v":""},{"$f":"IF(F271<>\"\",F271/'Project Summary'!$C$10, \"\")","v":""}]
[null,null,null,null,null,null,"",{"$f":"IF(E272<>\"\",E272/'Project Summary'!$C$9,\"\")","v":""},{"$f":"IF(F272<>\"\",F272/'Project Summary'!$C$10, \"\")","v":""}]
[null,null,null,null,null,null,"",{"$f":"IF(E273<>\"\",E273/'Project Summary'!$C$9,\"\")","v":""},{"$f":"IF(F273<>\"\",F273/'Project Summary'!$C$10, \"\")","v":""}]
[null,null,null,null,null,null,"",{"$f":"IF(E274<>\"\",E274/'Project Summary'!$C$9,\"\")","v":""},{"$f":"IF(F274<>\"\",F274/'Project Summary'!$C$10, \"\")","v":""}]
[null,null,null,null,null,null,"",{"$f":"IF(E275<>\"\",E275/'Project Summary'!$C$9,\"\")","v":""},{"$f":"IF(F275<>\"\",F275/'Project Summary'!$C$10, \"\")","v":""}]
[null,null,null,null,null,null,"",{"$f":"IF(E276<>\"\",E276/'Project Summary'!$C$9,\"\")","v":""},{"$f":"IF(F276<>\"\",F276/'Project Summary'!$C$10, \"\")","v":""}]
[null,null,null,null,null,null,"",{"$f":"IF(E277<>\"\",E277/'Project Summary'!$C$9,\"\")","v":""},{"$f":"IF(F277<>\"\",F277/'Project Summary'!$C$10, \"\")","v":""}]
[null,null,null,null,null,null,"",{"$f":"IF(E278<>\"\",E278/'Project Summary'!$C$9,\"\")","v":""},{"$f":"IF(F278<>\"\",F278/'Project Summary'!$C$10, \"\")","v":""}]
[null,null,null,null,null,null,"",{"$f":"IF(E279<>\"\",E279/'Project Summary'!$C$9,\"\")","v":""},{"$f":"IF(F279<>\"\",F279/'Project Summary'!$C$10, \"\")","v":""}]
[null,null,null,null,null,null,"",{"$f":"IF(E280<>\"\",E280/'Project Summary'!$C$9,\"\")","v":""},{"$f":"IF(F280<>\"\",F280/'Project Summary'!$C$10, \"\")","v":""}]
[null,null,null,null,null,null,"",{"$f":"IF(E281<>\"\",E281/'Project Summary'!$C$9,\"\")","v":""},{"$f":"IF(F281<>\"\",F281/'Project Summary'!$C$10, \"\")","v":""}]
[null,null,null,null,null,null,"",{"$f":"IF(E282<>\"\",E282/'Project Summary'!$C$9,\"\")","v":""},{"$f":"IF(F282<>\"\",F282/'Project Summary'!$C$10, \"\")","v":""}]
[null,null,null,null,null,null,"",{"$f":"IF(E283<>\"\",E283/'Project Summary'!$C$9,\"\")","v":""},{"$f":"IF(F283<>\"\",F283/'Project Summary'!$C$10, \"\")","v":""}]
[null,null,null,null,null,null,"",{"$f":"IF(E284<>\"\",E284/'Project Summary'!$C$9,\"\")","v":""},{"$f":"IF(F284<>\"\",F284/'Project Summary'!$C$10, \"\")","v":""}]
[null,null,null,null,null,null,"",{"$f":"IF(E285<>\"\",E285/'Project Summary'!$C$9,\"\")","v":""},{"$f":"IF(F285<>\"\",F285/'Project Summary'!$C$10, \"\")","v":""}]
[null,null,null,null,null,null,"",{"$f":"IF(E286<>\"\",E286/'Project Summary'!$C$9,\"\")","v":""},{"$f":"IF(F286<>\"\",F286/'Project Summary'!$C$10, \"\")","v":""}]
[null,null,null,null,null,null,"",{"$f":"IF(E287<>\"\",E287/'Project Summary'!$C$9,\"\")","v":""},{"$f":"IF(F287<>\"\",F287/'Project Summary'!$C$10, \"\")","v":""}]
[null,null,null,null,null,null,"",{"$f":"IF(E288<>\"\",E288/'Project Summary'!$C$9,\"\")","v":""},{"$f":"IF(F288<>\"\",F288/'Project Summary'!$C$10, \"\")","v":""}]
[null,null,null,null,null,null,"",{"$f":"IF(E289<>\"\",E289/'Project Summary'!$C$9,\"\")","v":""},{"$f":"IF(F289<>\"\",F289/'Project Summary'!$C$10, \"\")","v":""}]
[null,null,null,null,null,null,"",{"$f":"IF(E290<>\"\",E290/'Project Summary'!$C$9,\"\")","v":""},{"$f":"IF(F290<>\"\",F290/'Project Summary'!$C$10, \"\")","v":""}]
[null,null,null,null,null,null,"",{"$f":"IF(E291<>\"\",E291/'Project Summary'!$C$9,\"\")","v":""},{"$f":"IF(F291<>\"\",F291/'Project Summary'!$C$10, \"\")","v":""}]
[null,null,null,null,null,null,"",{"$f":"IF(E292<>\"\",E292/'Project Summary'!$C$9,\"\")","v":""},{"$f":"IF(F292<>\"\",F292/'Project Summary'!$C$10, \"\")","v":""}]
[null,null,null,null,null,null,"",{"$f":"IF(E293<>\"\",E293/'Project Summary'!$C$9,\"\")","v":""},{"$f":"IF(F293<>\"\",F293/'Project Summary'!$C$10, \"\")","v":""}]
[null,null,null,null,null,null,"",{"$f":"IF(E294<>\"\",E294/'Project Summary'!$C$9,\"\")","v":""},{"$f":"IF(F294<>\"\",F294/'Project Summary'!$C$10, \"\")","v":""}]
[null,null,null,null,null,null,"",{"$f":"IF(E295<>\"\",E295/'Project Summary'!$C$9,\"\")","v":""},{"$f":"IF(F295<>\"\",F295/'Project Summary'!$C$10, \"\")","v":""}]
[null,null,null,null,null,null,"",{"$f":"IF(E296<>\"\",E296/'Project Summary'!$C$9,\"\")","v":""},{"$f":"IF(F296<>\"\",F296/'Project Summary'!$C$10, \"\")","v":""}]
[null,null,null,null,null,null,"",{"$f":"IF(E297<>\"\",E297/'Project Summary'!$C$9,\"\")","v":""},{"$f":"IF(F297<>\"\",F297/'Project Summary'!$C$10, \"\")","v":""}]
[null,null,null,null,null,null,"",{"$f":"IF(E298<>\"\",E298/'Project Summary'!$C$9,\"\")","v":""},{"$f":"IF(F298<>\"\",F298/'Project Summary'!$C$10, \"\")","v":""}]
[null,null,null,null,null,null,"",{"$f":"IF(E299<>\"\",E299/'Project Summary'!$C$9,\"\")","v":""},{"$f":"IF(F299<>\"\",F299/'Project Summary'!$C$10, \"\")","v":""}]
[null,null,null,null,null,null,"",{"$f":"IF(E300<>\"\",E300/'Project Summary'!$C$9,\"\")","v":""},{"$f":"IF(F300<>\"\",F300/'Project Summary'!$C$10, \"\")","v":""}]
[null,null,null,null,null,null,"",{"$f":"IF(E301<>\"\",E301/'Project Summary'!$C$9,\"\")","v":""},{"$f":"IF(F301<>\"\",F301/'Project Summary'!$C$10, \"\")","v":""}]
[null,null,null,null,null,null,"",{"$f":"IF(E302<>\"\",E302/'Project Summary'!$C$9,\"\")","v":""},{"$f":"IF(F302<>\"\",F302/'Project Summary'!$C$10, \"\")","v":""}]
[null,null,null,null,null,null,"",{"$f":"IF(E303<>\"\",E303/'Project Summary'!$C$9,\"\")","v":""},{"$f":"IF(F303<>\"\",F303/'Project Summary'!$C$10, \"\")","v":""}]
[null,null,null,null,null,null,"",{"$f":"IF(E304<>\"\",E304/'Project Summary'!$C$9,\"\")","v":""},{"$f":"IF(F304<>\"\",F304/'Project Summary'!$C$10, \"\")","v":""}]
[null,null,null,null,null,null,"",{"$f":"IF(E305<>\"\",E305/'Project Summary'!$C$9,\"\")","v":""},{"$f":"IF(F305<>\"\",F305/'Project Summary'!$C$10, \"\")","v":""}]
[null,null,null,null,null,null,"",{"$f":"IF(E306<>\"\",E306/'Project Summary'!$C$9,\"\")","v":""},{"$f":"IF(F306<>\"\",F306/'Project Summary'!$C$10, \"\")","v":""}]
[null,null,null,null,null,null,"",{"$f":"IF(E307<>\"\",E307/'Project Summary'!$C$9,\"\")","v":""},{"$f":"IF(F307<>\"\",F307/'Project Summary'!$C$10, \"\")","v":""}]
[null,null,null,null,null,null,"",{"$f":"IF(E308<>\"\",E308/'Project Summary'!$C$9,\"\")","v":""},{"$f":"IF(F308<>\"\",F308/'Project Summary'!$C$10, \"\")","v":""}]
[null,null,null,null,null,null,"",{"$f":"IF(E309<>\"\",E309/'Project Summary'!$C$9,\"\")","v":""},{"$f":"IF(F309<>\"\",F309/'Project Summary'!$C$10, \"\")","v":""}]
[null,null,null,null,null,null,"",{"$f":"IF(E310<>\"\",E310/'Project Summary'!$C$9,\"\")","v":""},{"$f":"IF(F310<>\"\",F310/'Project Summary'!$C$10, \"\")","v":""}]
[null,null,null,null,null,null,"",{"$f":"IF(E311<>\"\",E311/'Project Summary'!$C$9,\"\")","v":""},{"$f":"IF(F311<>\"\",F311/'Project Summary'!$C$10, \"\")","v":""}]
[null,null,null,null,null,null,"",{"$f":"IF(E312<>\"\",E312/'Project Summary'!$C$9,\"\")","v":""},{"$f":"IF(F312<>\"\",F312/'Project Summary'!$C$10, \"\")","v":""}]
[null,null,null,null,null,null,"",{"$f":"IF(E313<>\"\",E313/'Project Summary'!$C$9,\"\")","v":""},{"$f":"IF(F313<>\"\",F313/'Project Summary'!$C$10, \"\")","v":""}]
[null,null,null,null,null,null,"",{"$f":"IF(E314<>\"\",E314/'Project Summary'!$C$9,\"\")","v":""},{"$f":"IF(F314<>\"\",F314/'Project Summary'!$C$10, \"\")","v":""}]
[null,null,null,null,null,null,"",{"$f":"IF(E315<>\"\",E315/'Project Summary'!$C$9,\"\")","v":""},{"$f":"IF(F315<>\"\",F315/'Project Summary'!$C$10, \"\")","v":""}]
[null,null,null,null,null,null,"",{"$f":"IF(E316<>\"\",E316/'Project Summary'!$C$9,\"\")","v":""},{"$f":"IF(F316<>\"\",F316/'Project Summary'!$C$10, \"\")","v":""}]
[null,null,null,null,null,null,"",{"$f":"IF(E317<>\"\",E317/'Project Summary'!$C$9,\"\")","v":""},{"$f":"IF(F317<>\"\",F317/'Project Summary'!$C$10, \"\")","v":""}]
[null,null,null,null,null,null,"",{"$f":"IF(E318<>\"\",E318/'Project Summary'!$C$9,\"\")","v":""},{"$f":"IF(F318<>\"\",F318/'Project Summary'!$C$10, \"\")","v":""}]
[null,null,null,null,null,null,"",{"$f":"IF(E319<>\"\",E319/'Project Summary'!$C$9,\"\")","v":""},{"$f":"IF(F319<>\"\",F319/'Project Summary'!$C$10, \"\")","v":""}]
[null,null,null,null,null,null,"",{"$f":"IF(E320<>\"\",E320/'Project Summary'!$C$9,\"\")","v":""},{"$f":"IF(F320<>\"\",F320/'Project Summary'!$C$10, \"\")","v":""}]
[null,null,null,null,null,null,"",{"$f":"IF(E321<>\"\",E321/'Project Summary'!$C$9,\"\")","v":""},{"$f":"IF(F321<>\"\",F321/'Project Summary'!$C$10, \"\")","v":""}]
[null,null,null,null,null,null,"",{"$f":"IF(E322<>\"\",E322/'Project Summary'!$C$9,\"\")","v":""},{"$f":"IF(F322<>\"\",F322/'Project Summary'!$C$10, \"\")","v":""}]
[null,null,null,null,null,null,"",{"$f":"IF(E323<>\"\",E323/'Project Summary'!$C$9,\"\")","v":""},{"$f":"IF(F323<>\"\",F323/'Project Summary'!$C$10, \"\")","v":""}]
[null,null,null,null,null,null,"",{"$f":"IF(E324<>\"\",E324/'Project Summary'!$C$9,\"\")","v":""},{"$f":"IF(F324<>\"\",F324/'Project Summary'!$C$10, \"\")","v":""}]
[null,null,null,null,null,null,"",{"$f":"IF(E325<>\"\",E325/'Project Summary'!$C$9,\"\")","v":""},{"$f":"IF(F325<>\"\",F325/'Project Summary'!$C$10, \"\")","v":""}]
[null,null,null,null,null,null,"",{"$f":"IF(E326<>\"\",E326/'Project Summary'!$C$9,\"\")","v":""},{"$f":"IF(F326<>\"\",F326/'Project Summary'!$C$10, \"\")","v":""}]
[null,null,null,null,null,null,"",{"$f":"IF(E327<>\"\",E327/'Project Summary'!$C$9,\"\")","v":""},{"$f":"IF(F327<>\"\",F327/'Project Summary'!$C$10, \"\")","v":""}]
[null,null,null,null,null,null,"",{"$f":"IF(E328<>\"\",E328/'Project Summary'!$C$9,\"\")","v":""},{"$f":"IF(F328<>\"\",F328/'Project Summary'!$C$10, \"\")","v":""}]
[null,null,null,null,null,null,"",{"$f":"IF(E329<>\"\",E329/'Project Summary'!$C$9,\"\")","v":""},{"$f":"IF(F329<>\"\",F329/'Project Summary'!$C$10, \"\")","v":""}]
[null,null,null,null,null,null,"",{"$f":"IF(E330<>\"\",E330/'Project Summary'!$C$9,\"\")","v":""},{"$f":"IF(F330<>\"\",F330/'Project Summary'!$C$10, \"\")","v":""}]
[null,null,null,null,null,null,"",{"$f":"IF(E331<>\"\",E331/'Project Summary'!$C$9,\"\")","v":""},{"$f":"IF(F331<>\"\",F331/'Project Summary'!$C$10, \"\")","v":""}]
[null,null,null,null,null,null,{"$f":"IF(D332<>\"\", D332/E332, \"\")","v":""},{"$f":"IF(E332<>\"\",E332/'Project Summary'!$C$9,\"\")","v":""},{"$f":"IF(F332<>\"\",F332/'Project Summary'!$C$10, \"\")","v":""}]
[null,null,null,null,null,null,"",{"$f":"IF(E333<>\"\",E333/'Project Summary'!$C$9,\"\")","v":""},{"$f":"IF(F333<>\"\",F333/'Project Summary'!$C$10, \"\")","v":""}]
[null,null,null,null,null,null,"",{"$f":"IF(E334<>\"\",E334/'Project Summary'!$C$9,\"\")","v":""},{"$f":"IF(F334<>\"\",F334/'Project Summary'!$C$10, \"\")","v":""}]
[null,null,null,null,null,null,"",{"$f":"IF(E335<>\"\",E335/'Project Summary'!$C$9,\"\")","v":""},{"$f":"IF(F335<>\"\",F335/'Project Summary'!$C$10, \"\")","v":""}]
[null,null,null,null,null,null,"",{"$f":"IF(E336<>\"\",E336/'Project Summary'!$C$9,\"\")","v":""},{"$f":"IF(F336<>\"\",F336/'Project Summary'!$C$10, \"\")","v":""}]
[null,null,null,null,null,null,"",{"$f":"IF(E337<>\"\",E337/'Project Summary'!$C$9,\"\")","v":""},{"$f":"IF(F337<>\"\",F337/'Project Summary'!$C$10, \"\")","v":""}]
[null,null,null,null,null,null,"",{"$f":"IF(E338<>\"\",E338/'Project Summary'!$C$9,\"\")","v":""},{"$f":"IF(F338<>\"\",F338/'Project Summary'!$C$10, \"\")","v":""}]
[null,null,null,null,null,null,"",{"$f":"IF(E339<>\"\",E339/'Project Summary'!$C$9,\"\")","v":""},{"$f":"IF(F339<>\"\",F339/'Project Summary'!$C$10, \"\")","v":""}]
[null,null,null,null,null,null,"",{"$f":"IF(E340<>\"\",E340/'Project Summary'!$C$9,\"\")","v":""},{"$f":"IF(F340<>\"\",F340/'Project Summary'!$C$10, \"\")","v":""}]
[null,null,null,null,null,null,"",{"$f":"IF(E341<>\"\",E341/'Project Summary'!$C$9,\"\")","v":""},{"$f":"IF(F341<>\"\",F341/'Project Summary'!$C$10, \"\")","v":""}]
[null,null,null,null,null,null,"",{"$f":"IF(E342<>\"\",E342/'Project Summary'!$C$9,\"\")","v":""},{"$f":"IF(F342<>\"\",F342/'Project Summary'!$C$10, \"\")","v":""}]
[null,null,null,null,null,null,"",{"$f":"IF(E343<>\"\",E343/'Project Summary'!$C$9,\"\")","v":""},{"$f":"IF(F343<>\"\",F343/'Project Summary'!$C$10, \"\")","v":""}]
[null,null,null,null,null,null,"",{"$f":"IF(E344<>\"\",E344/'Project Summary'!$C$9,\"\")","v":""},{"$f":"IF(F344<>\"\",F344/'Project Summary'!$C$10, \"\")","v":""}]
[null,null,null,null,null,null,"",{"$f":"IF(E345<>\"\",E345/'Project Summary'!$C$9,\"\")","v":""},{"$f":"IF(F345<>\"\",F345/'Project Summary'!$C$10, \"\")","v":""}]
[null,null,null,null,null,null,"",{"$f":"IF(E346<>\"\",E346/'Project Summary'!$C$9,\"\")","v":""},{"$f":"IF(F346<>\"\",F346/'Project Summary'!$C$10, \"\")","v":""}]
[null,null,null,null,null,null,"",{"$f":"IF(E347<>\"\",E347/'Project Summary'!$C$9,\"\")","v":""},{"$f":"IF(F347<>\"\",F347/'Project Summary'!$C$10, \"\")","v":""}]
[null,null,null,null,null,null,"",{"$f":"IF(E348<>\"\",E348/'Project Summary'!$C$9,\"\")","v":""},{"$f":"IF(F348<>\"\",F348/'Project Summary'!$C$10, \"\")","v":""}]
[null,null,null,null,null,null,"",{"$f":"IF(E349<>\"\",E349/'Project Summary'!$C$9,\"\")","v":""},{"$f":"IF(F349<>\"\",F349/'Project Summary'!$C$10, \"\")","v":""}]
[null,null,null,null,null,null,"",{"$f":"IF(E350<>\"\",E350/'Project Summary'!$C$9,\"\")","v":""},{"$f":"IF(F350<>\"\",F350/'Project Summary'!$C$10, \"\")","v":""}]
[null,null,null,null,null,null,"",{"$f":"IF(E351<>\"\",E351/'Project Summary'!$C$9,\"\")","v":""},{"$f":"IF(F351<>\"\",F351/'Project Summary'!$C$10, \"\")","v":""}]
[null,null,null,null,null,null,"",{"$f":"IF(E352<>\"\",E352/'Project Summary'!$C$9,\"\")","v":""},{"$f":"IF(F352<>\"\",F352/'Project Summary'!$C$10, \"\")","v":""}]
[null,null,null,null,null,null,"",{"$f":"IF(E353<>\"\",E353/'Project Summary'!$C$9,\"\")","v":""},{"$f":"IF(F353<>\"\",F353/'Project Summary'!$C$10, \"\")","v":""}]
[null,null,null,null,null,null,"",{"$f":"IF(E354<>\"\",E354/'Project Summary'!$C$9,\"\")","v":""},{"$f":"IF(F354<>\"\",F354/'Project Summary'!$C$10, \"\")","v":""}]
[null,null,null,null,null,null,"",{"$f":"IF(E355<>\"\",E355/'Project Summary'!$C$9,\"\")","v":""},{"$f":"IF(F355<>\"\",F355/'Project Summary'!$C$10, \"\")","v":""}]
[null,null,null,null,null,null,"",{"$f":"IF(E356<>\"\",E356/'Project Summary'!$C$9,\"\")","v":""},{"$f":"IF(F356<>\"\",F356/'Project Summary'!$C$10, \"\")","v":""}]
[null,null,null,null,null,null,"",{"$f":"IF(E357<>\"\",E357/'Project Summary'!$C$9,\"\")","v":""},{"$f":"IF(F357<>\"\",F357/'Project Summary'!$C$10, \"\")","v":""}]
[null,null,null,null,null,null,"",{"$f":"IF(E358<>\"\",E358/'Project Summary'!$C$9,\"\")","v":""},{"$f":"IF(F358<>\"\",F358/'Project Summary'!$C$10, \"\")","v":""}]
[null,null,null,null,null,null,"",{"$f":"IF(E359<>\"\",E359/'Project Summary'!$C$9,\"\")","v":""},{"$f":"IF(F359<>\"\",F359/'Project Summary'!$C$10, \"\")","v":""}]
[null,null,null,null,null,null,"",{"$f":"IF(E360<>\"\",E360/'Project Summary'!$C$9,\"\")","v":""},{"$f":"IF(F360<>\"\",F360/'Project Summary'!$C$10, \"\")","v":""}]
[null,null,null,null,null,null,"",{"$f":"IF(E361<>\"\",E361/'Project Summary'!$C$9,\"\")","v":""},{"$f":"IF(F361<>\"\",F361/'Project Summary'!$C$10, \"\")","v":""}]
[null,null,null,null,null,null,"",{"$f":"IF(E362<>\"\",E362/'Project Summary'!$C$9,\"\")","v":""},{"$f":"IF(F362<>\"\",F362/'Project Summary'!$C$10, \"\")","v":""}]
[null,null,null,null,null,null,"",{"$f":"IF(E363<>\"\",E363/'Project Summary'!$C$9,\"\")","v":""},{"$f":"IF(F363<>\"\",F363/'Project Summary'!$C$10, \"\")","v":""}]
[null,null,null,null,null,null,"",{"$f":"IF(E364<>\"\",E364/'Project Summary'!$C$9,\"\")","v":""},{"$f":"IF(F364<>\"\",F364/'Project Summary'!$C$10, \"\")","v":""}]
[null,null,null,null,null,null,"",{"$f":"IF(E365<>\"\",E365/'Project Summary'!$C$9,\"\")","v":""},{"$f":"IF(F365<>\"\",F365/'Project Summary'!$C$10, \"\")","v":""}]
[null,null,null,null,null,null,"",{"$f":"IF(E366<>\"\",E366/'Project Summary'!$C$9,\"\")","v":""},{"$f":"IF(F366<>\"\",F366/'Project Summary'!$C$10, \"\")","v":""}]
[null,null,null,null,null,null,"",{"$f":"IF(E367<>\"\",E367/'Project Summary'!$C$9,\"\")","v":""},{"$f":"IF(F367<>\"\",F367/'Project Summary'!$C$10, \"\")","v":""}]
[null,null,null,null,null,null,"",{"$f":"IF(E368<>\"\",E368/'Project Summary'!$C$9,\"\")","v":""},{"$f":"IF(F368<>\"\",F368/'Project Summary'!$C$10, \"\")","v":""}]
[null,null,null,null,null,null,"",{"$f":"IF(E369<>\"\",E369/'Project Summary'!$C$9,\"\")","v":""},{"$f":"IF(F369<>\"\",F369/'Project Summary'!$C$10, \"\")","v":""}]
[null,null,null,null,null,null,"",{"$f":"IF(E370<>\"\",E370/'Project Summary'!$C$9,\"\")","v":""},{"$f":"IF(F370<>\"\",F370/'Project Summary'!$C$10, \"\")","v":""}]
[null,null,null,null,null,null,"",{"$f":"IF(E371<>\"\",E371/'Project Summary'!$C$9,\"\")","v":""},{"$f":"IF(F371<>\"\",F371/'Project Summary'!$C$10, \"\")","v":""}]
[null,null,null,null,null,null,"",{"$f":"IF(E372<>\"\",E372/'Project Summary'!$C$9,\"\")","v":""},{"$f":"IF(F372<>\"\",F372/'Project Summary'!$C$10, \"\")","v":""}]
[null,null,null,null,null,null,"",{"$f":"IF(E373<>\"\",E373/'Project Summary'!$C$9,\"\")","v":""},{"$f":"IF(F373<>\"\",F373/'Project Summary'!$C$10, \"\")","v":""}]
[null,null,null,null,null,null,"",{"$f":"IF(E374<>\"\",E374/'Project Summary'!$C$9,\"\")","v":""},{"$f":"IF(F374<>\"\",F374/'Project Summary'!$C$10, \"\")","v":""}]
[null,null,null,null,null,null,"",{"$f":"IF(E375<>\"\",E375/'Project Summary'!$C$9,\"\")","v":""},{"$f":"IF(F375<>\"\",F375/'Project Summary'!$C$10, \"\")","v":""}]
[null,null,null,null,null,null,"",{"$f":"IF(E376<>\"\",E376/'Project Summary'!$C$9,\"\")","v":""},{"$f":"IF(F376<>\"\",F376/'Project Summary'!$C$10, \"\")","v":""}]
[null,null,null,null,null,null,"",{"$f":"IF(E377<>\"\",E377/'Project Summary'!$C$9,\"\")","v":""},{"$f":"IF(F377<>\"\",F377/'Project Summary'!$C$10, \"\")","v":""}]
[null,null,null,null,null,null,"",{"$f":"IF(E378<>\"\",E378/'Project Summary'!$C$9,\"\")","v":""},{"$f":"IF(F378<>\"\",F378/'Project Summary'!$C$10, \"\")","v":""}]
[null,null,null,null,null,null,"",{"$f":"IF(E379<>\"\",E379/'Project Summary'!$C$9,\"\")","v":""},{"$f":"IF(F379<>\"\",F379/'Project Summary'!$C$10, \"\")","v":""}]
[null,null,null,null,null,null,"",{"$f":"IF(E380<>\"\",E380/'Project Summary'!$C$9,\"\")","v":""},{"$f":"IF(F380<>\"\",F380/'Project Summary'!$C$10, \"\")","v":""}]
[null,null,null,null,null,null,"",{"$f":"IF(E381<>\"\",E381/'Project Summary'!$C$9,\"\")","v":""},{"$f":"IF(F381<>\"\",F381/'Project Summary'!$C$10, \"\")","v":""}]
[null,null,null,null,null,null,"",{"$f":"IF(E382<>\"\",E382/'Project Summary'!$C$9,\"\")","v":""},{"$f":"IF(F382<>\"\",F382/'Project Summary'!$C$10, \"\")","v":""}]
[null,null,null,null,null,null,"",{"$f":"IF(E383<>\"\",E383/'Project Summary'!$C$9,\"\")","v":""},{"$f":"IF(F383<>\"\",F383/'Project Summary'!$C$10, \"\")","v":""}]
[null,null,null,null,null,null,"",{"$f":"IF(E384<>\"\",E384/'Project Summary'!$C$9,\"\")","v":""},{"$f":"IF(F384<>\"\",F384/'Project Summary'!$C$10, \"\")","v":""}]
[null,null,null,null,null,null,"",{"$f":"IF(E385<>\"\",E385/'Project Summary'!$C$9,\"\")","v":""},{"$f":"IF(F385<>\"\",F385/'Project Summary'!$C$10, \"\")","v":""}]
[null,null,null,null,null,null,"",{"$f":"IF(E386<>\"\",E386/'Project Summary'!$C$9,\"\")","v":""},{"$f":"IF(F386<>\"\",F386/'Project Summary'!$C$10, \"\")","v":""}]
[null,null,null,null,null,null,"",{"$f":"IF(E387<>\"\",E387/'Project Summary'!$C$9,\"\")","v":""},{"$f":"IF(F387<>\"\",F387/'Project Summary'!$C$10, \"\")","v":""}]
[null,null,null,null,null,null,"",{"$f":"IF(E388<>\"\",E388/'Project Summary'!$C$9,\"\")","v":""},{"$f":"IF(F388<>\"\",F388/'Project Summary'!$C$10, \"\")","v":""}]
[null,null,null,null,null,null,"",{"$f":"IF(E389<>\"\",E389/'Project Summary'!$C$9,\"\")","v":""},{"$f":"IF(F389<>\"\",F389/'Project Summary'!$C$10, \"\")","v":""}]
[null,null,null,null,null,null,"",{"$f":"IF(E390<>\"\",E390/'Project Summary'!$C$9,\"\")","v":""},{"$f":"IF(F390<>\"\",F390/'Project Summary'!$C$10, \"\")","v":""}]
[null,null,null,null,null,null,"",{"$f":"IF(E391<>\"\",E391/'Project Summary'!$C$9,\"\")","v":""},{"$f":"IF(F391<>\"\",F391/'Project Summary'!$C$10, \"\")","v":""}]
[null,null,null,null,null,null,"",{"$f":"IF(E392<>\"\",E392/'Project Summary'!$C$9,\"\")","v":""},{"$f":"IF(F392<>\"\",F392/'Project Summary'!$C$10, \"\")","v":""}]
[null,null,null,null,null,null,"",{"$f":"IF(E393<>\"\",E393/'Project Summary'!$C$9,\"\")","v":""},{"$f":"IF(F393<>\"\",F393/'Project Summary'!$C$10, \"\")","v":""}]
[null,null,null,null,null,null,"",{"$f":"IF(E394<>\"\",E394/'Project Summary'!$C$9,\"\")","v":""},{"$f":"IF(F394<>\"\",F394/'Project Summary'!$C$10, \"\")","v":""}]
[null,null,null,null,null,null,"",{"$f":"IF(E395<>\"\",E395/'Project Summary'!$C$9,\"\")","v":""},{"$f":"IF(F395<>\"\",F395/'Project Summary'!$C$10, \"\")","v":""}]
[null,null,null,null,null,null,{"$f":"IF(D396<>\"\", D396/E396, \"\")","v":""},{"$f":"IF(E396<>\"\",E396/'Project Summary'!$C$9,\"\")","v":""},{"$f":"IF(F396<>\"\",F396/'Project Summary'!$C$10, \"\")","v":""}]
[null,null,null,null,null,null,"",{"$f":"IF(E397<>\"\",E397/'Project Summary'!$C$9,\"\")","v":""},{"$f":"IF(F397<>\"\",F397/'Project Summary'!$C$10, \"\")","v":""}]
[null,null,null,null,null,null,"",{"$f":"IF(E398<>\"\",E398/'Project Summary'!$C$9,\"\")","v":""},{"$f":"IF(F398<>\"\",F398/'Project Summary'!$C$10, \"\")","v":""}]
[null,null,null,null,null,null,"",{"$f":"IF(E399<>\"\",E399/'Project Summary'!$C$9,\"\")","v":""},{"$f":"IF(F399<>\"\",F399/'Project Summary'!$C$10, \"\")","v":""}]
[null,null,null,null,null,null,"",{"$f":"IF(E400<>\"\",E400/'Project Summary'!$C$9,\"\")","v":""},{"$f":"IF(F400<>\"\",F400/'Project Summary'!$C$10, \"\")","v":""}]
[null,null,null,null,null,null,"",{"$f":"IF(E401<>\"\",E401/'Project Summary'!$C$9,\"\")","v":""},{"$f":"IF(F401<>\"\",F401/'Project Summary'!$C$10, \"\")","v":""}]
[null,null,null,null,null,null,"",{"$f":"IF(E402<>\"\",E402/'Project Summary'!$C$9,\"\")","v":""},{"$f":"IF(F402<>\"\",F402/'Project Summary'!$C$10, \"\")","v":""}]
[null,null,null,null,null,null,"",{"$f":"IF(E403<>\"\",E403/'Project Summary'!$C$9,\"\")","v":""},{"$f":"IF(F403<>\"\",F403/'Project Summary'!$C$10, \"\")","v":""}]
[null,null,null,null,null,null,"",{"$f":"IF(E404<>\"\",E404/'Project Summary'!$C$9,\"\")","v":""},{"$f":"IF(F404<>\"\",F404/'Project Summary'!$C$10, \"\")","v":""}]
[null,null,null,null,null,null,"",{"$f":"IF(E405<>\"\",E405/'Project Summary'!$C$9,\"\")","v":""},{"$f":"IF(F405<>\"\",F405/'Project Summary'!$C$10, \"\")","v":""}]
[null,null,null,null,null,null,"",{"$f":"IF(E406<>\"\",E406/'Project Summary'!$C$9,\"\")","v":""},{"$f":"IF(F406<>\"\",F406/'Project Summary'!$C$10, \"\")","v":""}]
[null,null,null,null,null,null,"",{"$f":"IF(E407<>\"\",E407/'Project Summary'!$C$9,\"\")","v":""},{"$f":"IF(F407<>\"\",F407/'Project Summary'!$C$10, \"\")","v":""}]
[null,null,null,null,null,null,"",{"$f":"IF(E408<>\"\",E408/'Project Summary'!$C$9,\"\")","v":""},{"$f":"IF(F408<>\"\",F408/'Project Summary'!$C$10, \"\")","v":""}]
[null,null,null,null,null,null,"",{"$f":"IF(E409<>\"\",E409/'Project Summary'!$C$9,\"\")","v":""},{"$f":"IF(F409<>\"\",F409/'Project Summary'!$C$10, \"\")","v":""}]
[null,null,null,null,null,null,"",{"$f":"IF(E410<>\"\",E410/'Project Summary'!$C$9,\"\")","v":""},{"$f":"IF(F410<>\"\",F410/'Project Summary'!$C$10, \"\")","v":""}]
[null,null,null,null,null,null,"",{"$f":"IF(E411<>\"\",E411/'Project Summary'!$C$9,\"\")","v":""},{"$f":"IF(F411<>\"\",F411/'Project Summary'!$C$10, \"\")","v":""}]
[null,null,null,null,null,null,"",{"$f":"IF(E412<>\"\",E412/'Project Summary'!$C$9,\"\")","v":""},{"$f":"IF(F412<>\"\",F412/'Project Summary'!$C$10, \"\")","v":""}]
[null,null,null,null,null,null,"",{"$f":"IF(E413<>\"\",E413/'Project Summary'!$C$9,\"\")","v":""},{"$f":"IF(F413<>\"\",F413/'Project Summary'!$C$10, \"\")","v":""}]
[null,null,null,null,null,null,"",{"$f":"IF(E414<>\"\",E414/'Project Summary'!$C$9,\"\")","v":""},{"$f":"IF(F414<>\"\",F414/'Project Summary'!$C$10, \"\")","v":""}]
[null,null,null,null,null,null,"",{"$f":"IF(E415<>\"\",E415/'Project Summary'!$C$9,\"\")","v":""},{"$f":"IF(F415<>\"\",F415/'Project Summary'!$C$10, \"\")","v":""}]
[null,null,null,null,null,null,"",{"$f":"IF(E416<>\"\",E416/'Project Summary'!$C$9,\"\")","v":""},{"$f":"IF(F416<>\"\",F416/'Project Summary'!$C$10, \"\")","v":""}]
[null,null,null,null,null,null,"",{"$f":"IF(E417<>\"\",E417/'Project Summary'!$C$9,\"\")","v":""},{"$f":"IF(F417<>\"\",F417/'Project Summary'!$C$10, \"\")","v":""}]
[null,null,null,null,null,null,"",{"$f":"IF(E418<>\"\",E418/'Project Summary'!$C$9,\"\")","v":""},{"$f":"IF(F418<>\"\",F418/'Project Summary'!$C$10, \"\")","v":""}]
[null,null,null,null,null,null,"",{"$f":"IF(E419<>\"\",E419/'Project Summary'!$C$9,\"\")","v":""},{"$f":"IF(F419<>\"\",F419/'Project Summary'!$C$10, \"\")","v":""}]
[null,null,null,null,null,null,"",{"$f":"IF(E420<>\"\",E420/'Project Summary'!$C$9,\"\")","v":""},{"$f":"IF(F420<>\"\",F420/'Project Summary'!$C$10, \"\")","v":""}]
[null,null,null,null,null,null,"",{"$f":"IF(E421<>\"\",E421/'Project Summary'!$C$9,\"\")","v":""},{"$f":"IF(F421<>\"\",F421/'Project Summary'!$C$10, \"\")","v":""}]
[null,null,null,null,null,null,"",{"$f":"IF(E422<>\"\",E422/'Project Summary'!$C$9,\"\")","v":""},{"$f":"IF(F422<>\"\",F422/'Project Summary'!$C$10, \"\")","v":""}]
[null,null,null,null,null,null,"",{"$f":"IF(E423<>\"\",E423/'Project Summary'!$C$9,\"\")","v":""},{"$f":"IF(F423<>\"\",F423/'Project Summary'!$C$10, \"\")","v":""}]
[null,null,null,null,null,null,"",{"$f":"IF(E424<>\"\",E424/'Project Summary'!$C$9,\"\")","v":""},{"$f":"IF(F424<>\"\",F424/'Project Summary'!$C$10, \"\")","v":""}]
[null,null,null,null,null,null,"",{"$f":"IF(E425<>\"\",E425/'Project Summary'!$C$9,\"\")","v":""},{"$f":"IF(F425<>\"\",F425/'Project Summary'!$C$10, \"\")","v":""}]
[null,null,null,null,null,null,"",{"$f":"IF(E426<>\"\",E426/'Project Summary'!$C$9,\"\")","v":""},{"$f":"IF(F426<>\"\",F426/'Project Summary'!$C$10, \"\")","v":""}]
[null,null,null,null,null,null,"",{"$f":"IF(E427<>\"\",E427/'Project Summary'!$C$9,\"\")","v":""},{"$f":"IF(F427<>\"\",F427/'Project Summary'!$C$10, \"\")","v":""}]
[null,null,null,null,null,null,"",{"$f":"IF(E428<>\"\",E428/'Project Summary'!$C$9,\"\")","v":""},{"$f":"IF(F428<>\"\",F428/'Project Summary'!$C$10, \"\")","v":""}]
[null,null,null,null,null,null,"",{"$f":"IF(E429<>\"\",E429/'Project Summary'!$C$9,\"\")","v":""},{"$f":"IF(F429<>\"\",F429/'Project Summary'!$C$10, \"\")","v":""}]
[null,null,null,null,null,null,"",{"$f":"IF(E430<>\"\",E430/'Project Summary'!$C$9,\"\")","v":""},{"$f":"IF(F430<>\"\",F430/'Project Summary'!$C$10, \"\")","v":""}]
[null,null,null,null,null,null,"",{"$f":"IF(E431<>\"\",E431/'Project Summary'!$C$9,\"\")","v":""},{"$f":"IF(F431<>\"\",F431/'Project Summary'!$C$10, \"\")","v":""}]
[null,null,null,null,null,null,"",{"$f":"IF(E432<>\"\",E432/'Project Summary'!$C$9,\"\")","v":""},{"$f":"IF(F432<>\"\",F432/'Project Summary'!$C$10, \"\")","v":""}]
[null,null,null,null,null,null,"",{"$f":"IF(E433<>\"\",E433/'Project Summary'!$C$9,\"\")","v":""},{"$f":"IF(F433<>\"\",F433/'Project Summary'!$C$10, \"\")","v":""}]
[null,null,null,null,null,null,"",{"$f":"IF(E434<>\"\",E434/'Project Summary'!$C$9,\"\")","v":""},{"$f":"IF(F434<>\"\",F434/'Project Summary'!$C$10, \"\")","v":""}]
[null,null,null,null,null,null,"",{"$f":"IF(E435<>\"\",E435/'Project Summary'!$C$9,\"\")","v":""},{"$f":"IF(F435<>\"\",F435/'Project Summary'!$C$10, \"\")","v":""}]
[null,null,null,null,null,null,"",{"$f":"IF(E436<>\"\",E436/'Project Summary'!$C$9,\"\")","v":""},{"$f":"IF(F436<>\"\",F436/'Project Summary'!$C$10, \"\")","v":""}]
[null,null,null,null,null,null,"",{"$f":"IF(E437<>\"\",E437/'Project Summary'!$C$9,\"\")","v":""},{"$f":"IF(F437<>\"\",F437/'Project Summary'!$C$10, \"\")","v":""}]
[null,null,null,null,null,null,"",{"$f":"IF(E438<>\"\",E438/'Project Summary'!$C$9,\"\")","v":""},{"$f":"IF(F438<>\"\",F438/'Project Summary'!$C$10, \"\")","v":""}]
[null,null,null,null,null,null,"",{"$f":"IF(E439<>\"\",E439/'Project Summary'!$C$9,\"\")","v":""},{"$f":"IF(F439<>\"\",F439/'Project Summary'!$C$10, \"\")","v":""}]
[null,null,null,null,null,null,"",{"$f":"IF(E440<>\"\",E440/'Project Summary'!$C$9,\"\")","v":""},{"$f":"IF(F440<>\"\",F440/'Project Summary'!$C$10, \"\")","v":""}]
[null,null,null,null,null,null,"",{"$f":"IF(E441<>\"\",E441/'Project Summary'!$C$9,\"\")","v":""},{"$f":"IF(F441<>\"\",F441/'Project Summary'!$C$10, \"\")","v":""}]
[null,null,null,null,null,null,"",{"$f":"IF(E442<>\"\",E442/'Project Summary'!$C$9,\"\")","v":""},{"$f":"IF(F442<>\"\",F442/'Project Summary'!$C$10, \"\")","v":""}]
[null,null,null,null,null,null,"",{"$f":"IF(E443<>\"\",E443/'Project Summary'!$C$9,\"\")","v":""},{"$f":"IF(F443<>\"\",F443/'Project Summary'!$C$10, \"\")","v":""}]
[null,null,null,null,null,null,"",{"$f":"IF(E444<>\"\",E444/'Project Summary'!$C$9,\"\")","v":""},{"$f":"IF(F444<>\"\",F444/'Project Summary'!$C$10, \"\")","v":""}]
[null,null,null,null,null,null,"",{"$f":"IF(E445<>\"\",E445/'Project Summary'!$C$9,\"\")","v":""},{"$f":"IF(F445<>\"\",F445/'Project Summary'!$C$10, \"\")","v":""}]
[null,null,null,null,null,null,"",{"$f":"IF(E446<>\"\",E446/'Project Summary'!$C$9,\"\")","v":""},{"$f":"IF(F446<>\"\",F446/'Project Summary'!$C$10, \"\")","v":""}]
[null,null,null,null,null,null,"",{"$f":"IF(E447<>\"\",E447/'Project Summary'!$C$9,\"\")","v":""},{"$f":"IF(F447<>\"\",F447/'Project Summary'!$C$10, \"\")","v":""}]
[null,null,null,null,null,null,"",{"$f":"IF(E448<>\"\",E448/'Project Summary'!$C$9,\"\")","v":""},{"$f":"IF(F448<>\"\",F448/'Project Summary'!$C$10, \"\")","v":""}]
[null,null,null,null,null,null,"",{"$f":"IF(E449<>\"\",E449/'Project Summary'!$C$9,\"\")","v":""},{"$f":"IF(F449<>\"\",F449/'Project Summary'!$C$10, \"\")","v":""}]
[null,null,null,null,null,null,"",{"$f":"IF(E450<>\"\",E450/'Project Summary'!$C$9,\"\")","v":""},{"$f":"IF(F450<>\"\",F450/'Project Summary'!$C$10, \"\")","v":""}]
[null,null,null,null,null,null,"",{"$f":"IF(E451<>\"\",E451/'Project Summary'!$C$9,\"\")","v":""},{"$f":"IF(F451<>\"\",F451/'Project Summary'!$C$10, \"\")","v":""}]
[null,null,null,null,null,null,"",{"$f":"IF(E452<>\"\",E452/'Project Summary'!$C$9,\"\")","v":""},{"$f":"IF(F452<>\"\",F452/'Project Summary'!$C$10, \"\")","v":""}]
[null,null,null,null,null,null,"",{"$f":"IF(E453<>\"\",E453/'Project Summary'!$C$9,\"\")","v":""},{"$f":"IF(F453<>\"\",F453/'Project Summary'!$C$10, \"\")","v":""}]
[null,null,null,null,null,null,"",{"$f":"IF(E454<>\"\",E454/'Project Summary'!$C$9,\"\")","v":""},{"$f":"IF(F454<>\"\",F454/'Project Summary'!$C$10, \"\")","v":""}]
[null,null,null,null,null,null,"",{"$f":"IF(E455<>\"\",E455/'Project Summary'!$C$9,\"\")","v":""},{"$f":"IF(F455<>\"\",F455/'Project Summary'!$C$10, \"\")","v":""}]
[null,null,null,null,null,null,"",{"$f":"IF(E456<>\"\",E456/'Project Summary'!$C$9,\"\")","v":""},{"$f":"IF(F456<>\"\",F456/'Project Summary'!$C$10, \"\")","v":""}]
[null,null,null,null,null,null,"",{"$f":"IF(E457<>\"\",E457/'Project Summary'!$C$9,\"\")","v":""},{"$f":"IF(F457<>\"\",F457/'Project Summary'!$C$10, \"\")","v":""}]
[null,null,null,null,null,null,"",{"$f":"IF(E458<>\"\",E458/'Project Summary'!$C$9,\"\")","v":""},{"$f":"IF(F458<>\"\",F458/'Project Summary'!$C$10, \"\")","v":""}]
[null,null,null,null,null,null,"",{"$f":"IF(E459<>\"\",E459/'Project Summary'!$C$9,\"\")","v":""},{"$f":"IF(F459<>\"\",F459/'Project Summary'!$C$10, \"\")","v":""}]
[null,null,null,null,null,null,{"$f":"IF(D460<>\"\", D460/E460, \"\")","v":""},{"$f":"IF(E460<>\"\",E460/'Project Summary'!$C$9,\"\")","v":""},{"$f":"IF(F460<>\"\",F460/'Project Summary'!$C$10, \"\")","v":""}]
[null,null,null,null,null,null,"",{"$f":"IF(E461<>\"\",E461/'Project Summary'!$C$9,\"\")","v":""},{"$f":"IF(F461<>\"\",F461/'Project Summary'!$C$10, \"\")","v":""}]
[null,null,null,null,null,null,"",{"$f":"IF(E462<>\"\",E462/'Project Summary'!$C$9,\"\")","v":""},{"$f":"IF(F462<>\"\",F462/'Project Summary'!$C$10, \"\")","v":""}]
[null,null,null,null,null,null,"",{"$f":"IF(E463<>\"\",E463/'Project Summary'!$C$9,\"\")","v":""},{"$f":"IF(F463<>\"\",F463/'Project Summary'!$C$10, \"\")","v":""}]
[null,null,null,null,null,null,"",{"$f":"IF(E464<>\"\",E464/'Project Summary'!$C$9,\"\")","v":""},{"$f":"IF(F464<>\"\",F464/'Project Summary'!$C$10, \"\")","v":""}]
[null,null,null,null,null,null,"",{"$f":"IF(E465<>\"\",E465/'Project Summary'!$C$9,\"\")","v":""},{"$f":"IF(F465<>\"\",F465/'Project Summary'!$C$10, \"\")","v":""}]
[null,null,null,null,null,null,"",{"$f":"IF(E466<>\"\",E466/'Project Summary'!$C$9,\"\")","v":""},{"$f":"IF(F466<>\"\",F466/'Project Summary'!$C$10, \"\")","v":""}]
[null,null,null,null,null,null,"",{"$f":"IF(E467<>\"\",E467/'Project Summary'!$C$9,\"\")","v":""},{"$f":"IF(F467<>\"\",F467/'Project Summary'!$C$10, \"\")","v":""}]
[null,null,null,null,null,null,"",{"$f":"IF(E468<>\"\",E468/'Project Summary'!$C$9,\"\")","v":""},{"$f":"IF(F468<>\"\",F468/'Project Summary'!$C$10, \"\")","v":""}]
[null,null,null,null,null,null,"",{"$f":"IF(E469<>\"\",E469/'Project Summary'!$C$9,\"\")","v":""},{"$f":"IF(F469<>\"\",F469/'Project Summary'!$C$10, \"\")","v":""}]
[null,null,null,null,null,null,"",{"$f":"IF(E470<>\"\",E470/'Project Summary'!$C$9,\"\")","v":""},{"$f":"IF(F470<>\"\",F470/'Project Summary'!$C$10, \"\")","v":""}]
[null,null,null,null,null,null,"",{"$f":"IF(E471<>\"\",E471/'Project Summary'!$C$9,\"\")","v":""},{"$f":"IF(F471<>\"\",F471/'Project Summary'!$C$10, \"\")","v":""}]
[null,null,null,null,null,null,"",{"$f":"IF(E472<>\"\",E472/'Project Summary'!$C$9,\"\")","v":""},{"$f":"IF(F472<>\"\",F472/'Project Summary'!$C$10, \"\")","v":""}]
[null,null,null,null,null,null,"",{"$f":"IF(E473<>\"\",E473/'Project Summary'!$C$9,\"\")","v":""},{"$f":"IF(F473<>\"\",F473/'Project Summary'!$C$10, \"\")","v":""}]
[null,null,null,null,null,null,"",{"$f":"IF(E474<>\"\",E474/'Project Summary'!$C$9,\"\")","v":""},{"$f":"IF(F474<>\"\",F474/'Project Summary'!$C$10, \"\")","v":""}]
[null,null,null,null,null,null,"",{"$f":"IF(E475<>\"\",E475/'Project Summary'!$C$9,\"\")","v":""},{"$f":"IF(F475<>\"\",F475/'Project Summary'!$C$10, \"\")","v":""}]
[null,null,null,null,null,null,"",{"$f":"IF(E476<>\"\",E476/'Project Summary'!$C$9,\"\")","v":""},{"$f":"IF(F476<>\"\",F476/'Project Summary'!$C$10, \"\")","v":""}]
[null,null,null,null,null,null,"",{"$f":"IF(E477<>\"\",E477/'Project Summary'!$C$9,\"\")","v":""},{"$f":"IF(F477<>\"\",F477/'Project Summary'!$C$10, \"\")","v":""}]
[null,null,null,null,null,null,"",{"$f":"IF(E478<>\"\",E478/'Project Summary'!$C$9,\"\")","v":""},{"$f":"IF(F478<>\"\",F478/'Project Summary'!$C$10, \"\")","v":""}]
[null,null,null,null,null,null,"",{"$f":"IF(E479<>\"\",E479/'Project Summary'!$C$9,\"\")","v":""},{"$f":"IF(F479<>\"\",F479/'Project Summary'!$C$10, \"\")","v":""}]
[null,null,null,null,null,null,"",{"$f":"IF(E480<>\"\",E480/'Project Summary'!$C$9,\"\")","v":""},{"$f":"IF(F480<>\"\",F480/'Project Summary'!$C$10, \"\")","v":""}]
[null,null,null,null,null,null,"",{"$f":"IF(E481<>\"\",E481/'Project Summary'!$C$9,\"\")","v":""},{"$f":"IF(F481<>\"\",F481/'Project Summary'!$C$10, \"\")","v":""}]
[null,null,null,null,null,null,"",{"$f":"IF(E482<>\"\",E482/'Project Summary'!$C$9,\"\")","v":""},{"$f":"IF(F482<>\"\",F482/'Project Summary'!$C$10, \"\")","v":""}]
[null,null,null,null,null,null,"",{"$f":"IF(E483<>\"\",E483/'Project Summary'!$C$9,\"\")","v":""},{"$f":"IF(F483<>\"\",F483/'Project Summary'!$C$10, \"\")","v":""}]
[null,null,null,null,null,null,"",{"$f":"IF(E484<>\"\",E484/'Project Summary'!$C$9,\"\")","v":""},{"$f":"IF(F484<>\"\",F484/'Project Summary'!$C$10, \"\")","v":""}]
[null,null,null,null,null,null,"",{"$f":"IF(E485<>\"\",E485/'Project Summary'!$C$9,\"\")","v":""},{"$f":"IF(F485<>\"\",F485/'Project Summary'!$C$10, \"\")","v":""}]
[null,null,null,null,null,null,"",{"$f":"IF(E486<>\"\",E486/'Project Summary'!$C$9,\"\")","v":""},{"$f":"IF(F486<>\"\",F486/'Project Summary'!$C$10, \"\")","v":""}]
[null,null,null,null,null,null,"",{"$f":"IF(E487<>\"\",E487/'Project Summary'!$C$9,\"\")","v":""},{"$f":"IF(F487<>\"\",F487/'Project Summary'!$C$10, \"\")","v":""}]
[null,null,null,null,null,null,"",{"$f":"IF(E488<>\"\",E488/'Project Summary'!$C$9,\"\")","v":""},{"$f":"IF(F488<>\"\",F488/'Project Summary'!$C$10, \"\")","v":""}]
[null,null,null,null,null,null,"",{"$f":"IF(E489<>\"\",E489/'Project Summary'!$C$9,\"\")","v":""},{"$f":"IF(F489<>\"\",F489/'Project Summary'!$C$10, \"\")","v":""}]
[null,null,null,null,null,null,"",{"$f":"IF(E490<>\"\",E490/'Project Summary'!$C$9,\"\")","v":""},{"$f":"IF(F490<>\"\",F490/'Project Summary'!$C$10, \"\")","v":""}]
[null,null,null,null,null,null,"",{"$f":"IF(E491<>\"\",E491/'Project Summary'!$C$9,\"\")","v":""},{"$f":"IF(F491<>\"\",F491/'Project Summary'!$C$10, \"\")","v":""}]
[null,null,null,null,null,null,"",{"$f":"IF(E492<>\"\",E492/'Project Summary'!$C$9,\"\")","v":""},{"$f":"IF(F492<>\"\",F492/'Project Summary'!$C$10, \"\")","v":""}]
[null,null,null,null,null,null,"",{"$f":"IF(E493<>\"\",E493/'Project Summary'!$C$9,\"\")","v":""},{"$f":"IF(F493<>\"\",F493/'Project Summary'!$C$10, \"\")","v":""}]
[null,null,null,null,null,null,"",{"$f":"IF(E494<>\"\",E494/'Project Summary'!$C$9,\"\")","v":""},{"$f":"IF(F494<>\"\",F494/'Project Summary'!$C$10, \"\")","v":""}]
[null,null,null,null,null,null,"",{"$f":"IF(E495<>\"\",E495/'Project Summary'!$C$9,\"\")","v":""},{"$f":"IF(F495<>\"\",F495/'Project Summary'!$C$10, \"\")","v":""}]
[null,null,null,null,null,null,"",{"$f":"IF(E496<>\"\",E496/'Project Summary'!$C$9,\"\")","v":""},{"$f":"IF(F496<>\"\",F496/'Project Summary'!$C$10, \"\")","v":""}]
[null,null,null,null,null,null,"",{"$f":"IF(E497<>\"\",E497/'Project Summary'!$C$9,\"\")","v":""},{"$f":"IF(F497<>\"\",F497/'Project Summary'!$C$10, \"\")","v":""}]
[null,null,null,null,null,null,"",{"$f":"IF(E498<>\"\",E498/'Project Summary'!$C$9,\"\")","v":""},{"$f":"IF(F498<>\"\",F498/'Project Summary'!$C$10, \"\")","v":""}]
[null,null,null,null,null,null,"",{"$f":"IF(E499<>\"\",E499/'Project Summary'!$C$9,\"\")","v":""},{"$f":"IF(F499<>\"\",F499/'Project Summary'!$C$10, \"\")","v":""}]
[null,null,null,null,null,null,"",{"$f":"IF(E500<>\"\",E500/'Project Summary'!$C$9,\"\")","v":""},{"$f":"IF(F500<>\"\",F500/'Project Summary'!$C$10, \"\")","v":""}]
[null,null,null,null,null,null,"",{"$f":"IF(E501<>\"\",E501/'Project Summary'!$C$9,\"\")","v":""},{"$f":"IF(F501<>\"\",F501/'Project Summary'!$C$10, \"\")","v":""}]
[null,null,null,null,null,null,"",{"$f":"IF(E502<>\"\",E502/'Project Summary'!$C$9,\"\")","v":""},{"$f":"IF(F502<>\"\",F502/'Project Summary'!$C$10, \"\")","v":""}]
[null,null,null,null,null,null,"",{"$f":"IF(E503<>\"\",E503/'Project Summary'!$C$9,\"\")","v":""},{"$f":"IF(F503<>\"\",F503/'Project Summary'!$C$10, \"\")","v":""}]
[null,null,null,null,null,null,"",{"$f":"IF(E504<>\"\",E504/'Project Summary'!$C$9,\"\")","v":""},{"$f":"IF(F504<>\"\",F504/'Project Summary'!$C$10, \"\")","v":""}]
[null,null,null,null,null,null,"",{"$f":"IF(E505<>\"\",E505/'Project Summary'!$C$9,\"\")","v":""},{"$f":"IF(F505<>\"\",F505/'Project Summary'!$C$10, \"\")","v":""}]
[null,null,null,null,null,null,"",{"$f":"IF(E506<>\"\",E506/'Project Summary'!$C$9,\"\")","v":""},{"$f":"IF(F506<>\"\",F506/'Project Summary'!$C$10, \"\")","v":""}]
[null,null,null,null,null,null,"",{"$f":"IF(E507<>\"\",E507/'Project Summary'!$C$9,\"\")","v":""},{"$f":"IF(F507<>\"\",F507/'Project Summary'!$C$10, \"\")","v":""}]
[null,null,null,null,null,null,"",{"$f":"IF(E508<>\"\",E508/'Project Summary'!$C$9,\"\")","v":""},{"$f":"IF(F508<>\"\",F508/'Project Summary'!$C$10, \"\")","v":""}]
[null,null,null,null,null,null,"",{"$f":"IF(E509<>\"\",E509/'Project Summary'!$C$9,\"\")","v":""},{"$f":"IF(F509<>\"\",F509/'Project Summary'!$C$10, \"\")","v":""}]
[null,null,null,null,null,null,"",{"$f":"IF(E510<>\"\",E510/'Project Summary'!$C$9,\"\")","v":""},{"$f":"IF(F510<>\"\",F510/'Project Summary'!$C$10, \"\")","v":""}]
[null,null,null,null,null,null,"",{"$f":"IF(E511<>\"\",E511/'Project Summary'!$C$9,\"\")","v":""},{"$f":"IF(F511<>\"\",F511/'Project Summary'!$C$10, \"\")","v":""}]
[null,null,null,null,null,null,"",{"$f":"IF(E512<>\"\",E512/'Project Summary'!$C$9,\"\")","v":""},{"$f":"IF(F512<>\"\",F512/'Project Summary'!$C$10, \"\")","v":""}]
[null,null,null,null,null,null,"",{"$f":"IF(E513<>\"\",E513/'Project Summary'!$C$9,\"\")","v":""},{"$f":"IF(F513<>\"\",F513/'Project Summary'!$C$10, \"\")","v":""}]
[null,null,null,null,null,null,"",{"$f":"IF(E514<>\"\",E514/'Project Summary'!$C$9,\"\")","v":""},{"$f":"IF(F514<>\"\",F514/'Project Summary'!$C$10, \"\")","v":""}]
[null,null,null,null,null,null,"",{"$f":"IF(E515<>\"\",E515/'Project Summary'!$C$9,\"\")","v":""},{"$f":"IF(F515<>\"\",F515/'Project Summary'!$C$10, \"\")","v":""}]
[null,null,null,null,null,null,"",{"$f":"IF(E516<>\"\",E516/'Project Summary'!$C$9,\"\")","v":""},{"$f":"IF(F516<>\"\",F516/'Project Summary'!$C$10, \"\")","v":""}]
[null,null,null,null,null,null,"",{"$f":"IF(E517<>\"\",E517/'Project Summary'!$C$9,\"\")","v":""},{"$f":"IF(F517<>\"\",F517/'Project Summary'!$C$10, \"\")","v":""}]
[null,null,null,null,null,null,"",{"$f":"IF(E518<>\"\",E518/'Project Summary'!$C$9,\"\")","v":""},{"$f":"IF(F518<>\"\",F518/'Project Summary'!$C$10, \"\")","v":""}]
[null,null,null,null,null,null,"",{"$f":"IF(E519<>\"\",E519/'Project Summary'!$C$9,\"\")","v":""},{"$f":"IF(F519<>\"\",F519/'Project Summary'!$C$10, \"\")","v":""}]
[null,null,null,null,null,null,"",{"$f":"IF(E520<>\"\",E520/'Project Summary'!$C$9,\"\")","v":""},{"$f":"IF(F520<>\"\",F520/'Project Summary'!$C$10, \"\")","v":""}]
[null,null,null,null,null,null,"",{"$f":"IF(E521<>\"\",E521/'Project Summary'!$C$9,\"\")","v":""},{"$f":"IF(F521<>\"\",F521/'Project Summary'!$C$10, \"\")","v":""}]
[null,null,null,null,null,null,"",{"$f":"IF(E522<>\"\",E522/'Project Summary'!$C$9,\"\")","v":""},{"$f":"IF(F522<>\"\",F522/'Project Summary'!$C$10, \"\")","v":""}]
[null,null,null,null,null,null,"",{"$f":"IF(E523<>\"\",E523/'Project Summary'!$C$9,\"\")","v":""},{"$f":"IF(F523<>\"\",F523/'Project Summary'!$C$10, \"\")","v":""}]
[null,null,null,null,null,null,{"$f":"IF(D524<>\"\", D524/E524, \"\")","v":""},{"$f":"IF(E524<>\"\",E524/'Project Summary'!$C$9,\"\")","v":""},{"$f":"IF(F524<>\"\",F524/'Project Summary'!$C$10, \"\")","v":""}]
[null,null,null,null,null,null,"",{"$f":"IF(E525<>\"\",E525/'Project Summary'!$C$9,\"\")","v":""},{"$f":"IF(F525<>\"\",F525/'Project Summary'!$C$10, \"\")","v":""}]
[null,null,null,null,null,null,"",{"$f":"IF(E526<>\"\",E526/'Project Summary'!$C$9,\"\")","v":""},{"$f":"IF(F526<>\"\",F526/'Project Summary'!$C$10, \"\")","v":""}]
[null,null,null,null,null,null,"",{"$f":"IF(E527<>\"\",E527/'Project Summary'!$C$9,\"\")","v":""},{"$f":"IF(F527<>\"\",F527/'Project Summary'!$C$10, \"\")","v":""}]
[null,null,null,null,null,null,"",{"$f":"IF(E528<>\"\",E528/'Project Summary'!$C$9,\"\")","v":""},{"$f":"IF(F528<>\"\",F528/'Project Summary'!$C$10, \"\")","v":""}]
[null,null,null,null,null,null,"",{"$f":"IF(E529<>\"\",E529/'Project Summary'!$C$9,\"\")","v":""},{"$f":"IF(F529<>\"\",F529/'Project Summary'!$C$10, \"\")","v":""}]
[null,null,null,null,null,null,"",{"$f":"IF(E530<>\"\",E530/'Project Summary'!$C$9,\"\")","v":""},{"$f":"IF(F530<>\"\",F530/'Project Summary'!$C$10, \"\")","v":""}]
[null,null,null,null,null,null,"",{"$f":"IF(E531<>\"\",E531/'Project Summary'!$C$9,\"\")","v":""},{"$f":"IF(F531<>\"\",F531/'Project Summary'!$C$10, \"\")","v":""}]
[null,null,null,null,null,null,"",{"$f":"IF(E532<>\"\",E532/'Project Summary'!$C$9,\"\")","v":""},{"$f":"IF(F532<>\"\",F532/'Project Summary'!$C$10, \"\")","v":""}]
[null,null,null,null,null,null,"",{"$f":"IF(E533<>\"\",E533/'Project Summary'!$C$9,\"\")","v":""},{"$f":"IF(F533<>\"\",F533/'Project Summary'!$C$10, \"\")","v":""}]
[null,null,null,null,null,null,"",{"$f":"IF(E534<>\"\",E534/'Project Summary'!$C$9,\"\")","v":""},{"$f":"IF(F534<>\"\",F534/'Project Summary'!$C$10, \"\")","v":""}]
[null,null,null,null,null,null,"",{"$f":"IF(E535<>\"\",E535/'Project Summary'!$C$9,\"\")","v":""},{"$f":"IF(F535<>\"\",F535/'Project Summary'!$C$10, \"\")","v":""}]
[null,null,null,null,null,null,"",{"$f":"IF(E536<>\"\",E536/'Project Summary'!$C$9,\"\")","v":""},{"$f":"IF(F536<>\"\",F536/'Project Summary'!$C$10, \"\")","v":""}]
[null,null,null,null,null,null,"",{"$f":"IF(E537<>\"\",E537/'Project Summary'!$C$9,\"\")","v":""},{"$f":"IF(F537<>\"\",F537/'Project Summary'!$C$10, \"\")","v":""}]
[null,null,null,null,null,null,"",{"$f":"IF(E538<>\"\",E538/'Project Summary'!$C$9,\"\")","v":""},{"$f":"IF(F538<>\"\",F538/'Project Summary'!$C$10, \"\")","v":""}]
[null,null,null,null,null,null,"",{"$f":"IF(E539<>\"\",E539/'Project Summary'!$C$9,\"\")","v":""},{"$f":"IF(F539<>\"\",F539/'Project Summary'!$C$10, \"\")","v":""}]
[null,null,null,null,null,null,"",{"$f":"IF(E540<>\"\",E540/'Project Summary'!$C$9,\"\")","v":""},{"$f":"IF(F540<>\"\",F540/'Project Summary'!$C$10, \"\")","v":""}]
[null,null,null,null,null,null,"",{"$f":"IF(E541<>\"\",E541/'Project Summary'!$C$9,\"\")","v":""},{"$f":"IF(F541<>\"\",F541/'Project Summary'!$C$10, \"\")","v":""}]
[null,null,null,null,null,null,"",{"$f":"IF(E542<>\"\",E542/'Project Summary'!$C$9,\"\")","v":""},{"$f":"IF(F542<>\"\",F542/'Project Summary'!$C$10, \"\")","v":""}]
[null,null,null,null,null,null,"",{"$f":"IF(E543<>\"\",E543/'Project Summary'!$C$9,\"\")","v":""},{"$f":"IF(F543<>\"\",F543/'Project Summary'!$C$10, \"\")","v":""}]
[null,null,null,null,null,null,"",{"$f":"IF(E544<>\"\",E544/'Project Summary'!$C$9,\"\")","v":""},{"$f":"IF(F544<>\"\",F544/'Project Summary'!$C$10, \"\")","v":""}]
[null,null,null,null,null,null,"",{"$f":"IF(E545<>\"\",E545/'Project Summary'!$C$9,\"\")","v":""},{"$f":"IF(F545<>\"\",F545/'Project Summary'!$C$10, \"\")","v":""}]
[null,null,null,null,null,null,"",{"$f":"IF(E546<>\"\",E546/'Project Summary'!$C$9,\"\")","v":""},{"$f":"IF(F546<>\"\",F546/'Project Summary'!$C$10, \"\")","v":""}]
[null,null,null,null,null,null,"",{"$f":"IF(E547<>\"\",E547/'Project Summary'!$C$9,\"\")","v":""},{"$f":"IF(F547<>\"\",F547/'Project Summary'!$C$10, \"\")","v":""}]
[null,null,null,null,null,null,"",{"$f":"IF(E548<>\"\",E548/'Project Summary'!$C$9,\"\")","v":""},{"$f":"IF(F548<>\"\",F548/'Project Summary'!$C$10, \"\")","v":""}]
[null,null,null,null,null,null,"",{"$f":"IF(E549<>\"\",E549/'Project Summary'!$C$9,\"\")","v":""},{"$f":"IF(F549<>\"\",F549/'Project Summary'!$C$10, \"\")","v":""}]
[null,null,null,null,null,null,"",{"$f":"IF(E550<>\"\",E550/'Project Summary'!$C$9,\"\")","v":""},{"$f":"IF(F550<>\"\",F550/'Project Summary'!$C$10, \"\")","v":""}]
[null,null,null,null,null,null,"",{"$f":"IF(E551<>\"\",E551/'Project Summary'!$C$9,\"\")","v":""},{"$f":"IF(F551<>\"\",F551/'Project Summary'!$C$10, \"\")","v":""}]
[null,null,null,null,null,null,"",{"$f":"IF(E552<>\"\",E552/'Project Summary'!$C$9,\"\")","v":""},{"$f":"IF(F552<>\"\",F552/'Project Summary'!$C$10, \"\")","v":""}]
[null,null,null,null,null,null,"",{"$f":"IF(E553<>\"\",E553/'Project Summary'!$C$9,\"\")","v":""},{"$f":"IF(F553<>\"\",F553/'Project Summary'!$C$10, \"\")","v":""}]
[null,null,null,null,null,null,"",{"$f":"IF(E554<>\"\",E554/'Project Summary'!$C$9,\"\")","v":""},{"$f":"IF(F554<>\"\",F554/'Project Summary'!$C$10, \"\")","v":""}]
[null,null,null,null,null,null,"",{"$f":"IF(E555<>\"\",E555/'Project Summary'!$C$9,\"\")","v":""},{"$f":"IF(F555<>\"\",F555/'Project Summary'!$C$10, \"\")","v":""}]
[null,null,null,null,null,null,"",{"$f":"IF(E556<>\"\",E556/'Project Summary'!$C$9,\"\")","v":""},{"$f":"IF(F556<>\"\",F556/'Project Summary'!$C$10, \"\")","v":""}]
[null,null,null,null,null,null,"",{"$f":"IF(E557<>\"\",E557/'Project Summary'!$C$9,\"\")","v":""},{"$f":"IF(F557<>\"\",F557/'Project Summary'!$C$10, \"\")","v":""}]
[null,null,null,null,null,null,"",{"$f":"IF(E558<>\"\",E558/'Project Summary'!$C$9,\"\")","v":""},{"$f":"IF(F558<>\"\",F558/'Project Summary'!$C$10, \"\")","v":""}]
[null,null,null,null,null,null,"",{"$f":"IF(E559<>\"\",E559/'Project Summary'!$C$9,\"\")","v":""},{"$f":"IF(F559<>\"\",F559/'Project Summary'!$C$10, \"\")","v":""}]
[null,null,null,null,null,null,"",{"$f":"IF(E560<>\"\",E560/'Project Summary'!$C$9,\"\")","v":""},{"$f":"IF(F560<>\"\",F560/'Project Summary'!$C$10, \"\")","v":""}]
[null,null,null,null,null,null,"",{"$f":"IF(E561<>\"\",E561/'Project Summary'!$C$9,\"\")","v":""},{"$f":"IF(F561<>\"\",F561/'Project Summary'!$C$10, \"\")","v":""}]
[null,null,null,null,null,null,"",{"$f":"IF(E562<>\"\",E562/'Project Summary'!$C$9,\"\")","v":""},{"$f":"IF(F562<>\"\",F562/'Project Summary'!$C$10, \"\")","v":""}]
[null,null,null,null,null,null,"",{"$f":"IF(E563<>\"\",E563/'Project Summary'!$C$9,\"\")","v":""},{"$f":"IF(F563<>\"\",F563/'Project Summary'!$C$10, \"\")","v":""}]
[null,null,null,null,null,null,"",{"$f":"IF(E564<>\"\",E564/'Project Summary'!$C$9,\"\")","v":""},{"$f":"IF(F564<>\"\",F564/'Project Summary'!$C$10, \"\")","v":""}]
[null,null,null,null,null,null,"",{"$f":"IF(E565<>\"\",E565/'Project Summary'!$C$9,\"\")","v":""},{"$f":"IF(F565<>\"\",F565/'Project Summary'!$C$10, \"\")","v":""}]
[null,null,null,null,null,null,"",{"$f":"IF(E566<>\"\",E566/'Project Summary'!$C$9,\"\")","v":""},{"$f":"IF(F566<>\"\",F566/'Project Summary'!$C$10, \"\")","v":""}]
[null,null,null,null,null,null,"",{"$f":"IF(E567<>\"\",E567/'Project Summary'!$C$9,\"\")","v":""},{"$f":"IF(F567<>\"\",F567/'Project Summary'!$C$10, \"\")","v":""}]
[null,null,null,null,null,null,"",{"$f":"IF(E568<>\"\",E568/'Project Summary'!$C$9,\"\")","v":""},{"$f":"IF(F568<>\"\",F568/'Project Summary'!$C$10, \"\")","v":""}]
[null,null,null,null,null,null,"",{"$f":"IF(E569<>\"\",E569/'Project Summary'!$C$9,\"\")","v":""},{"$f":"IF(F569<>\"\",F569/'Project Summary'!$C$10, \"\")","v":""}]
[null,null,null,null,null,null,"",{"$f":"IF(E570<>\"\",E570/'Project Summary'!$C$9,\"\")","v":""},{"$f":"IF(F570<>\"\",F570/'Project Summary'!$C$10, \"\")","v":""}]
[null,null,null,null,null,null,"",{"$f":"IF(E571<>\"\",E571/'Project Summary'!$C$9,\"\")","v":""},{"$f":"IF(F571<>\"\",F571/'Project Summary'!$C$10, \"\")","v":""}]
[null,null,null,null,null,null,"",{"$f":"IF(E572<>\"\",E572/'Project Summary'!$C$9,\"\")","v":""},{"$f":"IF(F572<>\"\",F572/'Project Summary'!$C$10, \"\")","v":""}]
[null,null,null,null,null,null,"",{"$f":"IF(E573<>\"\",E573/'Project Summary'!$C$9,\"\")","v":""},{"$f":"IF(F573<>\"\",F573/'Project Summary'!$C$10, \"\")","v":""}]
[null,null,null,null,null,null,"",{"$f":"IF(E574<>\"\",E574/'Project Summary'!$C$9,\"\")","v":""},{"$f":"IF(F574<>\"\",F574/'Project Summary'!$C$10, \"\")","v":""}]
[null,null,null,null,null,null,"",{"$f":"IF(E575<>\"\",E575/'Project Summary'!$C$9,\"\")","v":""},{"$f":"IF(F575<>\"\",F575/'Project Summary'!$C$10, \"\")","v":""}]
[null,null,null,null,null,null,"",{"$f":"IF(E576<>\"\",E576/'Project Summary'!$C$9,\"\")","v":""},{"$f":"IF(F576<>\"\",F576/'Project Summary'!$C$10, \"\")","v":""}]
[null,null,null,null,null,null,"",{"$f":"IF(E577<>\"\",E577/'Project Summary'!$C$9,\"\")","v":""},{"$f":"IF(F577<>\"\",F577/'Project Summary'!$C$10, \"\")","v":""}]
[null,null,null,null,null,null,"",{"$f":"IF(E578<>\"\",E578/'Project Summary'!$C$9,\"\")","v":""},{"$f":"IF(F578<>\"\",F578/'Project Summary'!$C$10, \"\")","v":""}]
[null,null,null,null,null,null,"",{"$f":"IF(E579<>\"\",E579/'Project Summary'!$C$9,\"\")","v":""},{"$f":"IF(F579<>\"\",F579/'Project Summary'!$C$10, \"\")","v":""}]
[null,null,null,null,null,null,"",{"$f":"IF(E580<>\"\",E580/'Project Summary'!$C$9,\"\")","v":""},{"$f":"IF(F580<>\"\",F580/'Project Summary'!$C$10, \"\")","v":""}]
[null,null,null,null,null,null,"",{"$f":"IF(E581<>\"\",E581/'Project Summary'!$C$9,\"\")","v":""},{"$f":"IF(F581<>\"\",F581/'Project Summary'!$C$10, \"\")","v":""}]
[null,null,null,null,null,null,"",{"$f":"IF(E582<>\"\",E582/'Project Summary'!$C$9,\"\")","v":""},{"$f":"IF(F582<>\"\",F582/'Project Summary'!$C$10, \"\")","v":""}]
[null,null,null,null,null,null,"",{"$f":"IF(E583<>\"\",E583/'Project Summary'!$C$9,\"\")","v":""},{"$f":"IF(F583<>\"\",F583/'Project Summary'!$C$10, \"\")","v":""}]
[null,null,null,null,null,null,"",{"$f":"IF(E584<>\"\",E584/'Project Summary'!$C$9,\"\")","v":""},{"$f":"IF(F584<>\"\",F584/'Project Summary'!$C$10, \"\")","v":""}]
[null,null,null,null,null,null,"",{"$f":"IF(E585<>\"\",E585/'Project Summary'!$C$9,\"\")","v":""},{"$f":"IF(F585<>\"\",F585/'Project Summary'!$C$10, \"\")","v":""}]
[null,null,null,null,null,null,"",{"$f":"IF(E586<>\"\",E586/'Project Summary'!$C$9,\"\")","v":""},{"$f":"IF(F586<>\"\",F586/'Project Summary'!$C$10, \"\")","v":""}]
[null,null,null,null,null,null,"",{"$f":"IF(E587<>\"\",E587/'Project Summary'!$C$9,\"\")","v":""},{"$f":"IF(F587<>\"\",F587/'Project Summary'!$C$10, \"\")","v":""}]
[null,null,null,null,null,null,{"$f":"IF(D588<>\"\", D588/E588, \"\")","v":""},{"$f":"IF(E588<>\"\",E588/'Project Summary'!$C$9,\"\")","v":""},{"$f":"IF(F588<>\"\",F588/'Project Summary'!$C$10, \"\")","v":""}]
[null,null,null,null,null,null,"",{"$f":"IF(E589<>\"\",E589/'Project Summary'!$C$9,\"\")","v":""},{"$f":"IF(F589<>\"\",F589/'Project Summary'!$C$10, \"\")","v":""}]
[null,null,null,null,null,null,"",{"$f":"IF(E590<>\"\",E590/'Project Summary'!$C$9,\"\")","v":""},{"$f":"IF(F590<>\"\",F590/'Project Summary'!$C$10, \"\")","v":""}]
[null,null,null,null,null,null,"",{"$f":"IF(E591<>\"\",E591/'Project Summary'!$C$9,\"\")","v":""},{"$f":"IF(F591<>\"\",F591/'Project Summary'!$C$10, \"\")","v":""}]
[null,null,null,null,null,null,"",{"$f":"IF(E592<>\"\",E592/'Project Summary'!$C$9,\"\")","v":""},{"$f":"IF(F592<>\"\",F592/'Project Summary'!$C$10, \"\")","v":""}]
[null,null,null,null,null,null,"",{"$f":"IF(E593<>\"\",E593/'Project Summary'!$C$9,\"\")","v":""},{"$f":"IF(F593<>\"\",F593/'Project Summary'!$C$10, \"\")","v":""}]
[null,null,null,null,null,null,"",{"$f":"IF(E594<>\"\",E594/'Project Summary'!$C$9,\"\")","v":""},{"$f":"IF(F594<>\"\",F594/'Project Summary'!$C$10, \"\")","v":""}]
[null,null,null,null,null,null,"",{"$f":"IF(E595<>\"\",E595/'Project Summary'!$C$9,\"\")","v":""},{"$f":"IF(F595<>\"\",F595/'Project Summary'!$C$10, \"\")","v":""}]
[null,null,null,null,null,null,"",{"$f":"IF(E596<>\"\",E596/'Project Summary'!$C$9,\"\")","v":""},{"$f":"IF(F596<>\"\",F596/'Project Summary'!$C$10, \"\")","v":""}]
[null,null,null,null,null,null,"",{"$f":"IF(E597<>\"\",E597/'Project Summary'!$C$9,\"\")","v":""},{"$f":"IF(F597<>\"\",F597/'Project Summary'!$C$10, \"\")","v":""}]
[null,null,null,null,null,null,"",{"$f":"IF(E598<>\"\",E598/'Project Summary'!$C$9,\"\")","v":""},{"$f":"IF(F598<>\"\",F598/'Project Summary'!$C$10, \"\")","v":""}]
[null,null,null,null,null,null,"",{"$f":"IF(E599<>\"\",E599/'Project Summary'!$C$9,\"\")","v":""},{"$f":"IF(F599<>\"\",F599/'Project Summary'!$C$10, \"\")","v":""}]
[null,null,null,null,null,null,"",{"$f":"IF(E600<>\"\",E600/'Project Summary'!$C$9,\"\")","v":""},{"$f":"IF(F600<>\"\",F600/'Project Summary'!$C$10, \"\")","v":""}]
[null,null,null,null,null,null,"",{"$f":"IF(E601<>\"\",E601/'Project Summary'!$C$9,\"\")","v":""},{"$f":"IF(F601<>\"\",F601/'Project Summary'!$C$10, \"\")","v":""}]
[null,null,null,null,null,null,"",{"$f":"IF(E602<>\"\",E602/'Project Summary'!$C$9,\"\")","v":""},{"$f":"IF(F602<>\"\",F602/'Project Summary'!$C$10, \"\")","v":""}]
[null,null,null,null,null,null,"",{"$f":"IF(E603<>\"\",E603/'Project Summary'!$C$9,\"\")","v":""},{"$f":"IF(F603<>\"\",F603/'Project Summary'!$C$10, \"\")","v":""}]
[null,null,null,null,null,null,"",{"$f":"IF(E604<>\"\",E604/'Project Summary'!$C$9,\"\")","v":""},{"$f":"IF(F604<>\"\",F604/'Project Summary'!$C$10, \"\")","v":""}]
[null,null,null,null,null,null,"",{"$f":"IF(E605<>\"\",E605/'Project Summary'!$C$9,\"\")","v":""},{"$f":"IF(F605<>\"\",F605/'Project Summary'!$C$10, \"\")","v":""}]
[null,null,null,null,null,null,"",{"$f":"IF(E606<>\"\",E606/'Project Summary'!$C$9,\"\")","v":""},{"$f":"IF(F606<>\"\",F606/'Project Summary'!$C$10, \"\")","v":""}]
[null,null,null,null,null,null,"",{"$f":"IF(E607<>\"\",E607/'Project Summary'!$C$9,\"\")","v":""},{"$f":"IF(F607<>\"\",F607/'Project Summary'!$C$10, \"\")","v":""}]
[null,null,null,null,null,null,"",{"$f":"IF(E608<>\"\",E608/'Project Summary'!$C$9,\"\")","v":""},{"$f":"IF(F608<>\"\",F608/'Project Summary'!$C$10, \"\")","v":""}]
[null,null,null,null,null,null,"",{"$f":"IF(E609<>\"\",E609/'Project Summary'!$C$9,\"\")","v":""},{"$f":"IF(F609<>\"\",F609/'Project Summary'!$C$10, \"\")","v":""}]
[null,null,null,null,null,null,"",{"$f":"IF(E610<>\"\",E610/'Project Summary'!$C$9,\"\")","v":""},{"$f":"IF(F610<>\"\",F610/'Project Summary'!$C$10, \"\")","v":""}]
[null,null,null,null,null,null,"",{"$f":"IF(E611<>\"\",E611/'Project Summary'!$C$9,\"\")","v":""},{"$f":"IF(F611<>\"\",F611/'Project Summary'!$C$10, \"\")","v":""}]
[null,null,null,null,null,null,"",{"$f":"IF(E612<>\"\",E612/'Project Summary'!$C$9,\"\")","v":""},{"$f":"IF(F612<>\"\",F612/'Project Summary'!$C$10, \"\")","v":""}]
[null,null,null,null,null,null,"",{"$f":"IF(E613<>\"\",E613/'Project Summary'!$C$9,\"\")","v":""},{"$f":"IF(F613<>\"\",F613/'Project Summary'!$C$10, \"\")","v":""}]
[null,null,null,null,null,null,"",{"$f":"IF(E614<>\"\",E614/'Project Summary'!$C$9,\"\")","v":""},{"$f":"IF(F614<>\"\",F614/'Project Summary'!$C$10, \"\")","v":""}]
[null,null,null,null,null,null,"",{"$f":"IF(E615<>\"\",E615/'Project Summary'!$C$9,\"\")","v":""},{"$f":"IF(F615<>\"\",F615/'Project Summary'!$C$10, \"\")","v":""}]
[null,null,null,null,null,null,"",{"$f":"IF(E616<>\"\",E616/'Project Summary'!$C$9,\"\")","v":""},{"$f":"IF(F616<>\"\",F616/'Project Summary'!$C$10, \"\")","v":""}]
[null,null,null,null,null,null,"",{"$f":"IF(E617<>\"\",E617/'Project Summary'!$C$9,\"\")","v":""},{"$f":"IF(F617<>\"\",F617/'Project Summary'!$C$10, \"\")","v":""}]
[null,null,null,null,null,null,"",{"$f":"IF(E618<>\"\",E618/'Project Summary'!$C$9,\"\")","v":""},{"$f":"IF(F618<>\"\",F618/'Project Summary'!$C$10, \"\")","v":""}]
[null,null,null,null,null,null,"",{"$f":"IF(E619<>\"\",E619/'Project Summary'!$C$9,\"\")","v":""},{"$f":"IF(F619<>\"\",F619/'Project Summary'!$C$10, \"\")","v":""}]
[null,null,null,null,null,null,"",{"$f":"IF(E620<>\"\",E620/'Project Summary'!$C$9,\"\")","v":""},{"$f":"IF(F620<>\"\",F620/'Project Summary'!$C$10, \"\")","v":""}]
[null,null,null,null,null,null,"",{"$f":"IF(E621<>\"\",E621/'Project Summary'!$C$9,\"\")","v":""},{"$f":"IF(F621<>\"\",F621/'Project Summary'!$C$10, \"\")","v":""}]
[null,null,null,null,null,null,"",{"$f":"IF(E622<>\"\",E622/'Project Summary'!$C$9,\"\")","v":""},{"$f":"IF(F622<>\"\",F622/'Project Summary'!$C$10, \"\")","v":""}]
[null,null,null,null,null,null,"",{"$f":"IF(E623<>\"\",E623/'Project Summary'!$C$9,\"\")","v":""},{"$f":"IF(F623<>\"\",F623/'Project Summary'!$C$10, \"\")","v":""}]
[null,null,null,null,null,null,"",{"$f":"IF(E624<>\"\",E624/'Project Summary'!$C$9,\"\")","v":""},{"$f":"IF(F624<>\"\",F624/'Project Summary'!$C$10, \"\")","v":""}]
[null,null,null,null,null,null,"",{"$f":"IF(E625<>\"\",E625/'Project Summary'!$C$9,\"\")","v":""},{"$f":"IF(F625<>\"\",F625/'Project Summary'!$C$10, \"\")","v":""}]
[null,null,null,null,null,null,"",{"$f":"IF(E626<>\"\",E626/'Project Summary'!$C$9,\"\")","v":""},{"$f":"IF(F626<>\"\",F626/'Project Summary'!$C$10, \"\")","v":""}]
[null,null,null,null,null,null,"",{"$f":"IF(E627<>\"\",E627/'Project Summary'!$C$9,\"\")","v":""},{"$f":"IF(F627<>\"\",F627/'Project Summary'!$C$10, \"\")","v":""}]
[null,null,null,null,null,null,"",{"$f":"IF(E628<>\"\",E628/'Project Summary'!$C$9,\"\")","v":""},{"$f":"IF(F628<>\"\",F628/'Project Summary'!$C$10, \"\")","v":""}]
[null,null,null,null,null,null,"",{"$f":"IF(E629<>\"\",E629/'Project Summary'!$C$9,\"\")","v":""},{"$f":"IF(F629<>\"\",F629/'Project Summary'!$C$10, \"\")","v":""}]
[null,null,null,null,null,null,"",{"$f":"IF(E630<>\"\",E630/'Project Summary'!$C$9,\"\")","v":""},{"$f":"IF(F630<>\"\",F630/'Project Summary'!$C$10, \"\")","v":""}]
[null,null,null,null,null,null,"",{"$f":"IF(E631<>\"\",E631/'Project Summary'!$C$9,\"\")","v":""},{"$f":"IF(F631<>\"\",F631/'Project Summary'!$C$10, \"\")","v":""}]
[null,null,null,null,null,null,"",{"$f":"IF(E632<>\"\",E632/'Project Summary'!$C$9,\"\")","v":""},{"$f":"IF(F632<>\"\",F632/'Project Summary'!$C$10, \"\")","v":""}]
[null,null,null,null,null,null,"",{"$f":"IF(E633<>\"\",E633/'Project Summary'!$C$9,\"\")","v":""},{"$f":"IF(F633<>\"\",F633/'Project Summary'!$C$10, \"\")","v":""}]
[null,null,null,null,null,null,"",{"$f":"IF(E634<>\"\",E634/'Project Summary'!$C$9,\"\")","v":""},{"$f":"IF(F634<>\"\",F634/'Project Summary'!$C$10, \"\")","v":""}]
[null,null,null,null,null,null,"",{"$f":"IF(E635<>\"\",E635/'Project Summary'!$C$9,\"\")","v":""},{"$f":"IF(F635<>\"\",F635/'Project Summary'!$C$10, \"\")","v":""}]
[null,null,null,null,null,null,"",{"$f":"IF(E636<>\"\",E636/'Project Summary'!$C$9,\"\")","v":""},{"$f":"IF(F636<>\"\",F636/'Project Summary'!$C$10, \"\")","v":""}]
[null,null,null,null,null,null,"",{"$f":"IF(E637<>\"\",E637/'Project Summary'!$C$9,\"\")","v":""},{"$f":"IF(F637<>\"\",F637/'Project Summary'!$C$10, \"\")","v":""}]
[null,null,null,null,null,null,"",{"$f":"IF(E638<>\"\",E638/'Project Summary'!$C$9,\"\")","v":""},{"$f":"IF(F638<>\"\",F638/'Project Summary'!$C$10, \"\")","v":""}]
[null,null,null,null,null,null,"",{"$f":"IF(E639<>\"\",E639/'Project Summary'!$C$9,\"\")","v":""},{"$f":"IF(F639<>\"\",F639/'Project Summary'!$C$10, \"\")","v":""}]
[null,null,null,null,null,null,"",{"$f":"IF(E640<>\"\",E640/'Project Summary'!$C$9,\"\")","v":""},{"$f":"IF(F640<>\"\",F640/'Project Summary'!$C$10, \"\")","v":""}]
[null,null,null,null,null,null,"",{"$f":"IF(E641<>\"\",E641/'Project Summary'!$C$9,\"\")","v":""},{"$f":"IF(F641<>\"\",F641/'Project Summary'!$C$10, \"\")","v":""}]
[null,null,null,null,null,null,"",{"$f":"IF(E642<>\"\",E642/'Project Summary'!$C$9,\"\")","v":""},{"$f":"IF(F642<>\"\",F642/'Project Summary'!$C$10, \"\")","v":""}]
[null,null,null,null,null,null,"",{"$f":"IF(E643<>\"\",E643/'Project Summary'!$C$9,\"\")","v":""},{"$f":"IF(F643<>\"\",F643/'Project Summary'!$C$10, \"\")","v":""}]
[null,null,null,null,null,null,"",{"$f":"IF(E644<>\"\",E644/'Project Summary'!$C$9,\"\")","v":""},{"$f":"IF(F644<>\"\",F644/'Project Summary'!$C$10, \"\")","v":""}]
[null,null,null,null,null,null,"",{"$f":"IF(E645<>\"\",E645/'Project Summary'!$C$9,\"\")","v":""},{"$f":"IF(F645<>\"\",F645/'Project Summary'!$C$10, \"\")","v":""}]
[null,null,null,null,null,null,"",{"$f":"IF(E646<>\"\",E646/'Project Summary'!$C$9,\"\")","v":""},{"$f":"IF(F646<>\"\",F646/'Project Summary'!$C$10, \"\")","v":""}]
[null,null,null,null,null,null,"",{"$f":"IF(E647<>\"\",E647/'Project Summary'!$C$9,\"\")","v":""},{"$f":"IF(F647<>\"\",F647/'Project Summary'!$C$10, \"\")","v":""}]
[null,null,null,null,null,null,"",{"$f":"IF(E648<>\"\",E648/'Project Summary'!$C$9,\"\")","v":""},{"$f":"IF(F648<>\"\",F648/'Project Summary'!$C$10, \"\")","v":""}]
[null,null,null,null,null,null,"",{"$f":"IF(E649<>\"\",E649/'Project Summary'!$C$9,\"\")","v":""},{"$f":"IF(F649<>\"\",F649/'Project Summary'!$C$10, \"\")","v":""}]
[null,null,null,null,null,null,"",{"$f":"IF(E650<>\"\",E650/'Project Summary'!$C$9,\"\")","v":""},{"$f":"IF(F650<>\"\",F650/'Project Summary'!$C$10, \"\")","v":""}]
[null,null,null,null,null,null,"",{"$f":"IF(E651<>\"\",E651/'Project Summary'!$C$9,\"\")","v":""},{"$f":"IF(F651<>\"\",F651/'Project Summary'!$C$10, \"\")","v":""}]
[null,null,null,null,null,null,{"$f":"IF(D652<>\"\", D652/E652, \"\")","v":""},{"$f":"IF(E652<>\"\",E652/'Project Summary'!$C$9,\"\")","v":""},{"$f":"IF(F652<>\"\",F652/'Project Summary'!$C$10, \"\")","v":""}]
[null,null,null,null,null,null,"",{"$f":"IF(E653<>\"\",E653/'Project Summary'!$C$9,\"\")","v":""},{"$f":"IF(F653<>\"\",F653/'Project Summary'!$C$10, \"\")","v":""}]
[null,null,null,null,null,null,"",{"$f":"IF(E654<>\"\",E654/'Project Summary'!$C$9,\"\")","v":""},{"$f":"IF(F654<>\"\",F654/'Project Summary'!$C$10, \"\")","v":""}]
[null,null,null,null,null,null,"",{"$f":"IF(E655<>\"\",E655/'Project Summary'!$C$9,\"\")","v":""},{"$f":"IF(F655<>\"\",F655/'Project Summary'!$C$10, \"\")","v":""}]
[null,null,null,null,null,null,"",{"$f":"IF(E656<>\"\",E656/'Project Summary'!$C$9,\"\")","v":""},{"$f":"IF(F656<>\"\",F656/'Project Summary'!$C$10, \"\")","v":""}]
[null,null,null,null,null,null,"",{"$f":"IF(E657<>\"\",E657/'Project Summary'!$C$9,\"\")","v":""},{"$f":"IF(F657<>\"\",F657/'Project Summary'!$C$10, \"\")","v":""}]
[null,null,null,null,null,null,"",{"$f":"IF(E658<>\"\",E658/'Project Summary'!$C$9,\"\")","v":""},{"$f":"IF(F658<>\"\",F658/'Project Summary'!$C$10, \"\")","v":""}]
[null,null,null,null,null,null,"",{"$f":"IF(E659<>\"\",E659/'Project Summary'!$C$9,\"\")","v":""},{"$f":"IF(F659<>\"\",F659/'Project Summary'!$C$10, \"\")","v":""}]
[null,null,null,null,null,null,"",{"$f":"IF(E660<>\"\",E660/'Project Summary'!$C$9,\"\")","v":""},{"$f":"IF(F660<>\"\",F660/'Project Summary'!$C$10, \"\")","v":""}]
[null,null,null,null,null,null,"",{"$f":"IF(E661<>\"\",E661/'Project Summary'!$C$9,\"\")","v":""},{"$f":"IF(F661<>\"\",F661/'Project Summary'!$C$10, \"\")","v":""}]
[null,null,null,null,null,null,"",{"$f":"IF(E662<>\"\",E662/'Project Summary'!$C$9,\"\")","v":""},{"$f":"IF(F662<>\"\",F662/'Project Summary'!$C$10, \"\")","v":""}]
[null,null,null,null,null,null,"",{"$f":"IF(E663<>\"\",E663/'Project Summary'!$C$9,\"\")","v":""},{"$f":"IF(F663<>\"\",F663/'Project Summary'!$C$10, \"\")","v":""}]
[null,null,null,null,null,null,"",{"$f":"IF(E664<>\"\",E664/'Project Summary'!$C$9,\"\")","v":""},{"$f":"IF(F664<>\"\",F664/'Project Summary'!$C$10, \"\")","v":""}]
[null,null,null,null,null,null,"",{"$f":"IF(E665<>\"\",E665/'Project Summary'!$C$9,\"\")","v":""},{"$f":"IF(F665<>\"\",F665/'Project Summary'!$C$10, \"\")","v":""}]
[null,null,null,null,null,null,"",{"$f":"IF(E666<>\"\",E666/'Project Summary'!$C$9,\"\")","v":""},{"$f":"IF(F666<>\"\",F666/'Project Summary'!$C$10, \"\")","v":""}]
[null,null,null,null,null,null,"",{"$f":"IF(E667<>\"\",E667/'Project Summary'!$C$9,\"\")","v":""},{"$f":"IF(F667<>\"\",F667/'Project Summary'!$C$10, \"\")","v":""}]
[null,null,null,null,null,null,"",{"$f":"IF(E668<>\"\",E668/'Project Summary'!$C$9,\"\")","v":""},{"$f":"IF(F668<>\"\",F668/'Project Summary'!$C$10, \"\")","v":""}]
[null,null,null,null,null,null,"",{"$f":"IF(E669<>\"\",E669/'Project Summary'!$C$9,\"\")","v":""},{"$f":"IF(F669<>\"\",F669/'Project Summary'!$C$10, \"\")","v":""}]
[null,null,null,null,null,null,"",{"$f":"IF(E670<>\"\",E670/'Project Summary'!$C$9,\"\")","v":""},{"$f":"IF(F670<>\"\",F670/'Project Summary'!$C$10, \"\")","v":""}]
[null,null,null,null,null,null,"",{"$f":"IF(E671<>\"\",E671/'Project Summary'!$C$9,\"\")","v":""},{"$f":"IF(F671<>\"\",F671/'Project Summary'!$C$10, \"\")","v":""}]
[null,null,null,null,null,null,"",{"$f":"IF(E672<>\"\",E672/'Project Summary'!$C$9,\"\")","v":""},{"$f":"IF(F672<>\"\",F672/'Project Summary'!$C$10, \"\")","v":""}]
[null,null,null,null,null,null,"",{"$f":"IF(E673<>\"\",E673/'Project Summary'!$C$9,\"\")","v":""},{"$f":"IF(F673<>\"\",F673/'Project Summary'!$C$10, \"\")","v":""}]
[null,null,null,null,null,null,"",{"$f":"IF(E674<>\"\",E674/'Project Summary'!$C$9,\"\")","v":""},{"$f":"IF(F674<>\"\",F674/'Project Summary'!$C$10, \"\")","v":""}]
[null,null,null,null,null,null,"",{"$f":"IF(E675<>\"\",E675/'Project Summary'!$C$9,\"\")","v":""},{"$f":"IF(F675<>\"\",F675/'Project Summary'!$C$10, \"\")","v":""}]
[null,null,null,null,null,null,"",{"$f":"IF(E676<>\"\",E676/'Project Summary'!$C$9,\"\")","v":""},{"$f":"IF(F676<>\"\",F676/'Project Summary'!$C$10, \"\")","v":""}]
[null,null,null,null,null,null,"",{"$f":"IF(E677<>\"\",E677/'Project Summary'!$C$9,\"\")","v":""},{"$f":"IF(F677<>\"\",F677/'Project Summary'!$C$10, \"\")","v":""}]
[null,null,null,null,null,null,"",{"$f":"IF(E678<>\"\",E678/'Project Summary'!$C$9,\"\")","v":""},{"$f":"IF(F678<>\"\",F678/'Project Summary'!$C$10, \"\")","v":""}]
[null,null,null,null,null,null,"",{"$f":"IF(E679<>\"\",E679/'Project Summary'!$C$9,\"\")","v":""},{"$f":"IF(F679<>\"\",F679/'Project Summary'!$C$10, \"\")","v":""}]
[null,null,null,null,null,null,"",{"$f":"IF(E680<>\"\",E680/'Project Summary'!$C$9,\"\")","v":""},{"$f":"IF(F680<>\"\",F680/'Project Summary'!$C$10, \"\")","v":""}]
[null,null,null,null,null,null,"",{"$f":"IF(E681<>\"\",E681/'Project Summary'!$C$9,\"\")","v":""},{"$f":"IF(F681<>\"\",F681/'Project Summary'!$C$10, \"\")","v":""}]
[null,null,null,null,null,null,"",{"$f":"IF(E682<>\"\",E682/'Project Summary'!$C$9,\"\")","v":""},{"$f":"IF(F682<>\"\",F682/'Project Summary'!$C$10, \"\")","v":""}]
[null,null,null,null,null,null,"",{"$f":"IF(E683<>\"\",E683/'Project Summary'!$C$9,\"\")","v":""},{"$f":"IF(F683<>\"\",F683/'Project Summary'!$C$10, \"\")","v":""}]
[null,null,null,null,null,null,"",{"$f":"IF(E684<>\"\",E684/'Project Summary'!$C$9,\"\")","v":""},{"$f":"IF(F684<>\"\",F684/'Project Summary'!$C$10, \"\")","v":""}]
[null,null,null,null,null,null,"",{"$f":"IF(E685<>\"\",E685/'Project Summary'!$C$9,\"\")","v":""},{"$f":"IF(F685<>\"\",F685/'Project Summary'!$C$10, \"\")","v":""}]
[null,null,null,null,null,null,"",{"$f":"IF(E686<>\"\",E686/'Project Summary'!$C$9,\"\")","v":""},{"$f":"IF(F686<>\"\",F686/'Project Summary'!$C$10, \"\")","v":""}]
[null,null,null,null,null,null,"",{"$f":"IF(E687<>\"\",E687/'Project Summary'!$C$9,\"\")","v":""},{"$f":"IF(F687<>\"\",F687/'Project Summary'!$C$10, \"\")","v":""}]
[null,null,null,null,null,null,"",{"$f":"IF(E688<>\"\",E688/'Project Summary'!$C$9,\"\")","v":""},{"$f":"IF(F688<>\"\",F688/'Project Summary'!$C$10, \"\")","v":""}]
[null,null,null,null,null,null,"",{"$f":"IF(E689<>\"\",E689/'Project Summary'!$C$9,\"\")","v":""},{"$f":"IF(F689<>\"\",F689/'Project Summary'!$C$10, \"\")","v":""}]
[null,null,null,null,null,null,"",{"$f":"IF(E690<>\"\",E690/'Project Summary'!$C$9,\"\")","v":""},{"$f":"IF(F690<>\"\",F690/'Project Summary'!$C$10, \"\")","v":""}]
[null,null,null,null,null,null,"",{"$f":"IF(E691<>\"\",E691/'Project Summary'!$C$9,\"\")","v":""},{"$f":"IF(F691<>\"\",F691/'Project Summary'!$C$10, \"\")","v":""}]
[null,null,null,null,null,null,"",{"$f":"IF(E692<>\"\",E692/'Project Summary'!$C$9,\"\")","v":""},{"$f":"IF(F692<>\"\",F692/'Project Summary'!$C$10, \"\")","v":""}]
[null,null,null,null,null,null,"",{"$f":"IF(E693<>\"\",E693/'Project Summary'!$C$9,\"\")","v":""},{"$f":"IF(F693<>\"\",F693/'Project Summary'!$C$10, \"\")","v":""}]
[null,null,null,null,null,null,"",{"$f":"IF(E694<>\"\",E694/'Project Summary'!$C$9,\"\")","v":""},{"$f":"IF(F694<>\"\",F694/'Project Summary'!$C$10, \"\")","v":""}]
[null,null,null,null,null,null,"",{"$f":"IF(E695<>\"\",E695/'Project Summary'!$C$9,\"\")","v":""},{"$f":"IF(F695<>\"\",F695/'Project Summary'!$C$10, \"\")","v":""}]
[null,null,null,null,null,null,"",{"$f":"IF(E696<>\"\",E696/'Project Summary'!$C$9,\"\")","v":""},{"$f":"IF(F696<>\"\",F696/'Project Summary'!$C$10, \"\")","v":""}]
[null,null,null,null,null,null,"",{"$f":"IF(E697<>\"\",E697/'Project Summary'!$C$9,\"\")","v":""},{"$f":"IF(F697<>\"\",F697/'Project Summary'!$C$10, \"\")","v":""}]
[null,null,null,null,null,null,"",{"$f":"IF(E698<>\"\",E698/'Project Summary'!$C$9,\"\")","v":""},{"$f":"IF(F698<>\"\",F698/'Project Summary'!$C$10, \"\")","v":""}]
[null,null,null,null,null,null,"",{"$f":"IF(E699<>\"\",E699/'Project Summary'!$C$9,\"\")","v":""},{"$f":"IF(F699<>\"\",F699/'Project Summary'!$C$10, \"\")","v":""}]
[null,null,null,null,null,null,"",{"$f":"IF(E700<>\"\",E700/'Project Summary'!$C$9,\"\")","v":""},{"$f":"IF(F700<>\"\",F700/'Project Summary'!$C$10, \"\")","v":""}]
[null,null,null,null,null,null,"",{"$f":"IF(E701<>\"\",E701/'Project Summary'!$C$9,\"\")","v":""},{"$f":"IF(F701<>\"\",F701/'Project Summary'!$C$10, \"\")","v":""}]
[null,null,null,null,null,null,"",{"$f":"IF(E702<>\"\",E702/'Project Summary'!$C$9,\"\")","v":""},{"$f":"IF(F702<>\"\",F702/'Project Summary'!$C$10, \"\")","v":""}]
[null,null,null,null,null,null,"",{"$f":"IF(E703<>\"\",E703/'Project Summary'!$C$9,\"\")","v":""},{"$f":"IF(F703<>\"\",F703/'Project Summary'!$C$10, \"\")","v":""}]
[null,null,null,null,null,null,"",{"$f":"IF(E704<>\"\",E704/'Project Summary'!$C$9,\"\")","v":""},{"$f":"IF(F704<>\"\",F704/'Project Summary'!$C$10, \"\")","v":""}]
[null,null,null,null,null,null,"",{"$f":"IF(E705<>\"\",E705/'Project Summary'!$C$9,\"\")","v":""},{"$f":"IF(F705<>\"\",F705/'Project Summary'!$C$10, \"\")","v":""}]
[null,null,null,null,null,null,"",{"$f":"IF(E706<>\"\",E706/'Project Summary'!$C$9,\"\")","v":""},{"$f":"IF(F706<>\"\",F706/'Project Summary'!$C$10, \"\")","v":""}]
[null,null,null,null,null,null,"",{"$f":"IF(E707<>\"\",E707/'Project Summary'!$C$9,\"\")","v":""},{"$f":"IF(F707<>\"\",F707/'Project Summary'!$C$10, \"\")","v":""}]
[null,null,null,null,null,null,"",{"$f":"IF(E708<>\"\",E708/'Project Summary'!$C$9,\"\")","v":""},{"$f":"IF(F708<>\"\",F708/'Project Summary'!$C$10, \"\")","v":""}]
[null,null,null,null,null,null,"",{"$f":"IF(E709<>\"\",E709/'Project Summary'!$C$9,\"\")","v":""},{"$f":"IF(F709<>\"\",F709/'Project Summary'!$C$10, \"\")","v":""}]
[null,null,null,null,null,null,"",{"$f":"IF(E710<>\"\",E710/'Project Summary'!$C$9,\"\")","v":""},{"$f":"IF(F710<>\"\",F710/'Project Summary'!$C$10, \"\")","v":""}]
[null,null,null,null,null,null,"",{"$f":"IF(E711<>\"\",E711/'Project Summary'!$C$9,\"\")","v":""},{"$f":"IF(F711<>\"\",F711/'Project Summary'!$C$10, \"\")","v":""}]
[null,null,null,null,null,null,"",{"$f":"IF(E712<>\"\",E712/'Project Summary'!$C$9,\"\")","v":""},{"$f":"IF(F712<>\"\",F712/'Project Summary'!$C$10, \"\")","v":""}]
[null,null,null,null,null,null,"",{"$f":"IF(E713<>\"\",E713/'Project Summary'!$C$9,\"\")","v":""},{"$f":"IF(F713<>\"\",F713/'Project Summary'!$C$10, \"\")","v":""}]
[null,null,null,null,null,null,"",{"$f":"IF(E714<>\"\",E714/'Project Summary'!$C$9,\"\")","v":""},{"$f":"IF(F714<>\"\",F714/'Project Summary'!$C$10, \"\")","v":""}]
[null,null,null,null,null,null,"",{"$f":"IF(E715<>\"\",E715/'Project Summary'!$C$9,\"\")","v":""},{"$f":"IF(F715<>\"\",F715/'Project Summary'!$C$10, \"\")","v":""}]
[null,null,null,null,null,null,{"$f":"IF(D716<>\"\", D716/E716, \"\")","v":""},{"$f":"IF(E716<>\"\",E716/'Project Summary'!$C$9,\"\")","v":""},{"$f":"IF(F716<>\"\",F716/'Project Summary'!$C$10, \"\")","v":""}]
[null,null,null,null,null,null,"",{"$f":"IF(E717<>\"\",E717/'Project Summary'!$C$9,\"\")","v":""},{"$f":"IF(F717<>\"\",F717/'Project Summary'!$C$10, \"\")","v":""}]
[null,null,null,null,null,null,"",{"$f":"IF(E718<>\"\",E718/'Project Summary'!$C$9,\"\")","v":""},{"$f":"IF(F718<>\"\",F718/'Project Summary'!$C$10, \"\")","v":""}]
[null,null,null,null,null,null,"",{"$f":"IF(E719<>\"\",E719/'Project Summary'!$C$9,\"\")","v":""},{"$f":"IF(F719<>\"\",F719/'Project Summary'!$C$10, \"\")","v":""}]
[null,null,null,null,null,null,"",{"$f":"IF(E720<>\"\",E720/'Project Summary'!$C$9,\"\")","v":""},{"$f":"IF(F720<>\"\",F720/'Project Summary'!$C$10, \"\")","v":""}]
[null,null,null,null,null,null,"",{"$f":"IF(E721<>\"\",E721/'Project Summary'!$C$9,\"\")","v":""},{"$f":"IF(F721<>\"\",F721/'Project Summary'!$C$10, \"\")","v":""}]
[null,null,null,null,null,null,"",{"$f":"IF(E722<>\"\",E722/'Project Summary'!$C$9,\"\")","v":""},{"$f":"IF(F722<>\"\",F722/'Project Summary'!$C$10, \"\")","v":""}]
[null,null,null,null,null,null,"",{"$f":"IF(E723<>\"\",E723/'Project Summary'!$C$9,\"\")","v":""},{"$f":"IF(F723<>\"\",F723/'Project Summary'!$C$10, \"\")","v":""}]
[null,null,null,null,null,null,"",{"$f":"IF(E724<>\"\",E724/'Project Summary'!$C$9,\"\")","v":""},{"$f":"IF(F724<>\"\",F724/'Project Summary'!$C$10, \"\")","v":""}]
[null,null,null,null,null,null,"",{"$f":"IF(E725<>\"\",E725/'Project Summary'!$C$9,\"\")","v":""},{"$f":"IF(F725<>\"\",F725/'Project Summary'!$C$10, \"\")","v":""}]
[null,null,null,null,null,null,"",{"$f":"IF(E726<>\"\",E726/'Project Summary'!$C$9,\"\")","v":""},{"$f":"IF(F726<>\"\",F726/'Project Summary'!$C$10, \"\")","v":""}]
[null,null,null,null,null,null,"",{"$f":"IF(E727<>\"\",E727/'Project Summary'!$C$9,\"\")","v":""},{"$f":"IF(F727<>\"\",F727/'Project Summary'!$C$10, \"\")","v":""}]
[null,null,null,null,null,null,"",{"$f":"IF(E728<>\"\",E728/'Project Summary'!$C$9,\"\")","v":""},{"$f":"IF(F728<>\"\",F728/'Project Summary'!$C$10, \"\")","v":""}]
[null,null,null,null,null,null,"",{"$f":"IF(E729<>\"\",E729/'Project Summary'!$C$9,\"\")","v":""},{"$f":"IF(F729<>\"\",F729/'Project Summary'!$C$10, \"\")","v":""}]
[null,null,null,null,null,null,"",{"$f":"IF(E730<>\"\",E730/'Project Summary'!$C$9,\"\")","v":""},{"$f":"IF(F730<>\"\",F730/'Project Summary'!$C$10, \"\")","v":""}]
[null,null,null,null,null,null,"",{"$f":"IF(E731<>\"\",E731/'Project Summary'!$C$9,\"\")","v":""},{"$f":"IF(F731<>\"\",F731/'Project Summary'!$C$10, \"\")","v":""}]
[null,null,null,null,null,null,"",{"$f":"IF(E732<>\"\",E732/'Project Summary'!$C$9,\"\")","v":""},{"$f":"IF(F732<>\"\",F732/'Project Summary'!$C$10, \"\")","v":""}]
[null,null,null,null,null,null,"",{"$f":"IF(E733<>\"\",E733/'Project Summary'!$C$9,\"\")","v":""},{"$f":"IF(F733<>\"\",F733/'Project Summary'!$C$10, \"\")","v":""}]
[null,null,null,null,null,null,"",{"$f":"IF(E734<>\"\",E734/'Project Summary'!$C$9,\"\")","v":""},{"$f":"IF(F734<>\"\",F734/'Project Summary'!$C$10, \"\")","v":""}]
[null,null,null,null,null,null,"",{"$f":"IF(E735<>\"\",E735/'Project Summary'!$C$9,\"\")","v":""},{"$f":"IF(F735<>\"\",F735/'Project Summary'!$C$10, \"\")","v":""}]
[null,null,null,null,null,null,"",{"$f":"IF(E736<>\"\",E736/'Project Summary'!$C$9,\"\")","v":""},{"$f":"IF(F736<>\"\",F736/'Project Summary'!$C$10, \"\")","v":""}]
[null,null,null,null,null,null,"",{"$f":"IF(E737<>\"\",E737/'Project Summary'!$C$9,\"\")","v":""},{"$f":"IF(F737<>\"\",F737/'Project Summary'!$C$10, \"\")","v":""}]
[null,null,null,null,null,null,"",{"$f":"IF(E738<>\"\",E738/'Project Summary'!$C$9,\"\")","v":""},{"$f":"IF(F738<>\"\",F738/'Project Summary'!$C$10, \"\")","v":""}]
[null,null,null,null,null,null,"",{"$f":"IF(E739<>\"\",E739/'Project Summary'!$C$9,\"\")","v":""},{"$f":"IF(F739<>\"\",F739/'Project Summary'!$C$10, \"\")","v":""}]
[null,null,null,null,null,null,"",{"$f":"IF(E740<>\"\",E740/'Project Summary'!$C$9,\"\")","v":""},{"$f":"IF(F740<>\"\",F740/'Project Summary'!$C$10, \"\")","v":""}]
[null,null,null,null,null,null,"",{"$f":"IF(E741<>\"\",E741/'Project Summary'!$C$9,\"\")","v":""},{"$f":"IF(F741<>\"\",F741/'Project Summary'!$C$10, \"\")","v":""}]
[null,null,null,null,null,null,"",{"$f":"IF(E742<>\"\",E742/'Project Summary'!$C$9,\"\")","v":""},{"$f":"IF(F742<>\"\",F742/'Project Summary'!$C$10, \"\")","v":""}]
[null,null,null,null,null,null,"",{"$f":"IF(E743<>\"\",E743/'Project Summary'!$C$9,\"\")","v":""},{"$f":"IF(F743<>\"\",F743/'Project Summary'!$C$10, \"\")","v":""}]
[null,null,null,null,null,null,"",{"$f":"IF(E744<>\"\",E744/'Project Summary'!$C$9,\"\")","v":""},{"$f":"IF(F744<>\"\",F744/'Project Summary'!$C$10, \"\")","v":""}]
[null,null,null,null,null,null,"",{"$f":"IF(E745<>\"\",E745/'Project Summary'!$C$9,\"\")","v":""},{"$f":"IF(F745<>\"\",F745/'Project Summary'!$C$10, \"\")","v":""}]
[null,null,null,null,null,null,"",{"$f":"IF(E746<>\"\",E746/'Project Summary'!$C$9,\"\")","v":""},{"$f":"IF(F746<>\"\",F746/'Project Summary'!$C$10, \"\")","v":""}]
[null,null,null,null,null,null,"",{"$f":"IF(E747<>\"\",E747/'Project Summary'!$C$9,\"\")","v":""},{"$f":"IF(F747<>\"\",F747/'Project Summary'!$C$10, \"\")","v":""}]
[null,null,null,null,null,null,"",{"$f":"IF(E748<>\"\",E748/'Project Summary'!$C$9,\"\")","v":""},{"$f":"IF(F748<>\"\",F748/'Project Summary'!$C$10, \"\")","v":""}]
[null,null,null,null,null,null,"",{"$f":"IF(E749<>\"\",E749/'Project Summary'!$C$9,\"\")","v":""},{"$f":"IF(F749<>\"\",F749/'Project Summary'!$C$10, \"\")","v":""}]
[null,null,null,null,null,null,"",{"$f":"IF(E750<>\"\",E750/'Project Summary'!$C$9,\"\")","v":""},{"$f":"IF(F750<>\"\",F750/'Project Summary'!$C$10, \"\")","v":""}]
[null,null,null,null,null,null,"",{"$f":"IF(E751<>\"\",E751/'Project Summary'!$C$9,\"\")","v":""},{"$f":"IF(F751<>\"\",F751/'Project Summary'!$C$10, \"\")","v":""}]
[null,null,null,null,null,null,"",{"$f":"IF(E752<>\"\",E752/'Project Summary'!$C$9,\"\")","v":""},{"$f":"IF(F752<>\"\",F752/'Project Summary'!$C$10, \"\")","v":""}]
[null,null,null,null,null,null,"",{"$f":"IF(E753<>\"\",E753/'Project Summary'!$C$9,\"\")","v":""},{"$f":"IF(F753<>\"\",F753/'Project Summary'!$C$10, \"\")","v":""}]
[null,null,null,null,null,null,"",{"$f":"IF(E754<>\"\",E754/'Project Summary'!$C$9,\"\")","v":""},{"$f":"IF(F754<>\"\",F754/'Project Summary'!$C$10, \"\")","v":""}]
[null,null,null,null,null,null,"",{"$f":"IF(E755<>\"\",E755/'Project Summary'!$C$9,\"\")","v":""},{"$f":"IF(F755<>\"\",F755/'Project Summary'!$C$10, \"\")","v":""}]
[null,null,null,null,null,null,"",{"$f":"IF(E756<>\"\",E756/'Project Summary'!$C$9,\"\")","v":""},{"$f":"IF(F756<>\"\",F756/'Project Summary'!$C$10, \"\")","v":""}]
[null,null,null,null,null,null,"",{"$f":"IF(E757<>\"\",E757/'Project Summary'!$C$9,\"\")","v":""},{"$f":"IF(F757<>\"\",F757/'Project Summary'!$C$10, \"\")","v":""}]
[null,null,null,null,null,null,"",{"$f":"IF(E758<>\"\",E758/'Project Summary'!$C$9,\"\")","v":""},{"$f":"IF(F758<>\"\",F758/'Project Summary'!$C$10, \"\")","v":""}]
[null,null,null,null,null,null,"",{"$f":"IF(E759<>\"\",E759/'Project Summary'!$C$9,\"\")","v":""},{"$f":"IF(F759<>\"\",F759/'Project Summary'!$C$10, \"\")","v":""}]
[null,null,null,null,null,null,"",{"$f":"IF(E760<>\"\",E760/'Project Summary'!$C$9,\"\")","v":""},{"$f":"IF(F760<>\"\",F760/'Project Summary'!$C$10, \"\")","v":""}]
[null,null,null,null,null,null,"",{"$f":"IF(E761<>\"\",E761/'Project Summary'!$C$9,\"\")","v":""},{"$f":"IF(F761<>\"\",F761/'Project Summary'!$C$10, \"\")","v":""}]
[null,null,null,null,null,null,"",{"$f":"IF(E762<>\"\",E762/'Project Summary'!$C$9,\"\")","v":""},{"$f":"IF(F762<>\"\",F762/'Project Summary'!$C$10, \"\")","v":""}]
[null,null,null,null,null,null,"",{"$f":"IF(E763<>\"\",E763/'Project Summary'!$C$9,\"\")","v":""},{"$f":"IF(F763<>\"\",F763/'Project Summary'!$C$10, \"\")","v":""}]
[null,null,null,null,null,null,"",{"$f":"IF(E764<>\"\",E764/'Project Summary'!$C$9,\"\")","v":""},{"$f":"IF(F764<>\"\",F764/'Project Summary'!$C$10, \"\")","v":""}]
[null,null,null,null,null,null,"",{"$f":"IF(E765<>\"\",E765/'Project Summary'!$C$9,\"\")","v":""},{"$f":"IF(F765<>\"\",F765/'Project Summary'!$C$10, \"\")","v":""}]
[null,null,null,null,null,null,"",{"$f":"IF(E766<>\"\",E766/'Project Summary'!$C$9,\"\")","v":""},{"$f":"IF(F766<>\"\",F766/'Project Summary'!$C$10, \"\")","v":""}]
[null,null,null,null,null,null,"",{"$f":"IF(E767<>\"\",E767/'Project Summary'!$C$9,\"\")","v":""},{"$f":"IF(F767<>\"\",F767/'Project Summary'!$C$10, \"\")","v":""}]
[null,null,null,null,null,null,"",{"$f":"IF(E768<>\"\",E768/'Project Summary'!$C$9,\"\")","v":""},{"$f":"IF(F768<>\"\",F768/'Project Summary'!$C$10, \"\")","v":""}]
[null,null,null,null,null,null,"",{"$f":"IF(E769<>\"\",E769/'Project Summary'!$C$9,\"\")","v":""},{"$f":"IF(F769<>\"\",F769/'Project Summary'!$C$10, \"\")","v":""}]
[null,null,null,null,null,null,"",{"$f":"IF(E770<>\"\",E770/'Project Summary'!$C$9,\"\")","v":""},{"$f":"IF(F770<>\"\",F770/'Project Summary'!$C$10, \"\")","v":""}]
[null,null,null,null,null,null,"",{"$f":"IF(E771<>\"\",E771/'Project Summary'!$C$9,\"\")","v":""},{"$f":"IF(F771<>\"\",F771/'Project Summary'!$C$10, \"\")","v":""}]
[null,null,null,null,null,null,"",{"$f":"IF(E772<>\"\",E772/'Project Summary'!$C$9,\"\")","v":""},{"$f":"IF(F772<>\"\",F772/'Project Summary'!$C$10, \"\")","v":""}]
[null,null,null,null,null,null,"",{"$f":"IF(E773<>\"\",E773/'Project Summary'!$C$9,\"\")","v":""},{"$f":"IF(F773<>\"\",F773/'Project Summary'!$C$10, \"\")","v":""}]
[null,null,null,null,null,null,"",{"$f":"IF(E774<>\"\",E774/'Project Summary'!$C$9,\"\")","v":""},{"$f":"IF(F774<>\"\",F774/'Project Summary'!$C$10, \"\")","v":""}]
[null,null,null,null,null,null,"",{"$f":"IF(E775<>\"\",E775/'Project Summary'!$C$9,\"\")","v":""},{"$f":"IF(F775<>\"\",F775/'Project Summary'!$C$10, \"\")","v":""}]
[null,null,null,null,null,null,"",{"$f":"IF(E776<>\"\",E776/'Project Summary'!$C$9,\"\")","v":""},{"$f":"IF(F776<>\"\",F776/'Project Summary'!$C$10, \"\")","v":""}]
[null,null,null,null,null,null,"",{"$f":"IF(E777<>\"\",E777/'Project Summary'!$C$9,\"\")","v":""},{"$f":"IF(F777<>\"\",F777/'Project Summary'!$C$10, \"\")","v":""}]
[null,null,null,null,null,null,"",{"$f":"IF(E778<>\"\",E778/'Project Summary'!$C$9,\"\")","v":""},{"$f":"IF(F778<>\"\",F778/'Project Summary'!$C$10, \"\")","v":""}]
[null,null,null,null,null,null,"",{"$f":"IF(E779<>\"\",E779/'Project Summary'!$C$9,\"\")","v":""},{"$f":"IF(F779<>\"\",F779/'Project Summary'!$C$10, \"\")","v":""}]
[null,null,null,null,null,null,{"$f":"IF(D780<>\"\", D780/E780, \"\")","v":""},{"$f":"IF(E780<>\"\",E780/'Project Summary'!$C$9,\"\")","v":""},{"$f":"IF(F780<>\"\",F780/'Project Summary'!$C$10, \"\")","v":""}]
[null,null,null,null,null,null,"",{"$f":"IF(E781<>\"\",E781/'Project Summary'!$C$9,\"\")","v":""},{"$f":"IF(F781<>\"\",F781/'Project Summary'!$C$10, \"\")","v":""}]
[null,null,null,null,null,null,"",{"$f":"IF(E782<>\"\",E782/'Project Summary'!$C$9,\"\")","v":""},{"$f":"IF(F782<>\"\",F782/'Project Summary'!$C$10, \"\")","v":""}]
[null,null,null,null,null,null,"",{"$f":"IF(E783<>\"\",E783/'Project Summary'!$C$9,\"\")","v":""},{"$f":"IF(F783<>\"\",F783/'Project Summary'!$C$10, \"\")","v":""}]
[null,null,null,null,null,null,"",{"$f":"IF(E784<>\"\",E784/'Project Summary'!$C$9,\"\")","v":""},{"$f":"IF(F784<>\"\",F784/'Project Summary'!$C$10, \"\")","v":""}]
[null,null,null,null,null,null,"",{"$f":"IF(E785<>\"\",E785/'Project Summary'!$C$9,\"\")","v":""},{"$f":"IF(F785<>\"\",F785/'Project Summary'!$C$10, \"\")","v":""}]
[null,null,null,null,null,null,"",{"$f":"IF(E786<>\"\",E786/'Project Summary'!$C$9,\"\")","v":""},{"$f":"IF(F786<>\"\",F786/'Project Summary'!$C$10, \"\")","v":""}]
[null,null,null,null,null,null,"",{"$f":"IF(E787<>\"\",E787/'Project Summary'!$C$9,\"\")","v":""},{"$f":"IF(F787<>\"\",F787/'Project Summary'!$C$10, \"\")","v":""}]
[null,null,null,null,null,null,"",{"$f":"IF(E788<>\"\",E788/'Project Summary'!$C$9,\"\")","v":""},{"$f":"IF(F788<>\"\",F788/'Project Summary'!$C$10, \"\")","v":""}]
[null,null,null,null,null,null,"",{"$f":"IF(E789<>\"\",E789/'Project Summary'!$C$9,\"\")","v":""},{"$f":"IF(F789<>\"\",F789/'Project Summary'!$C$10, \"\")","v":""}]
[null,null,null,null,null,null,"",{"$f":"IF(E790<>\"\",E790/'Project Summary'!$C$9,\"\")","v":""},{"$f":"IF(F790<>\"\",F790/'Project Summary'!$C$10, \"\")","v":""}]
[null,null,null,null,null,null,"",{"$f":"IF(E791<>\"\",E791/'Project Summary'!$C$9,\"\")","v":""},{"$f":"IF(F791<>\"\",F791/'Project Summary'!$C$10, \"\")","v":""}]
[null,null,null,null,null,null,"",{"$f":"IF(E792<>\"\",E792/'Project Summary'!$C$9,\"\")","v":""},{"$f":"IF(F792<>\"\",F792/'Project Summary'!$C$10, \"\")","v":""}]
[null,null,null,null,null,null,"",{"$f":"IF(E793<>\"\",E793/'Project Summary'!$C$9,\"\")","v":""},{"$f":"IF(F793<>\"\",F793/'Project Summary'!$C$10, \"\")","v":""}]
[null,null,null,null,null,null,"",{"$f":"IF(E794<>\"\",E794/'Project Summary'!$C$9,\"\")","v":""},{"$f":"IF(F794<>\"\",F794/'Project Summary'!$C$10, \"\")","v":""}]
[null,null,null,null,null,null,"",{"$f":"IF(E795<>\"\",E795/'Project Summary'!$C$9,\"\")","v":""},{"$f":"IF(F795<>\"\",F795/'Project Summary'!$C$10, \"\")","v":""}]
[null,null,null,null,null,null,"",{"$f":"IF(E796<>\"\",E796/'Project Summary'!$C$9,\"\")","v":""},{"$f":"IF(F796<>\"\",F796/'Project Summary'!$C$10, \"\")","v":""}]
[null,null,null,null,null,null,"",{"$f":"IF(E797<>\"\",E797/'Project Summary'!$C$9,\"\")","v":""},{"$f":"IF(F797<>\"\",F797/'Project Summary'!$C$10, \"\")","v":""}]
[null,null,null,null,null,null,"",{"$f":"IF(E798<>\"\",E798/'Project Summary'!$C$9,\"\")","v":""},{"$f":"IF(F798<>\"\",F798/'Project Summary'!$C$10, \"\")","v":""}]
[null,null,null,null,null,null,"",{"$f":"IF(E799<>\"\",E799/'Project Summary'!$C$9,\"\")","v":""},{"$f":"IF(F799<>\"\",F799/'Project Summary'!$C$10, \"\")","v":""}]
[null,null,null,null,null,null,"",{"$f":"IF(E800<>\"\",E800/'Project Summary'!$C$9,\"\")","v":""},{"$f":"IF(F800<>\"\",F800/'Project Summary'!$C$10, \"\")","v":""}]
[null,null,null,null,null,null,"",{"$f":"IF(E801<>\"\",E801/'Project Summary'!$C$9,\"\")","v":""},{"$f":"IF(F801<>\"\",F801/'Project Summary'!$C$10, \"\")","v":""}]
[null,null,null,null,null,null,"",{"$f":"IF(E802<>\"\",E802/'Project Summary'!$C$9,\"\")","v":""},{"$f":"IF(F802<>\"\",F802/'Project Summary'!$C$10, \"\")","v":""}]
[null,null,null,null,null,null,"",{"$f":"IF(E803<>\"\",E803/'Project Summary'!$C$9,\"\")","v":""},{"$f":"IF(F803<>\"\",F803/'Project Summary'!$C$10, \"\")","v":""}]
[null,null,null,null,null,null,"",{"$f":"IF(E804<>\"\",E804/'Project Summary'!$C$9,\"\")","v":""},{"$f":"IF(F804<>\"\",F804/'Project Summary'!$C$10, \"\")","v":""}]
[null,null,null,null,null,null,"",{"$f":"IF(E805<>\"\",E805/'Project Summary'!$C$9,\"\")","v":""},{"$f":"IF(F805<>\"\",F805/'Project Summary'!$C$10, \"\")","v":""}]
[null,null,null,null,null,null,"",{"$f":"IF(E806<>\"\",E806/'Project Summary'!$C$9,\"\")","v":""},{"$f":"IF(F806<>\"\",F806/'Project Summary'!$C$10, \"\")","v":""}]
[null,null,null,null,null,null,"",{"$f":"IF(E807<>\"\",E807/'Project Summary'!$C$9,\"\")","v":""},{"$f":"IF(F807<>\"\",F807/'Project Summary'!$C$10, \"\")","v":""}]
[null,null,null,null,null,null,"",{"$f":"IF(E808<>\"\",E808/'Project Summary'!$C$9,\"\")","v":""},{"$f":"IF(F808<>\"\",F808/'Project Summary'!$C$10, \"\")","v":""}]
[null,null,null,null,null,null,"",{"$f":"IF(E809<>\"\",E809/'Project Summary'!$C$9,\"\")","v":""},{"$f":"IF(F809<>\"\",F809/'Project Summary'!$C$10, \"\")","v":""}]
[null,null,null,null,null,null,"",{"$f":"IF(E810<>\"\",E810/'Project Summary'!$C$9,\"\")","v":""},{"$f":"IF(F810<>\"\",F810/'Project Summary'!$C$10, \"\")","v":""}]
[null,null,null,null,null,null,"",{"$f":"IF(E811<>\"\",E811/'Project Summary'!$C$9,\"\")","v":""},{"$f":"IF(F811<>\"\",F811/'Project Summary'!$C$10, \"\")","v":""}]
[null,null,null,null,null,null,"",{"$f":"IF(E812<>\"\",E812/'Project Summary'!$C$9,\"\")","v":""},{"$f":"IF(F812<>\"\",F812/'Project Summary'!$C$10, \"\")","v":""}]
[null,null,null,null,null,null,"",{"$f":"IF(E813<>\"\",E813/'Project Summary'!$C$9,\"\")","v":""},{"$f":"IF(F813<>\"\",F813/'Project Summary'!$C$10, \"\")","v":""}]
[null,null,null,null,null,null,"",{"$f":"IF(E814<>\"\",E814/'Project Summary'!$C$9,\"\")","v":""},{"$f":"IF(F814<>\"\",F814/'Project Summary'!$C$10, \"\")","v":""}]
[null,null,null,null,null,null,"",{"$f":"IF(E815<>\"\",E815/'Project Summary'!$C$9,\"\")","v":""},{"$f":"IF(F815<>\"\",F815/'Project Summary'!$C$10, \"\")","v":""}]
[null,null,null,null,null,null,"",{"$f":"IF(E816<>\"\",E816/'Project Summary'!$C$9,\"\")","v":""},{"$f":"IF(F816<>\"\",F816/'Project Summary'!$C$10, \"\")","v":""}]
[null,null,null,null,null,null,"",{"$f":"IF(E817<>\"\",E817/'Project Summary'!$C$9,\"\")","v":""},{"$f":"IF(F817<>\"\",F817/'Project Summary'!$C$10, \"\")","v":""}]
[null,null,null,null,null,null,"",{"$f":"IF(E818<>\"\",E818/'Project Summary'!$C$9,\"\")","v":""},{"$f":"IF(F818<>\"\",F818/'Project Summary'!$C$10, \"\")","v":""}]
[null,null,null,null,null,null,"",{"$f":"IF(E819<>\"\",E819/'Project Summary'!$C$9,\"\")","v":""},{"$f":"IF(F819<>\"\",F819/'Project Summary'!$C$10, \"\")","v":""}]
[null,null,null,null,null,null,"",{"$f":"IF(E820<>\"\",E820/'Project Summary'!$C$9,\"\")","v":""},{"$f":"IF(F820<>\"\",F820/'Project Summary'!$C$10, \"\")","v":""}]
[null,null,null,null,null,null,"",{"$f":"IF(E821<>\"\",E821/'Project Summary'!$C$9,\"\")","v":""},{"$f":"IF(F821<>\"\",F821/'Project Summary'!$C$10, \"\")","v":""}]
[null,null,null,null,null,null,"",{"$f":"IF(E822<>\"\",E822/'Project Summary'!$C$9,\"\")","v":""},{"$f":"IF(F822<>\"\",F822/'Project Summary'!$C$10, \"\")","v":""}]
[null,null,null,null,null,null,"",{"$f":"IF(E823<>\"\",E823/'Project Summary'!$C$9,\"\")","v":""},{"$f":"IF(F823<>\"\",F823/'Project Summary'!$C$10, \"\")","v":""}]
[null,null,null,null,null,null,"",{"$f":"IF(E824<>\"\",E824/'Project Summary'!$C$9,\"\")","v":""},{"$f":"IF(F824<>\"\",F824/'Project Summary'!$C$10, \"\")","v":""}]
[null,null,null,null,null,null,"",{"$f":"IF(E825<>\"\",E825/'Project Summary'!$C$9,\"\")","v":""},{"$f":"IF(F825<>\"\",F825/'Project Summary'!$C$10, \"\")","v":""}]
[null,null,null,null,null,null,"",{"$f":"IF(E826<>\"\",E826/'Project Summary'!$C$9,\"\")","v":""},{"$f":"IF(F826<>\"\",F826/'Project Summary'!$C$10, \"\")","v":""}]
[null,null,null,null,null,null,"",{"$f":"IF(E827<>\"\",E827/'Project Summary'!$C$9,\"\")","v":""},{"$f":"IF(F827<>\"\",F827/'Project Summary'!$C$10, \"\")","v":""}]
[null,null,null,null,null,null,"",{"$f":"IF(E828<>\"\",E828/'Project Summary'!$C$9,\"\")","v":""},{"$f":"IF(F828<>\"\",F828/'Project Summary'!$C$10, \"\")","v":""}]
[null,null,null,null,null,null,"",{"$f":"IF(E829<>\"\",E829/'Project Summary'!$C$9,\"\")","v":""},{"$f":"IF(F829<>\"\",F829/'Project Summary'!$C$10, \"\")","v":""}]
[null,null,null,null,null,null,"",{"$f":"IF(E830<>\"\",E830/'Project Summary'!$C$9,\"\")","v":""},{"$f":"IF(F830<>\"\",F830/'Project Summary'!$C$10, \"\")","v":""}]
[null,null,null,null,null,null,"",{"$f":"IF(E831<>\"\",E831/'Project Summary'!$C$9,\"\")","v":""},{"$f":"IF(F831<>\"\",F831/'Project Summary'!$C$10, \"\")","v":""}]
[null,null,null,null,null,null,"",{"$f":"IF(E832<>\"\",E832/'Project Summary'!$C$9,\"\")","v":""},{"$f":"IF(F832<>\"\",F832/'Project Summary'!$C$10, \"\")","v":""}]
[null,null,null,null,null,null,"",{"$f":"IF(E833<>\"\",E833/'Project Summary'!$C$9,\"\")","v":""},{"$f":"IF(F833<>\"\",F833/'Project Summary'!$C$10, \"\")","v":""}]
[null,null,null,null,null,null,"",{"$f":"IF(E834<>\"\",E834/'Project Summary'!$C$9,\"\")","v":""},{"$f":"IF(F834<>\"\",F834/'Project Summary'!$C$10, \"\")","v":""}]
[null,null,null,null,null,null,"",{"$f":"IF(E835<>\"\",E835/'Project Summary'!$C$9,\"\")","v":""},{"$f":"IF(F835<>\"\",F835/'Project Summary'!$C$10, \"\")","v":""}]
[null,null,null,null,null,null,"",{"$f":"IF(E836<>\"\",E836/'Project Summary'!$C$9,\"\")","v":""},{"$f":"IF(F836<>\"\",F836/'Project Summary'!$C$10, \"\")","v":""}]
[null,null,null,null,null,null,"",{"$f":"IF(E837<>\"\",E837/'Project Summary'!$C$9,\"\")","v":""},{"$f":"IF(F837<>\"\",F837/'Project Summary'!$C$10, \"\")","v":""}]
[null,null,null,null,null,null,"",{"$f":"IF(E838<>\"\",E838/'Project Summary'!$C$9,\"\")","v":""},{"$f":"IF(F838<>\"\",F838/'Project Summary'!$C$10, \"\")","v":""}]
[null,null,null,null,null,null,"",{"$f":"IF(E839<>\"\",E839/'Project Summary'!$C$9,\"\")","v":""},{"$f":"IF(F839<>\"\",F839/'Project Summary'!$C$10, \"\")","v":""}]
[null,null,null,null,null,null,"",{"$f":"IF(E840<>\"\",E840/'Project Summary'!$C$9,\"\")","v":""},{"$f":"IF(F840<>\"\",F840/'Project Summary'!$C$10, \"\")","v":""}]
[null,null,null,null,null,null,"",{"$f":"IF(E841<>\"\",E841/'Project Summary'!$C$9,\"\")","v":""},{"$f":"IF(F841<>\"\",F841/'Project Summary'!$C$10, \"\")","v":""}]
[null,null,null,null,null,null,"",{"$f":"IF(E842<>\"\",E842/'Project Summary'!$C$9,\"\")","v":""},{"$f":"IF(F842<>\"\",F842/'Project Summary'!$C$10, \"\")","v":""}]
[null,null,null,null,null,null,"",{"$f":"IF(E843<>\"\",E843/'Project Summary'!$C$9,\"\")","v":""},{"$f":"IF(F843<>\"\",F843/'Project Summary'!$C$10, \"\")","v":""}]
[null,null,null,null,null,null,{"$f":"IF(D844<>\"\", D844/E844, \"\")","v":""},{"$f":"IF(E844<>\"\",E844/'Project Summary'!$C$9,\"\")","v":""},{"$f":"IF(F844<>\"\",F844/'Project Summary'!$C$10, \"\")","v":""}]
[null,null,null,null,null,null,"",{"$f":"IF(E845<>\"\",E845/'Project Summary'!$C$9,\"\")","v":""},{"$f":"IF(F845<>\"\",F845/'Project Summary'!$C$10, \"\")","v":""}]
[null,null,null,null,null,null,"",{"$f":"IF(E846<>\"\",E846/'Project Summary'!$C$9,\"\")","v":""},{"$f":"IF(F846<>\"\",F846/'Project Summary'!$C$10, \"\")","v":""}]
[null,null,null,null,null,null,"",{"$f":"IF(E847<>\"\",E847/'Project Summary'!$C$9,\"\")","v":""},{"$f":"IF(F847<>\"\",F847/'Project Summary'!$C$10, \"\")","v":""}]
[null,null,null,null,null,null,"",{"$f":"IF(E848<>\"\",E848/'Project Summary'!$C$9,\"\")","v":""},{"$f":"IF(F848<>\"\",F848/'Project Summary'!$C$10, \"\")","v":""}]
[null,null,null,null,null,null,"",{"$f":"IF(E849<>\"\",E849/'Project Summary'!$C$9,\"\")","v":""},{"$f":"IF(F849<>\"\",F849/'Project Summary'!$C$10, \"\")","v":""}]
[null,null,null,null,null,null,"",{"$f":"IF(E850<>\"\",E850/'Project Summary'!$C$9,\"\")","v":""},{"$f":"IF(F850<>\"\",F850/'Project Summary'!$C$10, \"\")","v":""}]
[null,null,null,null,null,null,"",{"$f":"IF(E851<>\"\",E851/'Project Summary'!$C$9,\"\")","v":""},{"$f":"IF(F851<>\"\",F851/'Project Summary'!$C$10, \"\")","v":""}]
[null,null,null,null,null,null,"",{"$f":"IF(E852<>\"\",E852/'Project Summary'!$C$9,\"\")","v":""},{"$f":"IF(F852<>\"\",F852/'Project Summary'!$C$10, \"\")","v":""}]
[null,null,null,null,null,null,"",{"$f":"IF(E853<>\"\",E853/'Project Summary'!$C$9,\"\")","v":""},{"$f":"IF(F853<>\"\",F853/'Project Summary'!$C$10, \"\")","v":""}]
[null,null,null,null,null,null,"",{"$f":"IF(E854<>\"\",E854/'Project Summary'!$C$9,\"\")","v":""},{"$f":"IF(F854<>\"\",F854/'Project Summary'!$C$10, \"\")","v":""}]
[null,null,null,null,null,null,"",{"$f":"IF(E855<>\"\",E855/'Project Summary'!$C$9,\"\")","v":""},{"$f":"IF(F855<>\"\",F855/'Project Summary'!$C$10, \"\")","v":""}]
[null,null,null,null,null,null,"",{"$f":"IF(E856<>\"\",E856/'Project Summary'!$C$9,\"\")","v":""},{"$f":"IF(F856<>\"\",F856/'Project Summary'!$C$10, \"\")","v":""}]
[null,null,null,null,null,null,"",{"$f":"IF(E857<>\"\",E857/'Project Summary'!$C$9,\"\")","v":""},{"$f":"IF(F857<>\"\",F857/'Project Summary'!$C$10, \"\")","v":""}]
[null,null,null,null,null,null,"",{"$f":"IF(E858<>\"\",E858/'Project Summary'!$C$9,\"\")","v":""},{"$f":"IF(F858<>\"\",F858/'Project Summary'!$C$10, \"\")","v":""}]
[null,null,null,null,null,null,"",{"$f":"IF(E859<>\"\",E859/'Project Summary'!$C$9,\"\")","v":""},{"$f":"IF(F859<>\"\",F859/'Project Summary'!$C$10, \"\")","v":""}]
[null,null,null,null,null,null,"",{"$f":"IF(E860<>\"\",E860/'Project Summary'!$C$9,\"\")","v":""},{"$f":"IF(F860<>\"\",F860/'Project Summary'!$C$10, \"\")","v":""}]
[null,null,null,null,null,null,"",{"$f":"IF(E861<>\"\",E861/'Project Summary'!$C$9,\"\")","v":""},{"$f":"IF(F861<>\"\",F861/'Project Summary'!$C$10, \"\")","v":""}]
[null,null,null,null,null,null,"",{"$f":"IF(E862<>\"\",E862/'Project Summary'!$C$9,\"\")","v":""},{"$f":"IF(F862<>\"\",F862/'Project Summary'!$C$10, \"\")","v":""}]
[null,null,null,null,null,null,"",{"$f":"IF(E863<>\"\",E863/'Project Summary'!$C$9,\"\")","v":""},{"$f":"IF(F863<>\"\",F863/'Project Summary'!$C$10, \"\")","v":""}]
[null,null,null,null,null,null,"",{"$f":"IF(E864<>\"\",E864/'Project Summary'!$C$9,\"\")","v":""},{"$f":"IF(F864<>\"\",F864/'Project Summary'!$C$10, \"\")","v":""}]
[null,null,null,null,null,null,"",{"$f":"IF(E865<>\"\",E865/'Project Summary'!$C$9,\"\")","v":""},{"$f":"IF(F865<>\"\",F865/'Project Summary'!$C$10, \"\")","v":""}]
[null,null,null,null,null,null,"",{"$f":"IF(E866<>\"\",E866/'Project Summary'!$C$9,\"\")","v":""},{"$f":"IF(F866<>\"\",F866/'Project Summary'!$C$10, \"\")","v":""}]
[null,null,null,null,null,null,"",{"$f":"IF(E867<>\"\",E867/'Project Summary'!$C$9,\"\")","v":""},{"$f":"IF(F867<>\"\",F867/'Project Summary'!$C$10, \"\")","v":""}]
[null,null,null,null,null,null,"",{"$f":"IF(E868<>\"\",E868/'Project Summary'!$C$9,\"\")","v":""},{"$f":"IF(F868<>\"\",F868/'Project Summary'!$C$10, \"\")","v":""}]
[null,null,null,null,null,null,"",{"$f":"IF(E869<>\"\",E869/'Project Summary'!$C$9,\"\")","v":""},{"$f":"IF(F869<>\"\",F869/'Project Summary'!$C$10, \"\")","v":""}]
[null,null,null,null,null,null,"",{"$f":"IF(E870<>\"\",E870/'Project Summary'!$C$9,\"\")","v":""},{"$f":"IF(F870<>\"\",F870/'Project Summary'!$C$10, \"\")","v":""}]
[null,null,null,null,null,null,"",{"$f":"IF(E871<>\"\",E871/'Project Summary'!$C$9,\"\")","v":""},{"$f":"IF(F871<>\"\",F871/'Project Summary'!$C$10, \"\")","v":""}]
[null,null,null,null,null,null,"",{"$f":"IF(E872<>\"\",E872/'Project Summary'!$C$9,\"\")","v":""},{"$f":"IF(F872<>\"\",F872/'Project Summary'!$C$10, \"\")","v":""}]
[null,null,null,null,null,null,"",{"$f":"IF(E873<>\"\",E873/'Project Summary'!$C$9,\"\")","v":""},{"$f":"IF(F873<>\"\",F873/'Project Summary'!$C$10, \"\")","v":""}]
[null,null,null,null,null,null,"",{"$f":"IF(E874<>\"\",E874/'Project Summary'!$C$9,\"\")","v":""},{"$f":"IF(F874<>\"\",F874/'Project Summary'!$C$10, \"\")","v":""}]
[null,null,null,null,null,null,"",{"$f":"IF(E875<>\"\",E875/'Project Summary'!$C$9,\"\")","v":""},{"$f":"IF(F875<>\"\",F875/'Project Summary'!$C$10, \"\")","v":""}]
[null,null,null,null,null,null,"",{"$f":"IF(E876<>\"\",E876/'Project Summary'!$C$9,\"\")","v":""},{"$f":"IF(F876<>\"\",F876/'Project Summary'!$C$10, \"\")","v":""}]
[null,null,null,null,null,null,"",{"$f":"IF(E877<>\"\",E877/'Project Summary'!$C$9,\"\")","v":""},{"$f":"IF(F877<>\"\",F877/'Project Summary'!$C$10, \"\")","v":""}]
[null,null,null,null,null,null,"",{"$f":"IF(E878<>\"\",E878/'Project Summary'!$C$9,\"\")","v":""},{"$f":"IF(F878<>\"\",F878/'Project Summary'!$C$10, \"\")","v":""}]
[null,null,null,null,null,null,"",{"$f":"IF(E879<>\"\",E879/'Project Summary'!$C$9,\"\")","v":""},{"$f":"IF(F879<>\"\",F879/'Project Summary'!$C$10, \"\")","v":""}]
[null,null,null,null,null,null,"",{"$f":"IF(E880<>\"\",E880/'Project Summary'!$C$9,\"\")","v":""},{"$f":"IF(F880<>\"\",F880/'Project Summary'!$C$10, \"\")","v":""}]
[null,null,null,null,null,null,"",{"$f":"IF(E881<>\"\",E881/'Project Summary'!$C$9,\"\")","v":""},{"$f":"IF(F881<>\"\",F881/'Project Summary'!$C$10, \"\")","v":""}]
[null,null,null,null,null,null,"",{"$f":"IF(E882<>\"\",E882/'Project Summary'!$C$9,\"\")","v":""},{"$f":"IF(F882<>\"\",F882/'Project Summary'!$C$10, \"\")","v":""}]
[null,null,null,null,null,null,"",{"$f":"IF(E883<>\"\",E883/'Project Summary'!$C$9,\"\")","v":""},{"$f":"IF(F883<>\"\",F883/'Project Summary'!$C$10, \"\")","v":""}]
[null,null,null,null,null,null,"",{"$f":"IF(E884<>\"\",E884/'Project Summary'!$C$9,\"\")","v":""},{"$f":"IF(F884<>\"\",F884/'Project Summary'!$C$10, \"\")","v":""}]
[null,null,null,null,null,null,"",{"$f":"IF(E885<>\"\",E885/'Project Summary'!$C$9,\"\")","v":""},{"$f":"IF(F885<>\"\",F885/'Project Summary'!$C$10, \"\")","v":""}]
[null,null,null,null,null,null,"",{"$f":"IF(E886<>\"\",E886/'Project Summary'!$C$9,\"\")","v":""},{"$f":"IF(F886<>\"\",F886/'Project Summary'!$C$10, \"\")","v":""}]
[null,null,null,null,null,null,"",{"$f":"IF(E887<>\"\",E887/'Project Summary'!$C$9,\"\")","v":""},{"$f":"IF(F887<>\"\",F887/'Project Summary'!$C$10, \"\")","v":""}]
[null,null,null,null,null,null,"",{"$f":"IF(E888<>\"\",E888/'Project Summary'!$C$9,\"\")","v":""},{"$f":"IF(F888<>\"\",F888/'Project Summary'!$C$10, \"\")","v":""}]
[null,null,null,null,null,null,"",{"$f":"IF(E889<>\"\",E889/'Project Summary'!$C$9,\"\")","v":""},{"$f":"IF(F889<>\"\",F889/'Project Summary'!$C$10, \"\")","v":""}]
[null,null,null,null,null,null,"",{"$f":"IF(E890<>\"\",E890/'Project Summary'!$C$9,\"\")","v":""},{"$f":"IF(F890<>\"\",F890/'Project Summary'!$C$10, \"\")","v":""}]
[null,null,null,null,null,null,"",{"$f":"IF(E891<>\"\",E891/'Project Summary'!$C$9,\"\")","v":""},{"$f":"IF(F891<>\"\",F891/'Project Summary'!$C$10, \"\")","v":""}]
[null,null,null,null,null,null,"",{"$f":"IF(E892<>\"\",E892/'Project Summary'!$C$9,\"\")","v":""},{"$f":"IF(F892<>\"\",F892/'Project Summary'!$C$10, \"\")","v":""}]
[null,null,null,null,null,null,"",{"$f":"IF(E893<>\"\",E893/'Project Summary'!$C$9,\"\")","v":""},{"$f":"IF(F893<>\"\",F893/'Project Summary'!$C$10, \"\")","v":""}]
[null,null,null,null,null,null,"",{"$f":"IF(E894<>\"\",E894/'Project Summary'!$C$9,\"\")","v":""},{"$f":"IF(F894<>\"\",F894/'Project Summary'!$C$10, \"\")","v":""}]
[null,null,null,null,null,null,"",{"$f":"IF(E895<>\"\",E895/'Project Summary'!$C$9,\"\")","v":""},{"$f":"IF(F895<>\"\",F895/'Project Summary'!$C$10, \"\")","v":""}]
[null,null,null,null,null,null,"",{"$f":"IF(E896<>\"\",E896/'Project Summary'!$C$9,\"\")","v":""},{"$f":"IF(F896<>\"\",F896/'Project Summary'!$C$10, \"\")","v":""}]
[null,null,null,null,null,null,"",{"$f":"IF(E897<>\"\",E897/'Project Summary'!$C$9,\"\")","v":""},{"$f":"IF(F897<>\"\",F897/'Project Summary'!$C$10, \"\")","v":""}]
[null,null,null,null,null,null,"",{"$f":"IF(E898<>\"\",E898/'Project Summary'!$C$9,\"\")","v":""},{"$f":"IF(F898<>\"\",F898/'Project Summary'!$C$10, \"\")","v":""}]
[null,null,null,null,null,null,"",{"$f":"IF(E899<>\"\",E899/'Project Summary'!$C$9,\"\")","v":""},{"$f":"IF(F899<>\"\",F899/'Project Summary'!$C$10, \"\")","v":""}]
[null,null,null,null,null,null,"",{"$f":"IF(E900<>\"\",E900/'Project Summary'!$C$9,\"\")","v":""},{"$f":"IF(F900<>\"\",F900/'Project Summary'!$C$10, \"\")","v":""}]
[null,null,null,null,null,null,"",{"$f":"IF(E901<>\"\",E901/'Project Summary'!$C$9,\"\")","v":""},{"$f":"IF(F901<>\"\",F901/'Project Summary'!$C$10, \"\")","v":""}]
[null,null,null,null,null,null,"",{"$f":"IF(E902<>\"\",E902/'Project Summary'!$C$9,\"\")","v":""},{"$f":"IF(F902<>\"\",F902/'Project Summary'!$C$10, \"\")","v":""}]
[null,null,null,null,null,null,"",{"$f":"IF(E903<>\"\",E903/'Project Summary'!$C$9,\"\")","v":""},{"$f":"IF(F903<>\"\",F903/'Project Summary'!$C$10, \"\")","v":""}]
[null,null,null,null,null,null,"",{"$f":"IF(E904<>\"\",E904/'Project Summary'!$C$9,\"\")","v":""},{"$f":"IF(F904<>\"\",F904/'Project Summary'!$C$10, \"\")","v":""}]
[null,null,null,null,null,null,"",{"$f":"IF(E905<>\"\",E905/'Project Summary'!$C$9,\"\")","v":""},{"$f":"IF(F905<>\"\",F905/'Project Summary'!$C$10, \"\")","v":""}]
[null,null,null,null,null,null,"",{"$f":"IF(E906<>\"\",E906/'Project Summary'!$C$9,\"\")","v":""},{"$f":"IF(F906<>\"\",F906/'Project Summary'!$C$10, \"\")","v":""}]
[null,null,null,null,null,null,"",{"$f":"IF(E907<>\"\",E907/'Project Summary'!$C$9,\"\")","v":""},{"$f":"IF(F907<>\"\",F907/'Project Summary'!$C$10, \"\")","v":""}]
[null,null,null,null,null,null,{"$f":"IF(D908<>\"\", D908/E908, \"\")","v":""},{"$f":"IF(E908<>\"\",E908/'Project Summary'!$C$9,\"\")","v":""},{"$f":"IF(F908<>\"\",F908/'Project Summary'!$C$10, \"\")","v":""}]
[null,null,null,null,null,null,"",{"$f":"IF(E909<>\"\",E909/'Project Summary'!$C$9,\"\")","v":""},{"$f":"IF(F909<>\"\",F909/'Project Summary'!$C$10, \"\")","v":""}]
[null,null,null,null,null,null,"",{"$f":"IF(E910<>\"\",E910/'Project Summary'!$C$9,\"\")","v":""},{"$f":"IF(F910<>\"\",F910/'Project Summary'!$C$10, \"\")","v":""}]
[null,null,null,null,null,null,"",{"$f":"IF(E911<>\"\",E911/'Project Summary'!$C$9,\"\")","v":""},{"$f":"IF(F911<>\"\",F911/'Project Summary'!$C$10, \"\")","v":""}]
[null,null,null,null,null,null,"",{"$f":"IF(E912<>\"\",E912/'Project Summary'!$C$9,\"\")","v":""},{"$f":"IF(F912<>\"\",F912/'Project Summary'!$C$10, \"\")","v":""}]
[null,null,null,null,null,null,"",{"$f":"IF(E913<>\"\",E913/'Project Summary'!$C$9,\"\")","v":""},{"$f":"IF(F913<>\"\",F913/'Project Summary'!$C$10, \"\")","v":""}]
[null,null,null,null,null,null,"",{"$f":"IF(E914<>\"\",E914/'Project Summary'!$C$9,\"\")","v":""},{"$f":"IF(F914<>\"\",F914/'Project Summary'!$C$10, \"\")","v":""}]
[null,null,null,null,null,null,"",{"$f":"IF(E915<>\"\",E915/'Project Summary'!$C$9,\"\")","v":""},{"$f":"IF(F915<>\"\",F915/'Project Summary'!$C$10, \"\")","v":""}]
[null,null,null,null,null,null,"",{"$f":"IF(E916<>\"\",E916/'Project Summary'!$C$9,\"\")","v":""},{"$f":"IF(F916<>\"\",F916/'Project Summary'!$C$10, \"\")","v":""}]
[null,null,null,null,null,null,"",{"$f":"IF(E917<>\"\",E917/'Project Summary'!$C$9,\"\")","v":""},{"$f":"IF(F917<>\"\",F917/'Project Summary'!$C$10, \"\")","v":""}]
[null,null,null,null,null,null,"",{"$f":"IF(E918<>\"\",E918/'Project Summary'!$C$9,\"\")","v":""},{"$f":"IF(F918<>\"\",F918/'Project Summary'!$C$10, \"\")","v":""}]
[null,null,null,null,null,null,"",{"$f":"IF(E919<>\"\",E919/'Project Summary'!$C$9,\"\")","v":""},{"$f":"IF(F919<>\"\",F919/'Project Summary'!$C$10, \"\")","v":""}]
[null,null,null,null,null,null,"",{"$f":"IF(E920<>\"\",E920/'Project Summary'!$C$9,\"\")","v":""},{"$f":"IF(F920<>\"\",F920/'Project Summary'!$C$10, \"\")","v":""}]
[null,null,null,null,null,null,"",{"$f":"IF(E921<>\"\",E921/'Project Summary'!$C$9,\"\")","v":""},{"$f":"IF(F921<>\"\",F921/'Project Summary'!$C$10, \"\")","v":""}]
[null,null,null,null,null,null,"",{"$f":"IF(E922<>\"\",E922/'Project Summary'!$C$9,\"\")","v":""},{"$f":"IF(F922<>\"\",F922/'Project Summary'!$C$10, \"\")","v":""}]
[null,null,null,null,null,null,"",{"$f":"IF(E923<>\"\",E923/'Project Summary'!$C$9,\"\")","v":""},{"$f":"IF(F923<>\"\",F923/'Project Summary'!$C$10, \"\")","v":""}]
[null,null,null,null,null,null,"",{"$f":"IF(E924<>\"\",E924/'Project Summary'!$C$9,\"\")","v":""},{"$f":"IF(F924<>\"\",F924/'Project Summary'!$C$10, \"\")","v":""}]
[null,null,null,null,null,null,"",{"$f":"IF(E925<>\"\",E925/'Project Summary'!$C$9,\"\")","v":""},{"$f":"IF(F925<>\"\",F925/'Project Summary'!$C$10, \"\")","v":""}]
[null,null,null,null,null,null,"",{"$f":"IF(E926<>\"\",E926/'Project Summary'!$C$9,\"\")","v":""},{"$f":"IF(F926<>\"\",F926/'Project Summary'!$C$10, \"\")","v":""}]
[null,null,null,null,null,null,"",{"$f":"IF(E927<>\"\",E927/'Project Summary'!$C$9,\"\")","v":""},{"$f":"IF(F927<>\"\",F927/'Project Summary'!$C$10, \"\")","v":""}]
[null,null,null,null,null,null,"",{"$f":"IF(E928<>\"\",E928/'Project Summary'!$C$9,\"\")","v":""},{"$f":"IF(F928<>\"\",F928/'Project Summary'!$C$10, \"\")","v":""}]
[null,null,null,null,null,null,"",{"$f":"IF(E929<>\"\",E929/'Project Summary'!$C$9,\"\")","v":""},{"$f":"IF(F929<>\"\",F929/'Project Summary'!$C$10, \"\")","v":""}]
[null,null,null,null,null,null,"",{"$f":"IF(E930<>\"\",E930/'Project Summary'!$C$9,\"\")","v":""},{"$f":"IF(F930<>\"\",F930/'Project Summary'!$C$10, \"\")","v":""}]
[null,null,null,null,null,null,"",{"$f":"IF(E931<>\"\",E931/'Project Summary'!$C$9,\"\")","v":""},{"$f":"IF(F931<>\"\",F931/'Project Summary'!$C$10, \"\")","v":""}]
[null,null,null,null,null,null,"",{"$f":"IF(E932<>\"\",E932/'Project Summary'!$C$9,\"\")","v":""},{"$f":"IF(F932<>\"\",F932/'Project Summary'!$C$10, \"\")","v":""}]
[null,null,null,null,null,null,"",{"$f":"IF(E933<>\"\",E933/'Project Summary'!$C$9,\"\")","v":""},{"$f":"IF(F933<>\"\",F933/'Project Summary'!$C$10, \"\")","v":""}]
[null,null,null,null,null,null,"",{"$f":"IF(E934<>\"\",E934/'Project Summary'!$C$9,\"\")","v":""},{"$f":"IF(F934<>\"\",F934/'Project Summary'!$C$10, \"\")","v":""}]
[null,null,null,null,null,null,"",{"$f":"IF(E935<>\"\",E935/'Project Summary'!$C$9,\"\")","v":""},{"$f":"IF(F935<>\"\",F935/'Project Summary'!$C$10, \"\")","v":""}]
[null,null,null,null,null,null,"",{"$f":"IF(E936<>\"\",E936/'Project Summary'!$C$9,\"\")","v":""},{"$f":"IF(F936<>\"\",F936/'Project Summary'!$C$10, \"\")","v":""}]
[null,null,null,null,null,null,"",{"$f":"IF(E937<>\"\",E937/'Project Summary'!$C$9,\"\")","v":""},{"$f":"IF(F937<>\"\",F937/'Project Summary'!$C$10, \"\")","v":""}]
[null,null,null,null,null,null,"",{"$f":"IF(E938<>\"\",E938/'Project Summary'!$C$9,\"\")","v":""},{"$f":"IF(F938<>\"\",F938/'Project Summary'!$C$10, \"\")","v":""}]
[null,null,null,null,null,null,"",{"$f":"IF(E939<>\"\",E939/'Project Summary'!$C$9,\"\")","v":""},{"$f":"IF(F939<>\"\",F939/'Project Summary'!$C$10, \"\")","v":""}]
[null,null,null,null,null,null,"",{"$f":"IF(E940<>\"\",E940/'Project Summary'!$C$9,\"\")","v":""},{"$f":"IF(F940<>\"\",F940/'Project Summary'!$C$10, \"\")","v":""}]
[null,null,null,null,null,null,"",{"$f":"IF(E941<>\"\",E941/'Project Summary'!$C$9,\"\")","v":""},{"$f":"IF(F941<>\"\",F941/'Project Summary'!$C$10, \"\")","v":""}]
[null,null,null,null,null,null,"",{"$f":"IF(E942<>\"\",E942/'Project Summary'!$C$9,\"\")","v":""},{"$f":"IF(F942<>\"\",F942/'Project Summary'!$C$10, \"\")","v":""}]
[null,null,null,null,null,null,"",{"$f":"IF(E943<>\"\",E943/'Project Summary'!$C$9,\"\")","v":""},{"$f":"IF(F943<>\"\",F943/'Project Summary'!$C$10, \"\")","v":""}]
[null,null,null,null,null,null,"",{"$f":"IF(E944<>\"\",E944/'Project Summary'!$C$9,\"\")","v":""},{"$f":"IF(F944<>\"\",F944/'Project Summary'!$C$10, \"\")","v":""}]
[null,null,null,null,null,null,"",{"$f":"IF(E945<>\"\",E945/'Project Summary'!$C$9,\"\")","v":""},{"$f":"IF(F945<>\"\",F945/'Project Summary'!$C$10, \"\")","v":""}]
[null,null,null,null,null,null,"",{"$f":"IF(E946<>\"\",E946/'Project Summary'!$C$9,\"\")","v":""},{"$f":"IF(F946<>\"\",F946/'Project Summary'!$C$10, \"\")","v":""}]
[null,null,null,null,null,null,"",{"$f":"IF(E947<>\"\",E947/'Project Summary'!$C$9,\"\")","v":""},{"$f":"IF(F947<>\"\",F947/'Project Summary'!$C$10, \"\")","v":""}]
[null,null,null,null,null,null,"",{"$f":"IF(E948<>\"\",E948/'Project Summary'!$C$9,\"\")","v":""},{"$f":"IF(F948<>\"\",F948/'Project Summary'!$C$10, \"\")","v":""}]
[null,null,null,null,null,null,"",{"$f":"IF(E949<>\"\",E949/'Project Summary'!$C$9,\"\")","v":""},{"$f":"IF(F949<>\"\",F949/'Project Summary'!$C$10, \"\")","v":""}]
[null,null,null,null,null,null,"",{"$f":"IF(E950<>\"\",E950/'Project Summary'!$C$9,\"\")","v":""},{"$f":"IF(F950<>\"\",F950/'Project Summary'!$C$10, \"\")","v":""}]
[null,null,null,null,null,null,"",{"$f":"IF(E951<>\"\",E951/'Project Summary'!$C$9,\"\")","v":""},{"$f":"IF(F951<>\"\",F951/'Project Summary'!$C$10, \"\")","v":""}]
[null,null,null,null,null,null,"",{"$f":"IF(E952<>\"\",E952/'Project Summary'!$C$9,\"\")","v":""},{"$f":"IF(F952<>\"\",F952/'Project Summary'!$C$10, \"\")","v":""}]
[null,null,null,null,null,null,"",{"$f":"IF(E953<>\"\",E953/'Project Summary'!$C$9,\"\")","v":""},{"$f":"IF(F953<>\"\",F953/'Project Summary'!$C$10, \"\")","v":""}]
[null,null,null,null,null,null,"",{"$f":"IF(E954<>\"\",E954/'Project Summary'!$C$9,\"\")","v":""},{"$f":"IF(F954<>\"\",F954/'Project Summary'!$C$10, \"\")","v":""}]
[null,null,null,null,null,null,"",{"$f":"IF(E955<>\"\",E955/'Project Summary'!$C$9,\"\")","v":""},{"$f":"IF(F955<>\"\",F955/'Project Summary'!$C$10, \"\")","v":""}]
[null,null,null,null,null,null,"",{"$f":"IF(E956<>\"\",E956/'Project Summary'!$C$9,\"\")","v":""},{"$f":"IF(F956<>\"\",F956/'Project Summary'!$C$10, \"\")","v":""}]
[null,null,null,null,null,null,"",{"$f":"IF(E957<>\"\",E957/'Project Summary'!$C$9,\"\")","v":""},{"$f":"IF(F957<>\"\",F957/'Project Summary'!$C$10, \"\")","v":""}]
[null,null,null,null,null,null,"",{"$f":"IF(E958<>\"\",E958/'Project Summary'!$C$9,\"\")","v":""},{"$f":"IF(F958<>\"\",F958/'Project Summary'!$C$10, \"\")","v":""}]
[null,null,null,null,null,null,"",{"$f":"IF(E959<>\"\",E959/'Project Summary'!$C$9,\"\")","v":""},{"$f":"IF(F959<>\"\",F959/'Project Summary'!$C$10, \"\")","v":""}]
[null,null,null,null,null,null,"",{"$f":"IF(E960<>\"\",E960/'Project Summary'!$C$9,\"\")","v":""},{"$f":"IF(F960<>\"\",F960/'Project Summary'!$C$10, \"\")","v":""}]
[null,null,null,null,null,null,"",{"$f":"IF(E961<>\"\",E961/'Project Summary'!$C$9,\"\")","v":""},{"$f":"IF(F961<>\"\",F961/'Project Summary'!$C$10, \"\")","v":""}]
[null,null,null,null,null,null,"",{"$f":"IF(E962<>\"\",E962/'Project Summary'!$C$9,\"\")","v":""},{"$f":"IF(F962<>\"\",F962/'Project Summary'!$C$10, \"\")","v":""}]
[null,null,null,null,null,null,"",{"$f":"IF(E963<>\"\",E963/'Project Summary'!$C$9,\"\")","v":""},{"$f":"IF(F963<>\"\",F963/'Project Summary'!$C$10, \"\")","v":""}]
[null,null,null,null,null,null,"",{"$f":"IF(E964<>\"\",E964/'Project Summary'!$C$9,\"\")","v":""},{"$f":"IF(F964<>\"\",F964/'Project Summary'!$C$10, \"\")","v":""}]
[null,null,null,null,null,null,"",{"$f":"IF(E965<>\"\",E965/'Project Summary'!$C$9,\"\")","v":""},{"$f":"IF(F965<>\"\",F965/'Project Summary'!$C$10, \"\")","v":""}]
[null,null,null,null,null,null,"",{"$f":"IF(E966<>\"\",E966/'Project Summary'!$C$9,\"\")","v":""},{"$f":"IF(F966<>\"\",F966/'Project Summary'!$C$10, \"\")","v":""}]
[null,null,null,null,null,null,"",{"$f":"IF(E967<>\"\",E967/'Project Summary'!$C$9,\"\")","v":""},{"$f":"IF(F967<>\"\",F967/'Project Summary'!$C$10, \"\")","v":""}]
[null,null,null,null,null,null,"",{"$f":"IF(E968<>\"\",E968/'Project Summary'!$C$9,\"\")","v":""},{"$f":"IF(F968<>\"\",F968/'Project Summary'!$C$10, \"\")","v":""}]
[null,null,null,null,null,null,"",{"$f":"IF(E969<>\"\",E969/'Project Summary'!$C$9,\"\")","v":""},{"$f":"IF(F969<>\"\",F969/'Project Summary'!$C$10, \"\")","v":""}]
[null,null,null,null,null,null,"",{"$f":"IF(E970<>\"\",E970/'Project Summary'!$C$9,\"\")","v":""},{"$f":"IF(F970<>\"\",F970/'Project Summary'!$C$10, \"\")","v":""}]
[null,null,null,null,null,null,"",{"$f":"IF(E971<>\"\",E971/'Project Summary'!$C$9,\"\")","v":""},{"$f":"IF(F971<>\"\",F971/'Project Summary'!$C$10, \"\")","v":""}]
[null,null,null,null,null,null,{"$f":"IF(D972<>\"\", D972/E972, \"\")","v":""},{"$f":"IF(E972<>\"\",E972/'Project Summary'!$C$9,\"\")","v":""},{"$f":"IF(F972<>\"\",F972/'Project Summary'!$C$10, \"\")","v":""}]
[null,null,null,null,null,null,"",{"$f":"IF(E973<>\"\",E973/'Project Summary'!$C$9,\"\")","v":""},{"$f":"IF(F973<>\"\",F973/'Project Summary'!$C$10, \"\")","v":""}]
[null,null,null,null,null,null,"",{"$f":"IF(E974<>\"\",E974/'Project Summary'!$C$9,\"\")","v":""},{"$f":"IF(F974<>\"\",F974/'Project Summary'!$C$10, \"\")","v":""}]
[null,null,null,null,null,null,"",{"$f":"IF(E975<>\"\",E975/'Project Summary'!$C$9,\"\")","v":""},{"$f":"IF(F975<>\"\",F975/'Project Summary'!$C$10, \"\")","v":""}]
[null,null,null,null,null,null,"",{"$f":"IF(E976<>\"\",E976/'Project Summary'!$C$9,\"\")","v":""},{"$f":"IF(F976<>\"\",F976/'Project Summary'!$C$10, \"\")","v":""}]
[null,null,null,null,null,null,"",{"$f":"IF(E977<>\"\",E977/'Project Summary'!$C$9,\"\")","v":""},{"$f":"IF(F977<>\"\",F977/'Project Summary'!$C$10, \"\")","v":""}]
[null,null,null,null,null,null,"",{"$f":"IF(E978<>\"\",E978/'Project Summary'!$C$9,\"\")","v":""},{"$f":"IF(F978<>\"\",F978/'Project Summary'!$C$10, \"\")","v":""}]
[null,null,null,null,null,null,"",{"$f":"IF(E979<>\"\",E979/'Project Summary'!$C$9,\"\")","v":""},{"$f":"IF(F979<>\"\",F979/'Project Summary'!$C$10, \"\")","v":""}]
[null,null,null,null,null,null,"",{"$f":"IF(E980<>\"\",E980/'Project Summary'!$C$9,\"\")","v":""},{"$f":"IF(F980<>\"\",F980/'Project Summary'!$C$10, \"\")","v":""}]
[null,null,null,null,null,null,"",{"$f":"IF(E981<>\"\",E981/'Project Summary'!$C$9,\"\")","v":""},{"$f":"IF(F981<>\"\",F981/'Project Summary'!$C$10, \"\")","v":""}]
[null,null,null,null,null,null,"",{"$f":"IF(E982<>\"\",E982/'Project Summary'!$C$9,\"\")","v":""},{"$f":"IF(F982<>\"\",F982/'Project Summary'!$C$10, \"\")","v":""}]
[null,null,null,null,null,null,"",{"$f":"IF(E983<>\"\",E983/'Project Summary'!$C$9,\"\")","v":""},{"$f":"IF(F983<>\"\",F983/'Project Summary'!$C$10, \"\")","v":""}]
[null,null,null,null,null,null,"",{"$f":"IF(E984<>\"\",E984/'Project Summary'!$C$9,\"\")","v":""},{"$f":"IF(F984<>\"\",F984/'Project Summary'!$C$10, \"\")","v":""}]
[null,null,null,null,null,null,"",{"$f":"IF(E985<>\"\",E985/'Project Summary'!$C$9,\"\")","v":""},{"$f":"IF(F985<>\"\",F985/'Project Summary'!$C$10, \"\")","v":""}]
[null,null,null,null,null,null,"",{"$f":"IF(E986<>\"\",E986/'Project Summary'!$C$9,\"\")","v":""},{"$f":"IF(F986<>\"\",F986/'Project Summary'!$C$10, \"\")","v":""}]
[null,null,null,null,null,null,"",{"$f":"IF(E987<>\"\",E987/'Project Summary'!$C$9,\"\")","v":""},{"$f":"IF(F987<>\"\",F987/'Project Summary'!$C$10, \"\")","v":""}]
[null,null,null,null,null,null,"",{"$f":"IF(E988<>\"\",E988/'Project Summary'!$C$9,\"\")","v":""},{"$f":"IF(F988<>\"\",F988/'Project Summary'!$C$10, \"\")","v":""}]
[null,null,null,null,null,null,"",{"$f":"IF(E989<>\"\",E989/'Project Summary'!$C$9,\"\")","v":""},{"$f":"IF(F989<>\"\",F989/'Project Summary'!$C$10, \"\")","v":""}]
[null,null,null,null,null,null,"",{"$f":"IF(E990<>\"\",E990/'Project Summary'!$C$9,\"\")","v":""},{"$f":"IF(F990<>\"\",F990/'Project Summary'!$C$10, \"\")","v":""}]
[null,null,null,null,null,null,"",{"$f":"IF(E991<>\"\",E991/'Project Summary'!$C$9,\"\")","v":""},{"$f":"IF(F991<>\"\",F991/'Project Summary'!$C$10, \"\")","v":""}]
[null,null,null,null,null,null,"",{"$f":"IF(E992<>\"\",E992/'Project Summary'!$C$9,\"\")","v":""},{"$f":"IF(F992<>\"\",F992/'Project Summary'!$C$10, \"\")","v":""}]
[null,null,null,null,null,null,"",{"$f":"IF(E993<>\"\",E993/'Project Summary'!$C$9,\"\")","v":""},{"$f":"IF(F993<>\"\",F993/'Project Summary'!$C$10, \"\")","v":""}]
[null,null,null,null,null,null,"",{"$f":"IF(E994<>\"\",E994/'Project Summary'!$C$9,\"\")","v":""},{"$f":"IF(F994<>\"\",F994/'Project Summary'!$C$10, \"\")","v":""}]
[null,null,null,null,null,null,"",{"$f":"IF(E995<>\"\",E995/'Project Summary'!$C$9,\"\")","v":""},{"$f":"IF(F995<>\"\",F995/'Project Summary'!$C$10, \"\")","v":""}]
[null,null,null,null,null,null,"",{"$f":"IF(E996<>\"\",E996/'Project Summary'!$C$9,\"\")","v":""},{"$f":"IF(F996<>\"\",F996/'Project Summary'!$C$10, \"\")","v":""}]
[null,null,null,null,null,null,"",{"$f":"IF(E997<>\"\",E997/'Project Summary'!$C$9,\"\")","v":""},{"$f":"IF(F997<>\"\",F997/'Project Summary'!$C$10, \"\")","v":""}]
[null,null,null,null,null,null,"",{"$f":"IF(E998<>\"\",E998/'Project Summary'!$C$9,\"\")","v":""},{"$f":"IF(F998<>\"\",F998/'Project Summary'!$C$10, \"\")","v":""}]
[null,null,null,null,null,null,"",{"$f":"IF(E999<>\"\",E999/'Project Summary'!$C$9,\"\")","v":""},{"$f":"IF(F999<>\"\",F999/'Project Summary'!$C$10, \"\")","v":""}]
[null,null,null,null,null,null,"",{"$f":"IF(E1000<>\"\",E1000/'Project Summary'!$C$9,\"\")","v":""},{"$f":"IF(F1000<>\"\",F1000/'Project Summary'!$C$10, \"\")","v":""}]
[null,null,null,null,null,null,"",{"$f":"IF(E1001<>\"\",E1001/'Project Summary'!$C$9,\"\")","v":""},{"$f":"IF(F1001<>\"\",F1001/'Project Summary'!$C$10, \"\")","v":""}]
[null,null,null,null,null,null,"",{"$f":"IF(E1002<>\"\",E1002/'Project Summary'!$C$9,\"\")","v":""},{"$f":"IF(F1002<>\"\",F1002/'Project Summary'!$C$10, \"\")","v":""}]
[null,null,null,null,null,null,"",{"$f":"IF(E1003<>\"\",E1003/'Project Summary'!$C$9,\"\")","v":""},{"$f":"IF(F1003<>\"\",F1003/'Project Summary'!$C$10, \"\")","v":""}]
[null,null,null,null,null,null,"",{"$f":"IF(E1004<>\"\",E1004/'Project Summary'!$C$9,\"\")","v":""},{"$f":"IF(F1004<>\"\",F1004/'Project Summary'!$C$10, \"\")","v":""}]
[null,null,null,null,null,null,"",{"$f":"IF(E1005<>\"\",E1005/'Project Summary'!$C$9,\"\")","v":""},{"$f":"IF(F1005<>\"\",F1005/'Project Summary'!$C$10, \"\")","v":""}]
[null,null,null,null,null,null,"",{"$f":"IF(E1006<>\"\",E1006/'Project Summary'!$C$9,\"\")","v":""},{"$f":"IF(F1006<>\"\",F1006/'Project Summary'!$C$10, \"\")","v":""}]
[null,null,null,null,null,null,"",{"$f":"IF(E1007<>\"\",E1007/'Project Summary'!$C$9,\"\")","v":""},{"$f":"IF(F1007<>\"\",F1007/'Project Summary'!$C$10, \"\")","v":""}]
[null,null,null,null,null,null,"",{"$f":"IF(E1008<>\"\",E1008/'Project Summary'!$C$9,\"\")","v":""},{"$f":"IF(F1008<>\"\",F1008/'Project Summary'!$C$10, \"\")","v":""}]
[null,null,null,null,null,null,"",{"$f":"IF(E1009<>\"\",E1009/'Project Summary'!$C$9,\"\")","v":""},{"$f":"IF(F1009<>\"\",F1009/'Project Summary'!$C$10, \"\")","v":""}]
[null,null,null,null,null,null,"",{"$f":"IF(E1010<>\"\",E1010/'Project Summary'!$C$9,\"\")","v":""},{"$f":"IF(F1010<>\"\",F1010/'Project Summary'!$C$10, \"\")","v":""}]
[null,null,null,null,null,null,"",{"$f":"IF(E1011<>\"\",E1011/'Project Summary'!$C$9,\"\")","v":""},{"$f":"IF(F1011<>\"\",F1011/'Project Summary'!$C$10, \"\")","v":""}]
[null,null,null,null,null,null,"",{"$f":"IF(E1012<>\"\",E1012/'Project Summary'!$C$9,\"\")","v":""},{"$f":"IF(F1012<>\"\",F1012/'Project Summary'!$C$10, \"\")","v":""}]
[null,null,null,null,null,null,"",{"$f":"IF(E1013<>\"\",E1013/'Project Summary'!$C$9,\"\")","v":""},{"$f":"IF(F1013<>\"\",F1013/'Project Summary'!$C$10, \"\")","v":""}]
[null,null,null,null,null,null,"",{"$f":"IF(E1014<>\"\",E1014/'Project Summary'!$C$9,\"\")","v":""},{"$f":"IF(F1014<>\"\",F1014/'Project Summary'!$C$10, \"\")","v":""}]
[null,null,null,null,null,null,"",{"$f":"IF(E1015<>\"\",E1015/'Project Summary'!$C$9,\"\")","v":""},{"$f":"IF(F1015<>\"\",F1015/'Project Summary'!$C$10, \"\")","v":""}]
[null,null,null,null,null,null,"",{"$f":"IF(E1016<>\"\",E1016/'Project Summary'!$C$9,\"\")","v":""},{"$f":"IF(F1016<>\"\",F1016/'Project Summary'!$C$10, \"\")","v":""}]
[null,null,null,null,null,null,"",{"$f":"IF(E1017<>\"\",E1017/'Project Summary'!$C$9,\"\")","v":""},{"$f":"IF(F1017<>\"\",F1017/'Project Summary'!$C$10, \"\")","v":""}]
[null,null,null,null,null,null,"",{"$f":"IF(E1018<>\"\",E1018/'Project Summary'!$C$9,\"\")","v":""},{"$f":"IF(F1018<>\"\",F1018/'Project Summary'!$C$10, \"\")","v":""}]
[null,null,null,null,null,null,"",{"$f":"IF(E1019<>\"\",E1019/'Project Summary'!$C$9,\"\")","v":""},{"$f":"IF(F1019<>\"\",F1019/'Project Summary'!$C$10, \"\")","v":""}]
[null,null,null,null,null,null,"",{"$f":"IF(E1020<>\"\",E1020/'Project Summary'!$C$9,\"\")","v":""},{"$f":"IF(F1020<>\"\",F1020/'Project Summary'!$C$10, \"\")","v":""}]
[null,null,null,null,null,null,"",{"$f":"IF(E1021<>\"\",E1021/'Project Summary'!$C$9,\"\")","v":""},{"$f":"IF(F1021<>\"\",F1021/'Project Summary'!$C$10, \"\")","v":""}]
[null,null,null,null,null,null,"",{"$f":"IF(E1022<>\"\",E1022/'Project Summary'!$C$9,\"\")","v":""},{"$f":"IF(F1022<>\"\",F1022/'Project Summary'!$C$10, \"\")","v":""}]
[null,null,null,null,null,null,"",{"$f":"IF(E1023<>\"\",E1023/'Project Summary'!$C$9,\"\")","v":""},{"$f":"IF(F1023<>\"\",F1023/'Project Summary'!$C$10, \"\")","v":""}]
[null,null,null,null,null,null,"",{"$f":"IF(E1024<>\"\",E1024/'Project Summary'!$C$9,\"\")","v":""},{"$f":"IF(F1024<>\"\",F1024/'Project Summary'!$C$10, \"\")","v":""}]
[null,null,null,null,null,null,"",{"$f":"IF(E1025<>\"\",E1025/'Project Summary'!$C$9,\"\")","v":""},{"$f":"IF(F1025<>\"\",F1025/'Project Summary'!$C$10, \"\")","v":""}]
[null,null,null,null,null,null,"",{"$f":"IF(E1026<>\"\",E1026/'Project Summary'!$C$9,\"\")","v":""},{"$f":"IF(F1026<>\"\",F1026/'Project Summary'!$C$10, \"\")","v":""}]
[null,null,null,null,null,null,"",{"$f":"IF(E1027<>\"\",E1027/'Project Summary'!$C$9,\"\")","v":""},{"$f":"IF(F1027<>\"\",F1027/'Project Summary'!$C$10, \"\")","v":""}]
[null,null,null,null,null,null,"",{"$f":"IF(E1028<>\"\",E1028/'Project Summary'!$C$9,\"\")","v":""},{"$f":"IF(F1028<>\"\",F1028/'Project Summary'!$C$10, \"\")","v":""}]
[null,null,null,null,null,null,"",{"$f":"IF(E1029<>\"\",E1029/'Project Summary'!$C$9,\"\")","v":""},{"$f":"IF(F1029<>\"\",F1029/'Project Summary'!$C$10, \"\")","v":""}]
[null,null,null,null,null,null,"",{"$f":"IF(E1030<>\"\",E1030/'Project Summary'!$C$9,\"\")","v":""},{"$f":"IF(F1030<>\"\",F1030/'Project Summary'!$C$10, \"\")","v":""}]
[null,null,null,null,null,null,"",{"$f":"IF(E1031<>\"\",E1031/'Project Summary'!$C$9,\"\")","v":""},{"$f":"IF(F1031<>\"\",F1031/'Project Summary'!$C$10, \"\")","v":""}]
[null,null,null,null,null,null,"",{"$f":"IF(E1032<>\"\",E1032/'Project Summary'!$C$9,\"\")","v":""},{"$f":"IF(F1032<>\"\",F1032/'Project Summary'!$C$10, \"\")","v":""}]
[null,null,null,null,null,null,"",{"$f":"IF(E1033<>\"\",E1033/'Project Summary'!$C$9,\"\")","v":""},{"$f":"IF(F1033<>\"\",F1033/'Project Summary'!$C$10, \"\")","v":""}]
[null,null,null,null,null,null,"",{"$f":"IF(E1034<>\"\",E1034/'Project Summary'!$C$9,\"\")","v":""},{"$f":"IF(F1034<>\"\",F1034/'Project Summary'!$C$10, \"\")","v":""}]
[null,null,null,null,null,null,"",{"$f":"IF(E1035<>\"\",E1035/'Project Summary'!$C$9,\"\")","v":""},{"$f":"IF(F1035<>\"\",F1035/'Project Summary'!$C$10, \"\")","v":""}]
[null,null,null,null,null,null,{"$f":"IF(D1036<>\"\", D1036/E1036, \"\")","v":""},{"$f":"IF(E1036<>\"\",E1036/'Project Summary'!$C$9,\"\")","v":""},{"$f":"IF(F1036<>\"\",F1036/'Project Summary'!$C$10, \"\")","v":""}]
[null,null,null,null,null,null,"",{"$f":"IF(E1037<>\"\",E1037/'Project Summary'!$C$9,\"\")","v":""},{"$f":"IF(F1037<>\"\",F1037/'Project Summary'!$C$10, \"\")","v":""}]
[null,null,null,null,null,null,"",{"$f":"IF(E1038<>\"\",E1038/'Project Summary'!$C$9,\"\")","v":""},{"$f":"IF(F1038<>\"\",F1038/'Project Summary'!$C$10, \"\")","v":""}]
[null,null,null,null,null,null,"",{"$f":"IF(E1039<>\"\",E1039/'Project Summary'!$C$9,\"\")","v":""},{"$f":"IF(F1039<>\"\",F1039/'Project Summary'!$C$10, \"\")","v":""}]
[null,null,null,null,null,null,"",{"$f":"IF(E1040<>\"\",E1040/'Project Summary'!$C$9,\"\")","v":""},{"$f":"IF(F1040<>\"\",F1040/'Project Summary'!$C$10, \"\")","v":""}]
[null,null,null,null,null,null,"",{"$f":"IF(E1041<>\"\",E1041/'Project Summary'!$C$9,\"\")","v":""},{"$f":"IF(F1041<>\"\",F1041/'Project Summary'!$C$10, \"\")","v":""}]
[null,null,null,null,null,null,"",{"$f":"IF(E1042<>\"\",E1042/'Project Summary'!$C$9,\"\")","v":""},{"$f":"IF(F1042<>\"\",F1042/'Project Summary'!$C$10, \"\")","v":""}]
[null,null,null,null,null,null,"",{"$f":"IF(E1043<>\"\",E1043/'Project Summary'!$C$9,\"\")","v":""},{"$f":"IF(F1043<>\"\",F1043/'Project Summary'!$C$10, \"\")","v":""}]
[null,null,null,null,null,null,"",{"$f":"IF(E1044<>\"\",E1044/'Project Summary'!$C$9,\"\")","v":""},{"$f":"IF(F1044<>\"\",F1044/'Project Summary'!$C$10, \"\")","v":""}]
[null,null,null,null,null,null,"",{"$f":"IF(E1045<>\"\",E1045/'Project Summary'!$C$9,\"\")","v":""},{"$f":"IF(F1045<>\"\",F1045/'Project Summary'!$C$10, \"\")","v":""}]
[null,null,null,null,null,null,"",{"$f":"IF(E1046<>\"\",E1046/'Project Summary'!$C$9,\"\")","v":""},{"$f":"IF(F1046<>\"\",F1046/'Project Summary'!$C$10, \"\")","v":""}]
[null,null,null,null,null,null,"",{"$f":"IF(E1047<>\"\",E1047/'Project Summary'!$C$9,\"\")","v":""},{"$f":"IF(F1047<>\"\",F1047/'Project Summary'!$C$10, \"\")","v":""}]
[null,null,null,null,null,null,"",{"$f":"IF(E1048<>\"\",E1048/'Project Summary'!$C$9,\"\")","v":""},{"$f":"IF(F1048<>\"\",F1048/'Project Summary'!$C$10, \"\")","v":""}]
[null,null,null,null,null,null,"",{"$f":"IF(E1049<>\"\",E1049/'Project Summary'!$C$9,\"\")","v":""},{"$f":"IF(F1049<>\"\",F1049/'Project Summary'!$C$10, \"\")","v":""}]
[null,null,null,null,null,null,"",{"$f":"IF(E1050<>\"\",E1050/'Project Summary'!$C$9,\"\")","v":""},{"$f":"IF(F1050<>\"\",F1050/'Project Summary'!$C$10, \"\")","v":""}]
[null,null,null,null,null,null,"",{"$f":"IF(E1051<>\"\",E1051/'Project Summary'!$C$9,\"\")","v":""},{"$f":"IF(F1051<>\"\",F1051/'Project Summary'!$C$10, \"\")","v":""}]
[null,null,null,null,null,null,"",{"$f":"IF(E1052<>\"\",E1052/'Project Summary'!$C$9,\"\")","v":""},{"$f":"IF(F1052<>\"\",F1052/'Project Summary'!$C$10, \"\")","v":""}]
[null,null,null,null,null,null,"",{"$f":"IF(E1053<>\"\",E1053/'Project Summary'!$C$9,\"\")","v":""},{"$f":"IF(F1053<>\"\",F1053/'Project Summary'!$C$10, \"\")","v":""}]
[null,null,null,null,null,null,"",{"$f":"IF(E1054<>\"\",E1054/'Project Summary'!$C$9,\"\")","v":""},{"$f":"IF(F1054<>\"\",F1054/'Project Summary'!$C$10, \"\")","v":""}]
[null,null,null,null,null,null,"",{"$f":"IF(E1055<>\"\",E1055/'Project Summary'!$C$9,\"\")","v":""},{"$f":"IF(F1055<>\"\",F1055/'Project Summary'!$C$10, \"\")","v":""}]
[null,null,null,null,null,null,"",{"$f":"IF(E1056<>\"\",E1056/'Project Summary'!$C$9,\"\")","v":""},{"$f":"IF(F1056<>\"\",F1056/'Project Summary'!$C$10, \"\")","v":""}]
[null,null,null,null,null,null,"",{"$f":"IF(E1057<>\"\",E1057/'Project Summary'!$C$9,\"\")","v":""},{"$f":"IF(F1057<>\"\",F1057/'Project Summary'!$C$10, \"\")","v":""}]
[null,null,null,null,null,null,"",{"$f":"IF(E1058<>\"\",E1058/'Project Summary'!$C$9,\"\")","v":""},{"$f":"IF(F1058<>\"\",F1058/'Project Summary'!$C$10, \"\")","v":""}]
[null,null,null,null,null,null,"",{"$f":"IF(E1059<>\"\",E1059/'Project Summary'!$C$9,\"\")","v":""},{"$f":"IF(F1059<>\"\",F1059/'Project Summary'!$C$10, \"\")","v":""}]
[null,null,null,null,null,null,"",{"$f":"IF(E1060<>\"\",E1060/'Project Summary'!$C$9,\"\")","v":""},{"$f":"IF(F1060<>\"\",F1060/'Project Summary'!$C$10, \"\")","v":""}]
[null,null,null,null,null,null,"",{"$f":"IF(E1061<>\"\",E1061/'Project Summary'!$C$9,\"\")","v":""},{"$f":"IF(F1061<>\"\",F1061/'Project Summary'!$C$10, \"\")","v":""}]
[null,null,null,null,null,null,"",{"$f":"IF(E1062<>\"\",E1062/'Project Summary'!$C$9,\"\")","v":""},{"$f":"IF(F1062<>\"\",F1062/'Project Summary'!$C$10, \"\")","v":""}]
[null,null,null,null,null,null,"",{"$f":"IF(E1063<>\"\",E1063/'Project Summary'!$C$9,\"\")","v":""},{"$f":"IF(F1063<>\"\",F1063/'Project Summary'!$C$10, \"\")","v":""}]
[null,null,null,null,null,null,"",{"$f":"IF(E1064<>\"\",E1064/'Project Summary'!$C$9,\"\")","v":""},{"$f":"IF(F1064<>\"\",F1064/'Project Summary'!$C$10, \"\")","v":""}]
[null,null,null,null,null,null,"",{"$f":"IF(E1065<>\"\",E1065/'Project Summary'!$C$9,\"\")","v":""},{"$f":"IF(F1065<>\"\",F1065/'Project Summary'!$C$10, \"\")","v":""}]
[null,null,null,null,null,null,"",{"$f":"IF(E1066<>\"\",E1066/'Project Summary'!$C$9,\"\")","v":""},{"$f":"IF(F1066<>\"\",F1066/'Project Summary'!$C$10, \"\")","v":""}]
[null,null,null,null,null,null,"",{"$f":"IF(E1067<>\"\",E1067/'Project Summary'!$C$9,\"\")","v":""},{"$f":"IF(F1067<>\"\",F1067/'Project Summary'!$C$10, \"\")","v":""}]
[null,null,null,null,null,null,"",{"$f":"IF(E1068<>\"\",E1068/'Project Summary'!$C$9,\"\")","v":""},{"$f":"IF(F1068<>\"\",F1068/'Project Summary'!$C$10, \"\")","v":""}]
[null,null,null,null,null,null,"",{"$f":"IF(E1069<>\"\",E1069/'Project Summary'!$C$9,\"\")","v":""},{"$f":"IF(F1069<>\"\",F1069/'Project Summary'!$C$10, \"\")","v":""}]
[null,null,null,null,null,null,"",{"$f":"IF(E1070<>\"\",E1070/'Project Summary'!$C$9,\"\")","v":""},{"$f":"IF(F1070<>\"\",F1070/'Project Summary'!$C$10, \"\")","v":""}]
[null,null,null,null,null,null,"",{"$f":"IF(E1071<>\"\",E1071/'Project Summary'!$C$9,\"\")","v":""},{"$f":"IF(F1071<>\"\",F1071/'Project Summary'!$C$10, \"\")","v":""}]
[null,null,null,null,null,null,"",{"$f":"IF(E1072<>\"\",E1072/'Project Summary'!$C$9,\"\")","v":""},{"$f":"IF(F1072<>\"\",F1072/'Project Summary'!$C$10, \"\")","v":""}]
[null,null,null,null,null,null,"",{"$f":"IF(E1073<>\"\",E1073/'Project Summary'!$C$9,\"\")","v":""},{"$f":"IF(F1073<>\"\",F1073/'Project Summary'!$C$10, \"\")","v":""}]
[null,null,null,null,null,null,"",{"$f":"IF(E1074<>\"\",E1074/'Project Summary'!$C$9,\"\")","v":""},{"$f":"IF(F1074<>\"\",F1074/'Project Summary'!$C$10, \"\")","v":""}]
[null,null,null,null,null,null,"",{"$f":"IF(E1075<>\"\",E1075/'Project Summary'!$C$9,\"\")","v":""},{"$f":"IF(F1075<>\"\",F1075/'Project Summary'!$C$10, \"\")","v":""}]
[null,null,null,null,null,null,"",{"$f":"IF(E1076<>\"\",E1076/'Project Summary'!$C$9,\"\")","v":""},{"$f":"IF(F1076<>\"\",F1076/'Project Summary'!$C$10, \"\")","v":""}]
[null,null,null,null,null,null,"",{"$f":"IF(E1077<>\"\",E1077/'Project Summary'!$C$9,\"\")","v":""},{"$f":"IF(F1077<>\"\",F1077/'Project Summary'!$C$10, \"\")","v":""}]
[null,null,null,null,null,null,"",{"$f":"IF(E1078<>\"\",E1078/'Project Summary'!$C$9,\"\")","v":""},{"$f":"IF(F1078<>\"\",F1078/'Project Summary'!$C$10, \"\")","v":""}]
[null,null,null,null,null,null,"",{"$f":"IF(E1079<>\"\",E1079/'Project Summary'!$C$9,\"\")","v":""},{"$f":"IF(F1079<>\"\",F1079/'Project Summary'!$C$10, \"\")","v":""}]
[null,null,null,null,null,null,"",{"$f":"IF(E1080<>\"\",E1080/'Project Summary'!$C$9,\"\")","v":""},{"$f":"IF(F1080<>\"\",F1080/'Project Summary'!$C$10, \"\")","v":""}]
[null,null,null,null,null,null,"",{"$f":"IF(E1081<>\"\",E1081/'Project Summary'!$C$9,\"\")","v":""},{"$f":"IF(F1081<>\"\",F1081/'Project Summary'!$C$10, \"\")","v":""}]
[null,null,null,null,null,null,"",{"$f":"IF(E1082<>\"\",E1082/'Project Summary'!$C$9,\"\")","v":""},{"$f":"IF(F1082<>\"\",F1082/'Project Summary'!$C$10, \"\")","v":""}]
[null,null,null,null,null,null,"",{"$f":"IF(E1083<>\"\",E1083/'Project Summary'!$C$9,\"\")","v":""},{"$f":"IF(F1083<>\"\",F1083/'Project Summary'!$C$10, \"\")","v":""}]
[null,null,null,null,null,null,"",{"$f":"IF(E1084<>\"\",E1084/'Project Summary'!$C$9,\"\")","v":""},{"$f":"IF(F1084<>\"\",F1084/'Project Summary'!$C$10, \"\")","v":""}]
[null,null,null,null,null,null,"",{"$f":"IF(E1085<>\"\",E1085/'Project Summary'!$C$9,\"\")","v":""},{"$f":"IF(F1085<>\"\",F1085/'Project Summary'!$C$10, \"\")","v":""}]
[null,null,null,null,null,null,"",{"$f":"IF(E1086<>\"\",E1086/'Project Summary'!$C$9,\"\")","v":""},{"$f":"IF(F1086<>\"\",F1086/'Project Summary'!$C$10, \"\")","v":""}]
[null,null,null,null,null,null,"",{"$f":"IF(E1087<>\"\",E1087/'Project Summary'!$C$9,\"\")","v":""},{"$f":"IF(F1087<>\"\",F1087/'Project Summary'!$C$10, \"\")","v":""}]
[null,null,null,null,null,null,"",{"$f":"IF(E1088<>\"\",E1088/'Project Summary'!$C$9,\"\")","v":""},{"$f":"IF(F1088<>\"\",F1088/'Project Summary'!$C$10, \"\")","v":""}]
[null,null,null,null,null,null,"",{"$f":"IF(E1089<>\"\",E1089/'Project Summary'!$C$9,\"\")","v":""},{"$f":"IF(F1089<>\"\",F1089/'Project Summary'!$C$10, \"\")","v":""}]
[null,null,null,null,null,null,"",{"$f":"IF(E1090<>\"\",E1090/'Project Summary'!$C$9,\"\")","v":""},{"$f":"IF(F1090<>\"\",F1090/'Project Summary'!$C$10, \"\")","v":""}]
[null,null,null,null,null,null,"",{"$f":"IF(E1091<>\"\",E1091/'Project Summary'!$C$9,\"\")","v":""},{"$f":"IF(F1091<>\"\",F1091/'Project Summary'!$C$10, \"\")","v":""}]
[null,null,null,null,null,null,"",{"$f":"IF(E1092<>\"\",E1092/'Project Summary'!$C$9,\"\")","v":""},{"$f":"IF(F1092<>\"\",F1092/'Project Summary'!$C$10, \"\")","v":""}]
[null,null,null,null,null,null,"",{"$f":"IF(E1093<>\"\",E1093/'Project Summary'!$C$9,\"\")","v":""},{"$f":"IF(F1093<>\"\",F1093/'Project Summary'!$C$10, \"\")","v":""}]
[null,null,null,null,null,null,"",{"$f":"IF(E1094<>\"\",E1094/'Project Summary'!$C$9,\"\")","v":""},{"$f":"IF(F1094<>\"\",F1094/'Project Summary'!$C$10, \"\")","v":""}]
[null,null,null,null,null,null,"",{"$f":"IF(E1095<>\"\",E1095/'Project Summary'!$C$9,\"\")","v":""},{"$f":"IF(F1095<>\"\",F1095/'Project Summary'!$C$10, \"\")","v":""}]
[null,null,null,null,null,null,"",{"$f":"IF(E1096<>\"\",E1096/'Project Summary'!$C$9,\"\")","v":""},{"$f":"IF(F1096<>\"\",F1096/'Project Summary'!$C$10, \"\")","v":""}]
[null,null,null,null,null,null,"",{"$f":"IF(E1097<>\"\",E1097/'Project Summary'!$C$9,\"\")","v":""},{"$f":"IF(F1097<>\"\",F1097/'Project Summary'!$C$10, \"\")","v":""}]
[null,null,null,null,null,null,"",{"$f":"IF(E1098<>\"\",E1098/'Project Summary'!$C$9,\"\")","v":""},{"$f":"IF(F1098<>\"\",F1098/'Project Summary'!$C$10, \"\")","v":""}]
[null,null,null,null,null,null,"",{"$f":"IF(E1099<>\"\",E1099/'Project Summary'!$C$9,\"\")","v":""},{"$f":"IF(F1099<>\"\",F1099/'Project Summary'!$C$10, \"\")","v":""}]
[null,null,null,null,null,null,{"$f":"IF(D1100<>\"\", D1100/E1100, \"\")","v":""},{"$f":"IF(E1100<>\"\",E1100/'Project Summary'!$C$9,\"\")","v":""},{"$f":"IF(F1100<>\"\",F1100/'Project Summary'!$C$10, \"\")","v":""}]
[null,null,null,null,null,null,"",{"$f":"IF(E1101<>\"\",E1101/'Project Summary'!$C$9,\"\")","v":""},{"$f":"IF(F1101<>\"\",F1101/'Project Summary'!$C$10, \"\")","v":""}]
[null,null,null,null,null,null,"",{"$f":"IF(E1102<>\"\",E1102/'Project Summary'!$C$9,\"\")","v":""},{"$f":"IF(F1102<>\"\",F1102/'Project Summary'!$C$10, \"\")","v":""}]
[null,null,null,null,null,null,"",{"$f":"IF(E1103<>\"\",E1103/'Project Summary'!$C$9,\"\")","v":""},{"$f":"IF(F1103<>\"\",F1103/'Project Summary'!$C$10, \"\")","v":""}]
[null,null,null,null,null,null,"",{"$f":"IF(E1104<>\"\",E1104/'Project Summary'!$C$9,\"\")","v":""},{"$f":"IF(F1104<>\"\",F1104/'Project Summary'!$C$10, \"\")","v":""}]
[null,null,null,null,null,null,"",{"$f":"IF(E1105<>\"\",E1105/'Project Summary'!$C$9,\"\")","v":""},{"$f":"IF(F1105<>\"\",F1105/'Project Summary'!$C$10, \"\")","v":""}]
[null,null,null,null,null,null,"",{"$f":"IF(E1106<>\"\",E1106/'Project Summary'!$C$9,\"\")","v":""},{"$f":"IF(F1106<>\"\",F1106/'Project Summary'!$C$10, \"\")","v":""}]
[null,null,null,null,null,null,"",{"$f":"IF(E1107<>\"\",E1107/'Project Summary'!$C$9,\"\")","v":""},{"$f":"IF(F1107<>\"\",F1107/'Project Summary'!$C$10, \"\")","v":""}]
[null,null,null,null,null,null,"",{"$f":"IF(E1108<>\"\",E1108/'Project Summary'!$C$9,\"\")","v":""},{"$f":"IF(F1108<>\"\",F1108/'Project Summary'!$C$10, \"\")","v":""}]
[null,null,null,null,null,null,"",{"$f":"IF(E1109<>\"\",E1109/'Project Summary'!$C$9,\"\")","v":""},{"$f":"IF(F1109<>\"\",F1109/'Project Summary'!$C$10, \"\")","v":""}]
[null,null,null,null,null,null,"",{"$f":"IF(E1110<>\"\",E1110/'Project Summary'!$C$9,\"\")","v":""},{"$f":"IF(F1110<>\"\",F1110/'Project Summary'!$C$10, \"\")","v":""}]
[null,null,null,null,null,null,"",{"$f":"IF(E1111<>\"\",E1111/'Project Summary'!$C$9,\"\")","v":""},{"$f":"IF(F1111<>\"\",F1111/'Project Summary'!$C$10, \"\")","v":""}]
[null,null,null,null,null,null,"",{"$f":"IF(E1112<>\"\",E1112/'Project Summary'!$C$9,\"\")","v":""},{"$f":"IF(F1112<>\"\",F1112/'Project Summary'!$C$10, \"\")","v":""}]
[null,null,null,null,null,null,"",{"$f":"IF(E1113<>\"\",E1113/'Project Summary'!$C$9,\"\")","v":""},{"$f":"IF(F1113<>\"\",F1113/'Project Summary'!$C$10, \"\")","v":""}]
[null,null,null,null,null,null,"",{"$f":"IF(E1114<>\"\",E1114/'Project Summary'!$C$9,\"\")","v":""},{"$f":"IF(F1114<>\"\",F1114/'Project Summary'!$C$10, \"\")","v":""}]
[null,null,null,null,null,null,"",{"$f":"IF(E1115<>\"\",E1115/'Project Summary'!$C$9,\"\")","v":""},{"$f":"IF(F1115<>\"\",F1115/'Project Summary'!$C$10, \"\")","v":""}]
[null,null,null,null,null,null,"",{"$f":"IF(E1116<>\"\",E1116/'Project Summary'!$C$9,\"\")","v":""},{"$f":"IF(F1116<>\"\",F1116/'Project Summary'!$C$10, \"\")","v":""}]
[null,null,null,null,null,null,"",{"$f":"IF(E1117<>\"\",E1117/'Project Summary'!$C$9,\"\")","v":""},{"$f":"IF(F1117<>\"\",F1117/'Project Summary'!$C$10, \"\")","v":""}]
[null,null,null,null,null,null,"",{"$f":"IF(E1118<>\"\",E1118/'Project Summary'!$C$9,\"\")","v":""},{"$f":"IF(F1118<>\"\",F1118/'Project Summary'!$C$10, \"\")","v":""}]
[null,null,null,null,null,null,"",{"$f":"IF(E1119<>\"\",E1119/'Project Summary'!$C$9,\"\")","v":""},{"$f":"IF(F1119<>\"\",F1119/'Project Summary'!$C$10, \"\")","v":""}]
[null,null,null,null,null,null,"",{"$f":"IF(E1120<>\"\",E1120/'Project Summary'!$C$9,\"\")","v":""},{"$f":"IF(F1120<>\"\",F1120/'Project Summary'!$C$10, \"\")","v":""}]
[null,null,null,null,null,null,"",{"$f":"IF(E1121<>\"\",E1121/'Project Summary'!$C$9,\"\")","v":""},{"$f":"IF(F1121<>\"\",F1121/'Project Summary'!$C$10, \"\")","v":""}]
[null,null,null,null,null,null,"",{"$f":"IF(E1122<>\"\",E1122/'Project Summary'!$C$9,\"\")","v":""},{"$f":"IF(F1122<>\"\",F1122/'Project Summary'!$C$10, \"\")","v":""}]
[null,null,null,null,null,null,"",{"$f":"IF(E1123<>\"\",E1123/'Project Summary'!$C$9,\"\")","v":""},{"$f":"IF(F1123<>\"\",F1123/'Project Summary'!$C$10, \"\")","v":""}]
[null,null,null,null,null,null,"",{"$f":"IF(E1124<>\"\",E1124/'Project Summary'!$C$9,\"\")","v":""},{"$f":"IF(F1124<>\"\",F1124/'Project Summary'!$C$10, \"\")","v":""}]
[null,null,null,null,null,null,"",{"$f":"IF(E1125<>\"\",E1125/'Project Summary'!$C$9,\"\")","v":""},{"$f":"IF(F1125<>\"\",F1125/'Project Summary'!$C$10, \"\")","v":""}]
[null,null,null,null,null,null,"",{"$f":"IF(E1126<>\"\",E1126/'Project Summary'!$C$9,\"\")","v":""},{"$f":"IF(F1126<>\"\",F1126/'Project Summary'!$C$10, \"\")","v":""}]
[null,null,null,null,null,null,"",{"$f":"IF(E1127<>\"\",E1127/'Project Summary'!$C$9,\"\")","v":""},{"$f":"IF(F1127<>\"\",F1127/'Project Summary'!$C$10, \"\")","v":""}]
[null,null,null,null,null,null,"",{"$f":"IF(E1128<>\"\",E1128/'Project Summary'!$C$9,\"\")","v":""},{"$f":"IF(F1128<>\"\",F1128/'Project Summary'!$C$10, \"\")","v":""}]
[null,null,null,null,null,null,"",{"$f":"IF(E1129<>\"\",E1129/'Project Summary'!$C$9,\"\")","v":""},{"$f":"IF(F1129<>\"\",F1129/'Project Summary'!$C$10, \"\")","v":""}]
[null,null,null,null,null,null,"",{"$f":"IF(E1130<>\"\",E1130/'Project Summary'!$C$9,\"\")","v":""},{"$f":"IF(F1130<>\"\",F1130/'Project Summary'!$C$10, \"\")","v":""}]
[null,null,null,null,null,null,"",{"$f":"IF(E1131<>\"\",E1131/'Project Summary'!$C$9,\"\")","v":""},{"$f":"IF(F1131<>\"\",F1131/'Project Summary'!$C$10, \"\")","v":""}]
[null,null,null,null,null,null,"",{"$f":"IF(E1132<>\"\",E1132/'Project Summary'!$C$9,\"\")","v":""},{"$f":"IF(F1132<>\"\",F1132/'Project Summary'!$C$10, \"\")","v":""}]
[null,null,null,null,null,null,"",{"$f":"IF(E1133<>\"\",E1133/'Project Summary'!$C$9,\"\")","v":""},{"$f":"IF(F1133<>\"\",F1133/'Project Summary'!$C$10, \"\")","v":""}]
[null,null,null,null,null,null,"",{"$f":"IF(E1134<>\"\",E1134/'Project Summary'!$C$9,\"\")","v":""},{"$f":"IF(F1134<>\"\",F1134/'Project Summary'!$C$10, \"\")","v":""}]
[null,null,null,null,null,null,"",{"$f":"IF(E1135<>\"\",E1135/'Project Summary'!$C$9,\"\")","v":""},{"$f":"IF(F1135<>\"\",F1135/'Project Summary'!$C$10, \"\")","v":""}]
[null,null,null,null,null,null,"",{"$f":"IF(E1136<>\"\",E1136/'Project Summary'!$C$9,\"\")","v":""},{"$f":"IF(F1136<>\"\",F1136/'Project Summary'!$C$10, \"\")","v":""}]
[null,null,null,null,null,null,"",{"$f":"IF(E1137<>\"\",E1137/'Project Summary'!$C$9,\"\")","v":""},{"$f":"IF(F1137<>\"\",F1137/'Project Summary'!$C$10, \"\")","v":""}]
[null,null,null,null,null,null,"",{"$f":"IF(E1138<>\"\",E1138/'Project Summary'!$C$9,\"\")","v":""},{"$f":"IF(F1138<>\"\",F1138/'Project Summary'!$C$10, \"\")","v":""}]
[null,null,null,null,null,null,"",{"$f":"IF(E1139<>\"\",E1139/'Project Summary'!$C$9,\"\")","v":""},{"$f":"IF(F1139<>\"\",F1139/'Project Summary'!$C$10, \"\")","v":""}]
[null,null,null,null,null,null,"",{"$f":"IF(E1140<>\"\",E1140/'Project Summary'!$C$9,\"\")","v":""},{"$f":"IF(F1140<>\"\",F1140/'Project Summary'!$C$10, \"\")","v":""}]
[null,null,null,null,null,null,"",{"$f":"IF(E1141<>\"\",E1141/'Project Summary'!$C$9,\"\")","v":""},{"$f":"IF(F1141<>\"\",F1141/'Project Summary'!$C$10, \"\")","v":""}]
[null,null,null,null,null,null,"",{"$f":"IF(E1142<>\"\",E1142/'Project Summary'!$C$9,\"\")","v":""},{"$f":"IF(F1142<>\"\",F1142/'Project Summary'!$C$10, \"\")","v":""}]
[null,null,null,null,null,null,"",{"$f":"IF(E1143<>\"\",E1143/'Project Summary'!$C$9,\"\")","v":""},{"$f":"IF(F1143<>\"\",F1143/'Project Summary'!$C$10, \"\")","v":""}]

{"sheet":"User System","index":3,"n_rows":114,"n_cols":8,"rows_kept":114,"cut":false,"hidden":false,"merged":[]}
[]
[null,"User System"]
[]
[null,"Operating System","Users","% Users",null,"Most recent .NET framework installed","Users","% Users"]
[null,"Windows 7 / 2008 R2",null,{"$f":"C5/$C$10","v":{"$error":"#DIV/0!"}},null,".NET 4",null,{"$f":"G5/$G$10","v":{"$error":"#DIV/0!"}}]
[null,"Windows Vista / 2008",null,{"$f":"C6/$C$10","v":{"$error":"#DIV/0!"}},null,".NET 3.5",null,{"$f":"G6/$G$10","v":{"$error":"#DIV/0!"}}]
[null,"Windows 2003",null,{"$f":"C7/$C$10","v":{"$error":"#DIV/0!"}},null,".NET 3.0",null,{"$f":"G7/$G$10","v":{"$error":"#DIV/0!"}}]
[null,"Windows XP",null,{"$f":"C8/$C$10","v":{"$error":"#DIV/0!"}},null,".NET 2.0",null,{"$f":"G8/$G$10","v":{"$error":"#DIV/0!"}}]
[null,"Windows 2000",null,{"$f":"C9/$C$10","v":{"$error":"#DIV/0!"}},null,".NET 1.1",null,{"$f":"G9/$G$10","v":{"$error":"#DIV/0!"}}]
[null,"Total:",{"$f":"SUM(C5:C9)","v":0},{"$f":"SUM(D5:D9)","v":{"$error":"#DIV/0!"}},null,"Total:",{"$f":"SUM(G5:G9)","v":0},{"$f":"SUM(H5:H9)","v":{"$error":"#DIV/0!"}}]
[]
[]
[null,"The data below can be collected by referencing ReportUsage.dll in the SmartAssembly folder, and making static calls such as:"]
[null,"SmartAssembly.ReportUsage.PlatformData.ReportTheme() or SmartAssembly.ReportUsage.PlatformData.ReportAll()"]
[]
[null,"Negative numbers in the 'other' column usually indicate that a some users have used the software on various platforms, so are counted many times"]
[]
[null,"Number of monitors","Users","% Users",null,"Primary monitor resolution","Users","% Users"]
[null,null,null,{"$f":"C19/$C$30","v":{"$error":"#DIV/0!"}},null,null,null,{"$f":"G19/$G$30","v":{"$error":"#DIV/0!"}}]
[null,null,null,{"$f":"C20/$C$30","v":{"$error":"#DIV/0!"}},null,null,null,{"$f":"G20/$G$30","v":{"$error":"#DIV/0!"}}]
[null,null,null,{"$error":"#DIV/0!"},null,null,null,{"$error":"#DIV/0!"}]
[null,null,null,{"$error":"#DIV/0!"},null,null,null,{"$error":"#DIV/0!"}]
[null,null,null,{"$error":"#DIV/0!"},null,null,null,{"$error":"#DIV/0!"}]
[null,null,null,{"$error":"#DIV/0!"},null,null,null,{"$error":"#DIV/0!"}]
[null,null,null,{"$error":"#DIV/0!"},null,null,null,{"$error":"#DIV/0!"}]
[null,null,null,{"$error":"#DIV/0!"},null,null,null,{"$error":"#DIV/0!"}]
[null,null,null,{"$error":"#DIV/0!"},null,null,null,{"$error":"#DIV/0!"}]
[null,null,null,{"$error":"#DIV/0!"},null,null,null,{"$error":"#DIV/0!"}]
[null,"Unknown:",{"$f":"C30 - SUM(C19:C28)","v":0},{"$error":"#DIV/0!"},null,"Other/unknown:",{"$f":"G30 - SUM(G19:G28)","v":0},{"$error":"#DIV/0!"}]
[null,"Total:",{"$f":"'Project Summary'!$C$10","v":0},{"$f":"SUM(D19:D29)","v":{"$error":"#DIV/0!"}},null,"Total:",{"$f":"'Project Summary'!$C$10","v":0},{"$f":"SUM(H19:H29)","v":{"$error":"#DIV/0!"}}]
[]
[null,"Number of CPU Cores","Users","% Users",null,"OS bitness","Users","% Users"]
[null,null,null,{"$f":"C33/'Project Summary'!$C$10","v":{"$error":"#DIV/0!"}},null,null,null,{"$f":"G33/'Project Summary'!$C$10","v":{"$error":"#DIV/0!"}}]
[null,null,null,{"$f":"C34/'Project Summary'!$C$10","v":{"$error":"#DIV/0!"}},null,null,null,{"$f":"G34/'Project Summary'!$C$10","v":{"$error":"#DIV/0!"}}]
[null,null,null,{"$f":"C35/'Project Summary'!$C$10","v":{"$error":"#DIV/0!"}},null,"Unknown:",{"$f":"G36 - SUM(G33:G34)","v":0},{"$f":"G35/'Project Summary'!$C$10","v":{"$error":"#DIV/0!"}}]
[null,null,null,{"$f":"C36/'Project Summary'!$C$10","v":{"$error":"#DIV/0!"}},null,"Total:",{"$f":"'Project Summary'!$C$10","v":0},{"$f":"SUM(H33:H35)","v":{"$error":"#DIV/0!"}}]
[null,null,null,{"$f":"C37/'Project Summary'!$C$10","v":{"$error":"#DIV/0!"}}]
[null,null,null,{"$f":"C38/'Project Summary'!$C$10","v":{"$error":"#DIV/0!"}}]
[null,null,null,{"$f":"C39/'Project Summary'!$C$10","v":{"$error":"#DIV/0!"}}]
[null,null,null,{"$f":"C40/'Project Summary'!$C$10","v":{"$error":"#DIV/0!"}},null,"Executing program bitness","Users","% Users"]
[null,null,null,{"$f":"C41/'Project Summary'!$C$10","v":{"$error":"#DIV/0!"}},null,null,null,{"$f":"G41/'Project Summary'!$C$10","v":{"$error":"#DIV/0!"}}]
[null,null,null,{"$f":"C42/'Project Summary'!$C$10","v":{"$error":"#DIV/0!"}},null,null,null,{"$f":"G42/'Project Summary'!$C$10","v":{"$error":"#DIV/0!"}}]
[null,"Unknown:",{"$f":"C44 - SUM(C33:C42)","v":0},{"$f":"C43/'Project Summary'!$C$10","v":{"$error":"#DIV/0!"}},null,"Unknown:",{"$f":"G44 - SUM(G41:G42)","v":0},{"$f":"G43/'Project Summary'!$C$10","v":{"$error":"#DIV/0!"}}]
[null,"Total:",{"$f":"'Project Summary'!$C$10","v":0},{"$f":"SUM(D33:D43)","v":{"$error":"#DIV/0!"}},null,"Total:",{"$f":"'Project Summary'!$C$10","v":0},{"$f":"SUM(H41:H43)","v":{"$error":"#DIV/0!"}}]
[]
[null,"UTC offset","Users","% Users",null,"Total Physical Memory","Users","% Users"]
[null,null,null,{"$f":"C47/'Project Summary'!$C$10","v":{"$error":"#DIV/0!"}},null,null,null,{"$f":"G47/'Project Summary'!$C$10","v":{"$error":"#DIV/0!"}}]
[null,null,null,{"$f":"C48/'Project Summary'!$C$10","v":{"$error":"#DIV/0!"}},null,null,null,{"$f":"G48/'Project Summary'!$C$10","v":{"$error":"#DIV/0!"}}]
[null,null,null,{"$f":"C49/'Project Summary'!$C$10","v":{"$error":"#DIV/0!"}},null,null,null,{"$f":"G49/'Project Summary'!$C$10","v":{"$error":"#DIV/0!"}}]
[null,null,null,{"$f":"C50/'Project Summary'!$C$10","v":{"$error":"#DIV/0!"}},null,null,null,{"$f":"G50/'Project Summary'!$C$10","v":{"$error":"#DIV/0!"}}]
[null,null,null,{"$f":"C51/'Project Summary'!$C$10","v":{"$error":"#DIV/0!"}},null,null,null,{"$f":"G51/'Project Summary'!$C$10","v":{"$error":"#DIV/0!"}}]
[null,null,null,{"$f":"C52/'Project Summary'!$C$10","v":{"$error":"#DIV/0!"}},null,null,null,{"$f":"G52/'Project Summary'!$C$10","v":{"$error":"#DIV/0!"}}]
[null,null,null,{"$f":"C53/'Project Summary'!$C$10","v":{"$error":"#DIV/0!"}},null,null,null,{"$f":"G53/'Project Summary'!$C$10","v":{"$error":"#DIV/0!"}}]
[null,null,null,{"$f":"C54/'Project Summary'!$C$10","v":{"$error":"#DIV/0!"}},null,null,null,{"$f":"G54/'Project Summary'!$C$10","v":{"$error":"#DIV/0!"}}]
[null,null,null,{"$f":"C55/'Project Summary'!$C$10","v":{"$error":"#DIV/0!"}},null,null,null,{"$f":"G55/'Project Summary'!$C$10","v":{"$error":"#DIV/0!"}}]
[null,null,null,{"$f":"C56/'Project Summary'!$C$10","v":{"$error":"#DIV/0!"}},null,null,null,{"$f":"G56/'Project Summary'!$C$10","v":{"$error":"#DIV/0!"}}]
[null,"Other/unknown:",{"$f":"C58 - SUM(C47:C56)","v":0},{"$f":"C57/'Project Summary'!$C$10","v":{"$error":"#DIV/0!"}},null,"Unknown:",{"$f":"G58 - SUM(G47:G56)","v":0},{"$f":"G57/'Project Summary'!$C$10","v":{"$error":"#DIV/0!"}}]
[null,"Total:",{"$f":"'Project Summary'!$C$10","v":0},{"$f":"SUM(D47:D57)","v":{"$error":"#DIV/0!"}},null,"Total:",{"$f":"'Project Summary'!$C$10","v":0},{"$f":"SUM(H47:H57)","v":{"$error":"#DIV/0!"}}]
[]
[null,"Most popular culture name","Users","% Users",null,"Most popular culture LCID","Users","% Users"]
[null,null,null,{"$f":"C61/'Project Summary'!$C$10","v":{"$error":"#DIV/0!"}},null,null,null,{"$f":"G61/'Project Summary'!$C$10","v":{"$error":"#DIV/0!"}}]
[null,null,null,{"$f":"C62/'Project Summary'!$C$10","v":{"$error":"#DIV/0!"}},null,null,null,{"$f":"G62/'Project Summary'!$C$10","v":{"$error":"#DIV/0!"}}]
[null,null,null,{"$f":"C63/'Project Summary'!$C$10","v":{"$error":"#DIV/0!"}},null,null,null,{"$f":"G63/'Project Summary'!$C$10","v":{"$error":"#DIV/0!"}}]
[null,null,null,{"$f":"C64/'Project Summary'!$C$10","v":{"$error":"#DIV/0!"}},null,null,null,{"$f":"G64/'Project Summary'!$C$10","v":{"$error":"#DIV/0!"}}]
[null,null,null,{"$f":"C65/'Project Summary'!$C$10","v":{"$error":"#DIV/0!"}},null,null,null,{"$f":"G65/'Project Summary'!$C$10","v":{"$error":"#DIV/0!"}}]
[null,null,null,{"$f":"C66/'Project Summary'!$C$10","v":{"$error":"#DIV/0!"}},null,null,null,{"$f":"G66/'Project Summary'!$C$10","v":{"$error":"#DIV/0!"}}]
[null,null,null,{"$f":"C67/'Project Summary'!$C$10","v":{"$error":"#DIV/0!"}},null,null,null,{"$f":"G67/'Project Summary'!$C$10","v":{"$error":"#DIV/0!"}}]
[null,null,null,{"$f":"C68/'Project Summary'!$C$10","v":{"$error":"#DIV/0!"}},null,null,null,{"$f":"G68/'Project Summary'!$C$10","v":{"$error":"#DIV/0!"}}]
[null,null,null,{"$f":"C69/'Project Summary'!$C$10","v":{"$error":"#DIV/0!"}},null,null,null,{"$f":"G69/'Project Summary'!$C$10","v":{"$error":"#DIV/0!"}}]
[null,null,null,{"$f":"C70/'Project Summary'!$C$10","v":{"$error":"#DIV/0!"}},null,null,null,{"$f":"G70/'Project Summary'!$C$10","v":{"$error":"#DIV/0!"}}]
[null,null,null,{"$f":"C71/'Project Summary'!$C$10","v":{"$error":"#DIV/0!"}},null,null,null,{"$f":"G71/'Project Summary'!$C$10","v":{"$error":"#DIV/0!"}}]
[null,null,null,{"$f":"C72/'Project Summary'!$C$10","v":{"$error":"#DIV/0!"}},null,null,null,{"$f":"G72/'Project Summary'!$C$10","v":{"$error":"#DIV/0!"}}]
[null,null,null,{"$f":"C73/'Project Summary'!$C$10","v":{"$error":"#DIV/0!"}},null,null,null,{"$f":"G73/'Project Summary'!$C$10","v":{"$error":"#DIV/0!"}}]
[null,null,null,{"$f":"C74/'Project Summary'!$C$10","v":{"$error":"#DIV/0!"}},null,null,null,{"$f":"G74/'Project Summary'!$C$10","v":{"$error":"#DIV/0!"}}]
[null,null,null,{"$f":"C75/'Project Summary'!$C$10","v":{"$error":"#DIV/0!"}},null,null,null,{"$f":"G75/'Project Summary'!$C$10","v":{"$error":"#DIV/0!"}}]
[null,null,null,{"$f":"C76/'Project Summary'!$C$10","v":{"$error":"#DIV/0!"}},null,null,null,{"$f":"G76/'Project Summary'!$C$10","v":{"$error":"#DIV/0!"}}]
[null,null,null,{"$f":"C77/'Project Summary'!$C$10","v":{"$error":"#DIV/0!"}},null,null,null,{"$f":"G77/'Project Summary'!$C$10","v":{"$error":"#DIV/0!"}}]
[null,null,null,{"$f":"C78/'Project Summary'!$C$10","v":{"$error":"#DIV/0!"}},null,null,null,{"$f":"G78/'Project Summary'!$C$10","v":{"$error":"#DIV/0!"}}]
[null,null,null,{"$f":"C79/'Project Summary'!$C$10","v":{"$error":"#DIV/0!"}},null,null,null,{"$f":"G79/'Project Summary'!$C$10","v":{"$error":"#DIV/0!"}}]
[null,null,null,{"$f":"C80/'Project Summary'!$C$10","v":{"$error":"#DIV/0!"}},null,null,null,{"$f":"G80/'Project Summary'!$C$10","v":{"$error":"#DIV/0!"}}]
[null,null,null,{"$f":"C81/'Project Summary'!$C$10","v":{"$error":"#DIV/0!"}},null,null,null,{"$f":"G81/'Project Summary'!$C$10","v":{"$error":"#DIV/0!"}}]
[null,null,null,{"$f":"C82/'Project Summary'!$C$10","v":{"$error":"#DIV/0!"}},null,null,null,{"$f":"G82/'Project Summary'!$C$10","v":{"$error":"#DIV/0!"}}]
[null,null,null,{"$f":"C83/'Project Summary'!$C$10","v":{"$error":"#DIV/0!"}},null,null,null,{"$f":"G83/'Project Summary'!$C$10","v":{"$error":"#DIV/0!"}}]
[null,null,null,{"$f":"C84/'Project Summary'!$C$10","v":{"$error":"#DIV/0!"}},null,null,null,{"$f":"G84/'Project Summary'!$C$10","v":{"$error":"#DIV/0!"}}]
[null,"Other/unknown:",{"$f":"C86 - SUM(C61:C84)","v":0},{"$f":"C85/'Project Summary'!$C$10","v":{"$error":"#DIV/0!"}},null,"Other/unknown:",{"$f":"G86 - SUM(G61:G84)","v":0},{"$f":"G85/'Project Summary'!$C$10","v":{"$error":"#DIV/0!"}}]
[null,"Total:",{"$f":"'Project Summary'!$C$10","v":0},{"$f":"SUM(D61:D85)","v":{"$error":"#DIV/0!"}},null,"Total:",{"$f":"'Project Summary'!$C$10","v":0},{"$f":"SUM(H61:H85)","v":{"$error":"#DIV/0!"}}]
[]
[null,"UI culture name","Users","% Users",null,"UI culture LCID","Users","% Users"]
[null,null,null,{"$f":"C89/'Project Summary'!$C$10","v":{"$error":"#DIV/0!"}},null,null,null,{"$f":"G89/'Project Summary'!$C$10","v":{"$error":"#DIV/0!"}}]
[null,null,null,{"$f":"C90/'Project Summary'!$C$10","v":{"$error":"#DIV/0!"}},null,null,null,{"$f":"G90/'Project Summary'!$C$10","v":{"$error":"#DIV/0!"}}]
[null,null,null,{"$f":"C91/'Project Summary'!$C$10","v":{"$error":"#DIV/0!"}},null,null,null,{"$f":"G91/'Project Summary'!$C$10","v":{"$error":"#DIV/0!"}}]
[null,null,null,{"$f":"C92/'Project Summary'!$C$10","v":{"$error":"#DIV/0!"}},null,null,null,{"$f":"G92/'Project Summary'!$C$10","v":{"$error":"#DIV/0!"}}]
[null,null,null,{"$f":"C93/'Project Summary'!$C$10","v":{"$error":"#DIV/0!"}},null,null,null,{"$f":"G93/'Project Summary'!$C$10","v":{"$error":"#DIV/0!"}}]
[null,null,null,{"$f":"C94/'Project Summary'!$C$10","v":{"$error":"#DIV/0!"}},null,null,null,{"$f":"G94/'Project Summary'!$C$10","v":{"$error":"#DIV/0!"}}]
[null,null,null,{"$f":"C95/'Project Summary'!$C$10","v":{"$error":"#DIV/0!"}},null,null,null,{"$f":"G95/'Project Summary'!$C$10","v":{"$error":"#DIV/0!"}}]
[null,null,null,{"$f":"C96/'Project Summary'!$C$10","v":{"$error":"#DIV/0!"}},null,null,null,{"$f":"G96/'Project Summary'!$C$10","v":{"$error":"#DIV/0!"}}]
[null,null,null,{"$f":"C97/'Project Summary'!$C$10","v":{"$error":"#DIV/0!"}},null,null,null,{"$f":"G97/'Project Summary'!$C$10","v":{"$error":"#DIV/0!"}}]
[null,null,null,{"$f":"C98/'Project Summary'!$C$10","v":{"$error":"#DIV/0!"}},null,null,null,{"$f":"G98/'Project Summary'!$C$10","v":{"$error":"#DIV/0!"}}]
[null,"Other/unknown:",{"$f":"C100 - SUM(C89:C98)","v":0},{"$f":"C99/'Project Summary'!$C$10","v":{"$error":"#DIV/0!"}},null,"Other/unknown:",{"$f":"G100 - SUM(G89:G98)","v":0},{"$f":"G99/'Project Summary'!$C$10","v":{"$error":"#DIV/0!"}}]
[null,"Total:",{"$f":"'Project Summary'!$C$10","v":0},{"$f":"SUM(D89:D99)","v":{"$error":"#DIV/0!"}},null,"Total:",{"$f":"'Project Summary'!$C$10","v":0},{"$f":"SUM(H89:H99)","v":{"$error":"#DIV/0!"}}]
[]
[null,"Installed UI culture name","Users","% Users",null,"Installed UI culture LCID","Users","% Users"]
[null,null,null,{"$f":"C103/'Project Summary'!$C$10","v":{"$error":"#DIV/0!"}},null,null,null,{"$f":"G103/'Project Summary'!$C$10","v":{"$error":"#DIV/0!"}}]
[null,null,null,{"$f":"C104/'Project Summary'!$C$10","v":{"$error":"#DIV/0!"}},null,null,null,{"$f":"G104/'Project Summary'!$C$10","v":{"$error":"#DIV/0!"}}]
[null,null,null,{"$f":"C105/'Project Summary'!$C$10","v":{"$error":"#DIV/0!"}},null,null,null,{"$f":"G105/'Project Summary'!$C$10","v":{"$error":"#DIV/0!"}}]
[null,null,null,{"$f":"C106/'Project Summary'!$C$10","v":{"$error":"#DIV/0!"}},null,null,null,{"$f":"G106/'Project Summary'!$C$10","v":{"$error":"#DIV/0!"}}]
[null,null,null,{"$f":"C107/'Project Summary'!$C$10","v":{"$error":"#DIV/0!"}},null,null,null,{"$f":"G107/'Project Summary'!$C$10","v":{"$error":"#DIV/0!"}}]
[null,null,null,{"$f":"C108/'Project Summary'!$C$10","v":{"$error":"#DIV/0!"}},null,null,null,{"$f":"G108/'Project Summary'!$C$10","v":{"$error":"#DIV/0!"}}]
[null,null,null,{"$f":"C109/'Project Summary'!$C$10","v":{"$error":"#DIV/0!"}},null,null,null,{"$f":"G109/'Project Summary'!$C$10","v":{"$error":"#DIV/0!"}}]
[null,null,null,{"$f":"C110/'Project Summary'!$C$10","v":{"$error":"#DIV/0!"}},null,null,null,{"$f":"G110/'Project Summary'!$C$10","v":{"$error":"#DIV/0!"}}]
[null,null,null,{"$f":"C111/'Project Summary'!$C$10","v":{"$error":"#DIV/0!"}},null,null,null,{"$f":"G111/'Project Summary'!$C$10","v":{"$error":"#DIV/0!"}}]
[null,null,null,{"$f":"C112/'Project Summary'!$C$10","v":{"$error":"#DIV/0!"}},null,null,null,{"$f":"G112/'Project Summary'!$C$10","v":{"$error":"#DIV/0!"}}]
[null,"Other/unknown:",{"$f":"C114 - SUM(C103:C112)","v":0},{"$f":"C113/'Project Summary'!$C$10","v":{"$error":"#DIV/0!"}},null,"Other/unknown:",{"$f":"G114 - SUM(G103:G112)","v":0},{"$f":"G113/'Project Summary'!$C$10","v":{"$error":"#DIV/0!"}}]
[null,"Total:",{"$f":"'Project Summary'!$C$10","v":0},{"$f":"SUM(D103:D113)","v":{"$error":"#DIV/0!"}},null,"Total:",{"$f":"'Project Summary'!$C$10","v":0},{"$f":"SUM(H103:H113)","v":{"$error":"#DIV/0!"}}]

{"sheet":"Usage Times","index":4,"n_rows":117,"n_cols":4,"rows_kept":117,"cut":false,"hidden":false,"merged":[]}
[]
[null,"Usage Times"]
[]
[null,"Number of usages by individual users.  This shows the total number times a given user uses the software"]
[]
[null,"Total Usages","Users","Percent"]
[null,1,null,{"$f":"C7/SUM($C$7:$C$30)","v":{"$error":"#DIV/0!"}}]
[null,2,null,{"$error":"#DIV/0!"}]
[null,3,null,{"$error":"#DIV/0!"}]
[null,4,null,{"$error":"#DIV/0!"}]
[null,5,null,{"$error":"#DIV/0!"}]
[null,6,null,{"$error":"#DIV/0!"}]
[null,7,null,{"$error":"#DIV/0!"}]
[null,8,null,{"$error":"#DIV/0!"}]
[null,9,null,{"$error":"#DIV/0!"}]
[null,10,null,{"$error":"#DIV/0!"}]
[null,11,null,{"$error":"#DIV/0!"}]
[null,12,null,{"$error":"#DIV/0!"}]
[null,13,null,{"$error":"#DIV/0!"}]
[null,14,null,{"$error":"#DIV/0!"}]
[null,15,null,{"$error":"#DIV/0!"}]
[null,16,null,{"$error":"#DIV/0!"}]
[null,17,null,{"$error":"#DIV/0!"}]
[null,18,null,{"$error":"#DIV/0!"}]
[null,19,null,{"$error":"#DIV/0!"}]
[null,20,null,{"$error":"#DIV/0!"}]
[null,"21-30",null,{"$error":"#DIV/0!"}]
[null,"31-50",null,{"$error":"#DIV/0!"}]
[null,"51 - 500",null,{"$error":"#DIV/0!"}]
[null,"501 or more",null,{"$error":"#DIV/0!"}]
[]
[null,"Time of day that sessions occurred"]
[]
[null,"Time of day","Usages"]
[null,"00:00:00"]
[null,"01:00:00"]
[null,"02:00:00"]
[null,"03:00:00"]
[null,"04:00:00"]
[null,"05:00:00"]
[null,"06:00:00"]
[null,"07:00:00"]
[null,"08:00:00"]
[null,"09:00:00"]
[null,"10:00:00"]
[null,"11:00:00"]
[null,"12:00:00"]
[null,"13:00:00"]
[null,"14:00:00"]
[null,"15:00:00"]
[null,"16:00:00"]
[null,"17:00:00"]
[null,"18:00:00"]
[null,"19:00:00"]
[null,"20:00:00"]
[null,"21:00:00"]
[null,"22:00:00"]
[null,"23:00:00"]
[]
[null,"Day of week that sessions occurred"]
[]
[null,"Day of week","Day"]
[null,"Sunday"]
[null,"Monday"]
[null,"Tuesday"]
[null,"Wednesday"]
[null,"Thursday"]
[null,"Friday"]
[null,"Saturday"]
[]
[]
[]
[]
[]
[]
[]
[]
[]
[]
[]
[]
[]
[null,"History of sessions occurring"]
[]
[null,"Months to view:",2]
[null,"Start date:",{"$f":"(TODAY() - C85 * 28)","v":"2011-01-10"}]
[]
[null,"Start/End Date","Usages in Period","Total Usages"]
[null,{"$f":"C86","v":"2011-01-10"},null,{"$f":"C89","v":0}]
[null,{"$f":"B89 +$C$85","v":"2011-01-12"},null,{"$f":"D89+C90","v":0}]
[null,{"$f":"B90 +$C$85","v":"2011-01-14"},null,{"$f":"D90+C91","v":0}]
[null,"2011-01-16",null,0]
[null,"2011-01-18",null,0]
[null,"2011-01-20",null,0]
[null,"2011-01-22",null,0]
[null,"2011-01-24",null,0]
[null,"2011-01-26",null,0]
[null,"2011-01-28",null,0]
[null,"2011-01-30",null,0]
[null,"2011-02-01",null,0]
[null,"2011-02-03",null,0]
[null,"2011-02-05",null,0]
[null,"2011-02-07",null,0]
[null,"2011-02-09",null,0]
[null,"2011-02-11",null,0]
[null,"2011-02-13",null,0]
[null,"2011-02-15",null,0]
[null,"2011-02-17",null,0]
[null,"2011-02-19",null,0]
[null,"2011-02-21",null,0]
[null,"2011-02-23",null,0]
[null,"2011-02-25",null,0]
[null,"2011-02-27",null,0]
[null,"2011-03-01",null,0]
[null,"2011-03-03",null,0]
[null,"2011-03-05",null,0]
[null,{"$f":"B116 +$C$85","v":"2011-03-07"}]

{"sheet":"Versions","index":5,"n_rows":6,"n_cols":31,"rows_kept":6,"cut":false,"hidden":false,"merged":[]}
[]
[null,"Versions"]
[]
[null,null,null,null,null,"Time step (days):",2,"Please enter the step size that will be used to generate the table and graph, then click 'Refresh Sheet'"]
[null,"Latest builds:",null,null,null,"10 Most popular builds: ",null,null,null,"Build usage over time (total usages to date since previous date)"]
[null,"Build version","Build date","Total Sessions",null,"Build version","Build date","Total Sessions","ID",{"$f":"TODAY()","v":"2011-03-07"},{"$f":"J6 - $G$4","v":"2011-03-05"},"2011-03-03","2011-03-01","2011-02-27","2011-02-25","2011-02-23","2011-02-21","2011-02-19","2011-02-17","2011-02-15","2011-02-13","2011-02-11","2011-02-09","2011-02-07","2011-02-05","2011-02-03","2011-02-01","2011-01-30","2011-01-28","2011-01-26","2011-01-24"]

{"sheet":"Feature Significance","index":6,"n_rows":875,"n_cols":30,"rows_kept":875,"cut":false,"hidden":false,"merged":[]}
[]
[null,"Feature Significance"]
[]
[null,"This lists aggregated statistics, examining how a selected feature (X) impacts the usage of other features (F)."]
[null,"A chi-squared test is performed to find the significance of this correlation, and whether using X makes you more or less likely to use F.",null,null,null,null,null,null,null,"Total users",null,{"$f":"'Project Summary'!C10","v":0}]
[null,"Combo box Sort:",null,null,null,null,null,null,null,"Users of feature X:",null,"Users using it"]
[null,"X: ",null,null,null,null,null,null,null,"Feature X ID:",null,"ID"]
[]
[null,"Individual Features Stats",null,null,null,null,null,null,null,null,null,null,null,null,null,null,null,null,null,null,null,null,null,null,null,null,"Utility table to load combo box from.  Please ignore"]
[null,"ID",null,"Users of F","Users of  F with X","Expected Users of F with X","Chi-Squared Statistic","Significance level","Interpretation",null,null,null,null,null,null,null,null,null,null,null,null,null,null,null,null,null,"ID","Name","Usages","Users using it"]
[null,null,null,null,null,null,null,{"$f":"IF(G11<>\"\", CHIDIST(G11,1), \"\")","v":""},{"$f":"IF(E11<>\"\", IF(E11>F11,\"Positive\", \"Negative\"), \"\")","v":""}]
[null,null,null,null,null,null,null,{"$f":"IF(G12<>\"\", CHIDIST(G12,1), \"\")","v":""},{"$f":"IF(E12<>\"\", IF(E12>F12,\"Positive\", \"Negative\"), \"\")","v":""}]
[null,null,null,null,null,null,null,"",""]
[null,null,null,null,null,null,null,"",""]
[null,null,null,null,null,null,null,"",""]
[null,null,null,null,null,null,null,"",""]
[null,null,null,null,null,null,null,"",""]
[null,null,null,null,null,null,null,"",""]
[null,null,null,null,null,null,null,"",""]
[null,null,null,null,null,null,null,"",""]
[null,null,null,null,null,null,null,"",""]
[null,null,null,null,null,null,null,"",""]
[null,null,null,null,null,null,null,"",""]
[null,null,null,null,null,null,null,"",""]
[null,null,null,null,null,null,null,"",""]
[null,null,null,null,null,null,null,"",""]
[null,null,null,null,null,null,null,"",""]
[null,null,null,null,null,null,null,"",""]
[null,null,null,null,null,null,null,"",""]
[null,null,null,null,null,null,null,"",""]
[null,null,null,null,null,null,null,"",""]
[null,null,null,null,null,null,null,"",""]
[null,null,null,null,null,null,null,"",""]
[null,null,null,null,null,null,null,"",""]
[null,null,null,null,null,null,null,"",""]
[null,null,null,null,null,null,null,"",""]
[null,null,null,null,null,null,null,"",""]
[null,null,null,null,null,null,null,"",""]
[null,null,null,null,null,null,null,"",""]
[null,null,null,null,null,null,null,"",""]
[null,null,null,null,null,null,null,"",""]
[null,null,null,null,null,null,null,"",""]
[null,null,null,null,null,null,null,"",""]
[null,null,null,null,null,null,null,"",""]
[null,null,null,null,null,null,null,"",""]
[null,null,null,null,null,null,null,"",""]
[null,null,null,null,null,null,null,"",""]
[null,null,null,null,null,null,null,"",""]
[null,null,null,null,null,null,null,"",""]
[null,null,null,null,null,null,null,"",""]
[null,null,null,null,null,null,null,"",""]
[null,null,null,null,null,null,null,"",""]
[null,null,null,null,null,null,null,"",""]
[null,null,null,null,null,null,null,"",""]
[null,null,null,null,null,null,null,"",""]
[null,null,null,null,null,null,null,"",""]
[null,null,null,null,null,null,null,"",""]
[null,null,null,null,null,null,null,"",""]
[null,null,null,null,null,null,null,"",""]
[null,null,null,null,null,null,null,"",""]
[null,null,null,null,null,null,null,"",""]
[null,null,null,null,null,null,null,"",""]
[null,null,null,null,null,null,null,"",""]
[null,null,null,null,null,null,null,"",""]
[null,null,null,null,null,null,null,"",""]
[null,null,null,null,null,null,null,"",""]
[null,null,null,null,null,null,null,"",""]
[null,null,null,null,null,null,null,"",""]
[null,null,null,null,null,null,null,"",""]
[null,null,null,null,null,null,null,"",""]
[null,null,null,null,null,null,null,"",""]
[null,null,null,null,null,null,null,"",""]
[null,null,null,null,null,null,null,"",""]
[null,null,null,null,null,null,null,"",""]
[null,null,null,null,null,null,null,"",""]
[null,null,null,null,null,null,null,{"$f":"IF(G76<>\"\", CHIDIST(G76,1), \"\")","v":""},{"$f":"IF(E76<>\"\", IF(E76>F76,\"Positive\", \"Negative\"), \"\")","v":""}]
[null,null,null,null,null,null,null,"",""]
[null,null,null,null,null,null,null,"",""]
[null,null,null,null,null,null,null,"",""]
[null,null,null,null,null,null,null,"",""]
[null,null,null,null,null,null,null,"",""]
[null,null,null,null,null,null,null,"",""]
[null,null,null,null,null,null,null,"",""]
[null,null,null,null,null,null,null,"",""]
[null,null,null,null,null,null,null,"",""]
[null,null,null,null,null,null,null,"",""]
[null,null,null,null,null,null,null,"",""]
[null,null,null,null,null,null,null,"",""]
[null,null,null,null,null,null,null,"",""]
[null,null,null,null,null,null,null,"",""]
[null,null,null,null,null,null,null,"",""]
[null,null,null,null,null,null,null,"",""]
[null,null,null,null,null,null,null,"",""]
[null,null,null,null,null,null,null,"",""]
[null,null,null,null,null,null,null,"",""]
[null,null,null,null,null,null,null,"",""]
[null,null,null,null,null,null,null,"",""]
[null,null,null,null,null,null,null,"",""]
[null,null,null,null,null,null,null,"",""]
[null,null,null,null,null,null,null,"",""]
[null,null,null,null,null,null,null,"",""]
[null,null,null,null,null,null,null,"",""]
[null,null,null,null,null,null,null,"",""]
[null,null,null,null,null,null,null,"",""]
[null,null,null,null,null,null,null,"",""]
[null,null,null,null,null,null,null,"",""]
[null,null,null,null,null,null,null,"",""]
[null,null,null,null,null,null,null,"",""]
[null,null,null,null,null,null,null,"",""]
[null,null,null,null,null,null,null,"",""]
[null,null,null,null,null,null,null,"",""]
[null,null,null,null,null,null,null,"",""]
[null,null,null,null,null,null,null,"",""]
[null,null,null,null,null,null,null,"",""]
[null,null,null,null,null,null,null,"",""]
[null,null,null,null,null,null,null,"",""]
[null,null,null,null,null,null,null,"",""]
[null,null,null,null,null,null,null,"",""]
[null,null,null,null,null,null,null,"",""]
[null,null,null,null,null,null,null,"",""]
[null,null,null,null,null,null,null,"",""]
[null,null,null,null,null,null,null,"",""]
[null,null,null,null,null,null,null,"",""]
[null,null,null,null,null,null,null,"",""]
[null,null,null,null,null,null,null,"",""]
[null,null,null,null,null,null,null,"",""]
[null,null,null,null,null,null,null,"",""]
[null,null,null,null,null,null,null,"",""]
[null,null,null,null,null,null,null,"",""]
[null,null,null,null,null,null,null,"",""]
[null,null,null,null,null,null,null,"",""]
[null,null,null,null,null,null,null,"",""]
[null,null,null,null,null,null,null,"",""]
[null,null,null,null,null,null,null,"",""]
[null,null,null,null,null,null,null,"",""]
[null,null,null,null,null,null,null,"",""]
[null,null,null,null,null,null,null,"",""]
[null,null,null,null,null,null,null,"",""]
[null,null,null,null,null,null,null,"",""]
[null,null,null,null,null,null,null,{"$f":"IF(G140<>\"\", CHIDIST(G140,1), \"\")","v":""},{"$f":"IF(E140<>\"\", IF(E140>F140,\"Positive\", \"Negative\"), \"\")","v":""}]
[null,null,null,null,null,null,null,"",""]
[null,null,null,null,null,null,null,"",""]
[null,null,null,null,null,null,null,"",""]
[null,null,null,null,null,null,null,"",""]
[null,null,null,null,null,null,null,"",""]
[null,null,null,null,null,null,null,"",""]
[null,null,null,null,null,null,null,"",""]
[null,null,null,null,null,null,null,"",""]
[null,null,null,null,null,null,null,"",""]
[null,null,null,null,null,null,null,"",""]
[null,null,null,null,null,null,null,"",""]
[null,null,null,null,null,null,null,"",""]
[null,null,null,null,null,null,null,"",""]
[null,null,null,null,null,null,null,"",""]
[null,null,null,null,null,null,null,"",""]
[null,null,null,null,null,null,null,"",""]
[null,null,null,null,null,null,null,"",""]
[null,null,null,null,null,null,null,"",""]
[null,null,null,null,null,null,null,"",""]
[null,null,null,null,null,null,null,"",""]
[null,null,null,null,null,null,null,"",""]
[null,null,null,null,null,null,null,"",""]
[null,null,null,null,null,null,null,"",""]
[null,null,null,null,null,null,null,"",""]
[null,null,null,null,null,null,null,"",""]
[null,null,null,null,null,null,null,"",""]
[null,null,null,null,null,null,null,"",""]
[null,null,null,null,null,null,null,"",""]
[null,null,null,null,null,null,null,"",""]
[null,null,null,null,null,null,null,"",""]
[null,null,null,null,null,null,null,"",""]
[null,null,null,null,null,null,null,"",""]
[null,null,null,null,null,null,null,"",""]
[null,null,null,null,null,null,null,"",""]
[null,null,null,null,null,null,null,"",""]
[null,null,null,null,null,null,null,"",""]
[null,null,null,null,null,null,null,"",""]
[null,null,null,null,null,null,null,"",""]
[null,null,null,null,null,null,null,"",""]
[null,null,null,null,null,null,null,"",""]
[null,null,null,null,null,null,null,"",""]
[null,null,null,null,null,null,null,"",""]
[null,null,null,null,null,null,null,"",""]
[null,null,null,null,null,null,null,"",""]
[null,null,null,null,null,null,null,"",""]
[null,null,null,null,null,null,null,"",""]
[null,null,null,null,null,null,null,"",""]
[null,null,null,null,null,null,null,"",""]
[null,null,null,null,null,null,null,"",""]
[null,null,null,null,null,null,null,"",""]
[null,null,null,null,null,null,null,"",""]
[null,null,null,null,null,null,null,"",""]
[null,null,null,null,null,null,null,"",""]
[null,null,null,null,null,null,null,"",""]
[null,null,null,null,null,null,null,"",""]
[null,null,null,null,null,null,null,"",""]
[null,null,null,null,null,null,null,"",""]
[null,null,null,null,null,null,null,"",""]
[null,null,null,null,null,null,null,"",""]
[null,null,null,null,null,null,null,"",""]
[null,null,null,null,null,null,null,"",""]
[null,null,null,null,null,null,null,"",""]
[null,null,null,null,null,null,null,"",""]
[null,null,null,null,null,null,null,{"$f":"IF(G204<>\"\", CHIDIST(G204,1), \"\")","v":""},{"$f":"IF(E204<>\"\", IF(E204>F204,\"Positive\", \"Negative\"), \"\")","v":""}]
[null,null,null,null,null,null,null,"",""]
[null,null,null,null,null,null,null,"",""]
[null,null,null,null,null,null,null,"",""]
[null,null,null,null,null,null,null,"",""]
[null,null,null,null,null,null,null,"",""]
[null,null,null,null,null,null,null,"",""]
[null,null,null,null,null,null,null,"",""]
[null,null,null,null,null,null,null,"",""]
[null,null,null,null,null,null,null,"",""]
[null,null,null,null,null,null,null,"",""]
[null,null,null,null,null,null,null,"",""]
[null,null,null,null,null,null,null,"",""]
[null,null,null,null,null,null,null,"",""]
[null,null,null,null,null,null,null,"",""]
[null,null,null,null,null,null,null,"",""]
[null,null,null,null,null,null,null,"",""]
[null,null,null,null,null,null,null,"",""]
[null,null,null,null,null,null,null,"",""]
[null,null,null,null,null,null,null,"",""]
[null,null,null,null,null,null,null,"",""]
[null,null,null,null,null,null,null,"",""]
[null,null,null,null,null,null,null,"",""]
[null,null,null,null,null,null,null,"",""]
[null,null,null,null,null,null,null,"",""]
[null,null,null,null,null,null,null,"",""]
[null,null,null,null,null,null,null,"",""]
[null,null,null,null,null,null,null,"",""]
[null,null,null,null,null,null,null,"",""]
[null,null,null,null,null,null,null,"",""]
[null,null,null,null,null,null,null,"",""]
[null,null,null,null,null,null,null,"",""]
[null,null,null,null,null,null,null,"",""]
[null,null,null,null,null,null,null,"",""]
[null,null,null,null,null,null,null,"",""]
[null,null,null,null,null,null,null,"",""]
[null,null,null,null,null,null,null,"",""]
[null,null,null,null,null,null,null,"",""]
[null,null,null,null,null,null,null,"",""]
[null,null,null,null,null,null,null,"",""]
[null,null,null,null,null,null,null,"",""]
[null,null,null,null,null,null,null,"",""]
[null,null,null,null,null,null,null,"",""]
[null,null,null,null,null,null,null,"",""]
[null,null,null,null,null,null,null,"",""]
[null,null,null,null,null,null,null,"",""]
[null,null,null,null,null,null,null,"",""]
[null,null,null,null,null,null,null,"",""]
[null,null,null,null,null,null,null,"",""]
[null,null,null,null,null,null,null,"",""]
[null,null,null,null,null,null,null,"",""]
[null,null,null,null,null,null,null,"",""]
[null,null,null,null,null,null,null,"",""]
[null,null,null,null,null,null,null,"",""]
[null,null,null,null,null,null,null,"",""]
[null,null,null,null,null,null,null,"",""]
[null,null,null,null,null,null,null,"",""]
[null,null,null,null,null,null,null,"",""]
[null,null,null,null,null,null,null,"",""]
[null,null,null,null,null,null,null,"",""]
[null,null,null,null,null,null,null,"",""]
[null,null,null,null,null,null,null,"",""]
[null,null,null,null,null,null,null,"",""]
[null,null,null,null,null,null,null,"",""]
[null,null,null,null,null,null,null,{"$f":"IF(G268<>\"\", CHIDIST(G268,1), \"\")","v":""},{"$f":"IF(E268<>\"\", IF(E268>F268,\"Positive\", \"Negative\"), \"\")","v":""}]
[null,null,null,null,null,null,null,"",""]
[null,null,null,null,null,null,null,"",""]
[null,null,null,null,null,null,null,"",""]
[null,null,null,null,null,null,null,"",""]
[null,null,null,null,null,null,null,"",""]
[null,null,null,null,null,null,null,"",""]
[null,null,null,null,null,null,null,"",""]
[null,null,null,null,null,null,null,"",""]
[null,null,null,null,null,null,null,"",""]
[null,null,null,null,null,null,null,"",""]
[null,null,null,null,null,null,null,"",""]
[null,null,null,null,null,null,null,"",""]
[null,null,null,null,null,null,null,"",""]
[null,null,null,null,null,null,null,"",""]
[null,null,null,null,null,null,null,"",""]
[null,null,null,null,null,null,null,"",""]
[null,null,null,null,null,null,null,"",""]
[null,null,null,null,null,null,null,"",""]
[null,null,null,null,null,null,null,"",""]
[null,null,null,null,null,null,null,"",""]
[null,null,null,null,null,null,null,"",""]
[null,null,null,null,null,null,null,"",""]
[null,null,null,null,null,null,null,"",""]
[null,null,null,null,null,null,null,"",""]
[null,null,null,null,null,null,null,"",""]
[null,null,null,null,null,null,null,"",""]
[null,null,null,null,null,null,null,"",""]
[null,null,null,null,null,null,null,"",""]
[null,null,null,null,null,null,null,"",""]
[null,null,null,null,null,null,null,"",""]
[null,null,null,null,null,null,null,"",""]
[null,null,null,null,null,null,null,"",""]
[null,null,null,null,null,null,null,"",""]
[null,null,null,null,null,null,null,"",""]
[null,null,null,null,null,null,null,"",""]
[null,null,null,null,null,null,null,"",""]
[null,null,null,null,null,null,null,"",""]
[null,null,null,null,null,null,null,"",""]
[null,null,null,null,null,null,null,"",""]
[null,null,null,null,null,null,null,"",""]
[null,null,null,null,null,null,null,"",""]
[null,null,null,null,null,null,null,"",""]
[null,null,null,null,null,null,null,"",""]
[null,null,null,null,null,null,null,"",""]
[null,null,null,null,null,null,null,"",""]
[null,null,null,null,null,null,null,"",""]
[null,null,null,null,null,null,null,"",""]
[null,null,null,null,null,null,null,"",""]
[null,null,null,null,null,null,null,"",""]
[null,null,null,null,null,null,null,"",""]
[null,null,null,null,null,null,null,"",""]
[null,null,null,null,null,null,null,"",""]
[null,null,null,null,null,null,null,"",""]
[null,null,null,null,null,null,null,"",""]
[null,null,null,null,null,null,null,"",""]
[null,null,null,null,null,null,null,"",""]
[null,null,null,null,null,null,null,"",""]
[null,null,null,null,null,null,null,"",""]
[null,null,null,null,null,null,null,"",""]
[null,null,null,null,null,null,null,"",""]
[null,null,null,null,null,null,null,"",""]
[null,null,null,null,null,null,null,"",""]
[null,null,null,null,null,null,null,"",""]
[null,null,null,null,null,null,null,{"$f":"IF(G332<>\"\", CHIDIST(G332,1), \"\")","v":""},{"$f":"IF(E332<>\"\", IF(E332>F332,\"Positive\", \"Negative\"), \"\")","v":""}]
[null,null,null,null,null,null,null,"",""]
[null,null,null,null,null,null,null,"",""]
[null,null,null,null,null,null,null,"",""]
[null,null,null,null,null,null,null,"",""]
[null,null,null,null,null,null,null,"",""]
[null,null,null,null,null,null,null,"",""]
[null,null,null,null,null,null,null,"",""]
[null,null,null,null,null,null,null,"",""]
[null,null,null,null,null,null,null,"",""]
[null,null,null,null,null,null,null,"",""]
[null,null,null,null,null,null,null,"",""]
[null,null,null,null,null,null,null,"",""]
[null,null,null,null,null,null,null,"",""]
[null,null,null,null,null,null,null,"",""]
[null,null,null,null,null,null,null,"",""]
[null,null,null,null,null,null,null,"",""]
[null,null,null,null,null,null,null,"",""]
[null,null,null,null,null,null,null,"",""]
[null,null,null,null,null,null,null,"",""]
[null,null,null,null,null,null,null,"",""]
[null,null,null,null,null,null,null,"",""]
[null,null,null,null,null,null,null,"",""]
[null,null,null,null,null,null,null,"",""]
[null,null,null,null,null,null,null,"",""]
[null,null,null,null,null,null,null,"",""]
[null,null,null,null,null,null,null,"",""]
[null,null,null,null,null,null,null,"",""]
[null,null,null,null,null,null,null,"",""]
[null,null,null,null,null,null,null,"",""]
[null,null,null,null,null,null,null,"",""]
[null,null,null,null,null,null,null,"",""]
[null,null,null,null,null,null,null,"",""]
[null,null,null,null,null,null,null,"",""]
[null,null,null,null,null,null,null,"",""]
[null,null,null,null,null,null,null,"",""]
[null,null,null,null,null,null,null,"",""]
[null,null,null,null,null,null,null,"",""]
[null,null,null,null,null,null,null,"",""]
[null,null,null,null,null,null,null,"",""]
[null,null,null,null,null,null,null,"",""]
[null,null,null,null,null,null,null,"",""]
[null,null,null,null,null,null,null,"",""]
[null,null,null,null,null,null,null,"",""]
[null,null,null,null,null,null,null,"",""]
[null,null,null,null,null,null,null,"",""]
[null,null,null,null,null,null,null,"",""]
[null,null,null,null,null,null,null,"",""]
[null,null,null,null,null,null,null,"",""]
[null,null,null,null,null,null,null,"",""]
[null,null,null,null,null,null,null,"",""]
[null,null,null,null,null,null,null,"",""]
[null,null,null,null,null,null,null,"",""]
[null,null,null,null,null,null,null,"",""]
[null,null,null,null,null,null,null,"",""]
[null,null,null,null,null,null,null,"",""]
[null,null,null,null,null,null,null,"",""]
[null,null,null,null,null,null,null,"",""]
[null,null,null,null,null,null,null,"",""]
[null,null,null,null,null,null,null,"",""]
[null,null,null,null,null,null,null,"",""]
[null,null,null,null,null,null,null,"",""]
[null,null,null,null,null,null,null,"",""]
[null,null,null,null,null,null,null,"",""]
[null,null,null,null,null,null,null,{"$f":"IF(G396<>\"\", CHIDIST(G396,1), \"\")","v":""},{"$f":"IF(E396<>\"\", IF(E396>F396,\"Positive\", \"Negative\"), \"\")","v":""}]
[null,null,null,null,null,null,null,"",""]
[null,null,null,null,null,null,null,"",""]
[null,null,null,null,null,null,null,"",""]
[null,null,null,null,null,null,null,"",""]
[null,null,null,null,null,null,null,"",""]
[null,null,null,null,null,null,null,"",""]
[null,null,null,null,null,null,null,"",""]
[null,null,null,null,null,null,null,"",""]
[null,null,null,null,null,null,null,"",""]
[null,null,null,null,null,null,null,"",""]
[null,null,null,null,null,null,null,"",""]
[null,null,null,null,null,null,null,"",""]
[null,null,null,null,null,null,null,"",""]
[null,null,null,null,null,null,null,"",""]
[null,null,null,null,null,null,null,"",""]
[null,null,null,null,null,null,null,"",""]
[null,null,null,null,null,null,null,"",""]
[null,null,null,null,null,null,null,"",""]
[null,null,null,null,null,null,null,"",""]
[null,null,null,null,null,null,null,"",""]
[null,null,null,null,null,null,null,"",""]
[null,null,null,null,null,null,null,"",""]
[null,null,null,null,null,null,null,"",""]
[null,null,null,null,null,null,null,"",""]
[null,null,null,null,null,null,null,"",""]
[null,null,null,null,null,null,null,"",""]
[null,null,null,null,null,null,null,"",""]
[null,null,null,null,null,null,null,"",""]
[null,null,null,null,null,null,null,"",""]
[null,null,null,null,null,null,null,"",""]
[null,null,null,null,null,null,null,"",""]
[null,null,null,null,null,null,null,"",""]
[null,null,null,null,null,null,null,"",""]
[null,null,null,null,null,null,null,"",""]
[null,null,null,null,null,null,null,"",""]
[null,null,null,null,null,null,null,"",""]
[null,null,null,null,null,null,null,"",""]
[null,null,null,null,null,null,null,"",""]
[null,null,null,null,null,null,null,"",""]
[null,null,null,null,null,null,null,"",""]
[null,null,null,null,null,null,null,"",""]
[null,null,null,null,null,null,null,"",""]
[null,null,null,null,null,null,null,"",""]
[null,null,null,null,null,null,null,"",""]
[null,null,null,null,null,null,null,"",""]
[null,null,null,null,null,null,null,"",""]
[null,null,null,null,null,null,null,"",""]
[null,null,null,null,null,null,null,"",""]
[null,null,null,null,null,null,null,"",""]
[null,null,null,null,null,null,null,"",""]
[null,null,null,null,null,null,null,"",""]
[null,null,null,null,null,null,null,"",""]
[null,null,null,null,null,null,null,"",""]
[null,null,null,null,null,null,null,"",""]
[null,null,null,null,null,null,null,"",""]
[null,null,null,null,null,null,null,"",""]
[null,null,null,null,null,null,null,"",""]
[null,null,null,null,null,null,null,"",""]
[null,null,null,null,null,null,null,"",""]
[null,null,null,null,null,null,null,"",""]
[null,null,null,null,null,null,null,"",""]
[null,null,null,null,null,null,null,"",""]
[null,null,null,null,null,null,null,"",""]
[null,null,null,null,null,null,null,{"$f":"IF(G460<>\"\", CHIDIST(G460,1), \"\")","v":""},{"$f":"IF(E460<>\"\", IF(E460>F460,\"Positive\", \"Negative\"), \"\")","v":""}]
[null,null,null,null,null,null,null,"",""]
[null,null,null,null,null,null,null,"",""]
[null,null,null,null,null,null,null,"",""]
[null,null,null,null,null,null,null,"",""]
[null,null,null,null,null,null,null,"",""]
[null,null,null,null,null,null,null,"",""]
[null,null,null,null,null,null,null,"",""]
[null,null,null,null,null,null,null,"",""]
[null,null,null,null,null,null,null,"",""]
[null,null,null,null,null,null,null,"",""]
[null,null,null,null,null,null,null,"",""]
[null,null,null,null,null,null,null,"",""]
[null,null,null,null,null,null,null,"",""]
[null,null,null,null,null,null,null,"",""]
[null,null,null,null,null,null,null,"",""]
[null,null,null,null,null,null,null,"",""]
[null,null,null,null,null,null,null,"",""]
[null,null,null,null,null,null,null,"",""]
[null,null,null,null,null,null,null,"",""]
[null,null,null,null,null,null,null,"",""]
[null,null,null,null,null,null,null,"",""]
[null,null,null,null,null,null,null,"",""]
[null,null,null,null,null,null,null,"",""]
[null,null,null,null,null,null,null,"",""]
[null,null,null,null,null,null,null,"",""]
[null,null,null,null,null,null,null,"",""]
[null,null,null,null,null,null,null,"",""]
[null,null,null,null,null,null,null,"",""]
[null,null,null,null,null,null,null,"",""]
[null,null,null,null,null,null,null,"",""]
[null,null,null,null,null,null,null,"",""]
[null,null,null,null,null,null,null,"",""]
[null,null,null,null,null,null,null,"",""]
[null,null,null,null,null,null,null,"",""]
[null,null,null,null,null,null,null,"",""]
[null,null,null,null,null,null,null,"",""]
[null,null,null,null,null,null,null,"",""]
[null,null,null,null,null,null,null,"",""]
[null,null,null,null,null,null,null,"",""]
[null,null,null,null,null,null,null,"",""]
[null,null,null,null,null,null,null,"",""]
[null,null,null,null,null,null,null,"",""]
[null,null,null,null,null,null,null,"",""]
[null,null,null,null,null,null,null,"",""]
[null,null,null,null,null,null,null,"",""]
[null,null,null,null,null,null,null,"",""]
[null,null,null,null,null,null,null,"",""]
[null,null,null,null,null,null,null,"",""]
[null,null,null,null,null,null,null,"",""]
[null,null,null,null,null,null,null,"",""]
[null,null,null,null,null,null,null,"",""]
[null,null,null,null,null,null,null,"",""]
[null,null,null,null,null,null,null,"",""]
[null,null,null,null,null,null,null,"",""]
[null,null,null,null,null,null,null,"",""]
[null,null,null,null,null,null,null,"",""]
[null,null,null,null,null,null,null,"",""]
[null,null,null,null,null,null,null,"",""]
[null,null,null,null,null,null,null,"",""]
[null,null,null,null,null,null,null,"",""]
[null,null,null,null,null,null,null,"",""]
[null,null,null,null,null,null,null,"",""]
[null,null,null,null,null,null,null,"",""]
[null,null,null,null,null,null,null,{"$f":"IF(G524<>\"\", CHIDIST(G524,1), \"\")","v":""},{"$f":"IF(E524<>\"\", IF(E524>F524,\"Positive\", \"Negative\"), \"\")","v":""}]
[null,null,null,null,null,null,null,"",""]
[null,null,null,null,null,null,null,"",""]
[null,null,null,null,null,null,null,"",""]
[null,null,null,null,null,null,null,"",""]
[null,null,null,null,null,null,null,"",""]
[null,null,null,null,null,null,null,"",""]
[null,null,null,null,null,null,null,"",""]
[null,null,null,null,null,null,null,"",""]
[null,null,null,null,null,null,null,"",""]
[null,null,null,null,null,null,null,"",""]
[null,null,null,null,null,null,null,"",""]
[null,null,null,null,null,null,null,"",""]
[null,null,null,null,null,null,null,"",""]
[null,null,null,null,null,null,null,"",""]
[null,null,null,null,null,null,null,"",""]
[null,null,null,null,null,null,null,"",""]
[null,null,null,null,null,null,null,"",""]
[null,null,null,null,null,null,null,"",""]
[null,null,null,null,null,null,null,"",""]
[null,null,null,null,null,null,null,"",""]
[null,null,null,null,null,null,null,"",""]
[null,null,null,null,null,null,null,"",""]
[null,null,null,null,null,null,null,"",""]
[null,null,null,null,null,null,null,"",""]
[null,null,null,null,null,null,null,"",""]
[null,null,null,null,null,null,null,"",""]
[null,null,null,null,null,null,null,"",""]
[null,null,null,null,null,null,null,"",""]
[null,null,null,null,null,null,null,"",""]
[null,null,null,null,null,null,null,"",""]
[null,null,null,null,null,null,null,"",""]
[null,null,null,null,null,null,null,"",""]
[null,null,null,null,null,null,null,"",""]
[null,null,null,null,null,null,null,"",""]
[null,null,null,null,null,null,null,"",""]
[null,null,null,null,null,null,null,"",""]
[null,null,null,null,null,null,null,"",""]
[null,null,null,null,null,null,null,"",""]
[null,null,null,null,null,null,null,"",""]
[null,null,null,null,null,null,null,"",""]
[null,null,null,null,null,null,null,"",""]
[null,null,null,null,null,null,null,"",""]
[null,null,null,null,null,null,null,"",""]
[null,null,null,null,null,null,null,"",""]
[null,null,null,null,null,null,null,"",""]
[null,null,null,null,null,null,null,"",""]
[null,null,null,null,null,null,null,"",""]
[null,null,null,null,null,null,null,"",""]
[null,null,null,null,null,null,null,"",""]
[null,null,null,null,null,null,null,"",""]
[null,null,null,null,null,null,null,"",""]
[null,null,null,null,null,null,null,"",""]
[null,null,null,null,null,null,null,"",""]
[null,null,null,null,null,null,null,"",""]
[null,null,null,null,null,null,null,"",""]
[null,null,null,null,null,null,null,"",""]
[null,null,null,null,null,null,null,"",""]
[null,null,null,null,null,null,null,"",""]
[null,null,null,null,null,null,null,"",""]
[null,null,null,null,null,null,null,"",""]
[null,null,null,null,null,null,null,"",""]
[null,null,null,null,null,null,null,"",""]
[null,null,null,null,null,null,null,"",""]
[null,null,null,null,null,null,null,{"$f":"IF(G588<>\"\", CHIDIST(G588,1), \"\")","v":""},{"$f":"IF(E588<>\"\", IF(E588>F588,\"Positive\", \"Negative\"), \"\")","v":""}]
[null,null,null,null,null,null,null,"",""]
[null,null,null,null,null,null,null,"",""]
[null,null,null,null,null,null,null,"",""]
[null,null,null,null,null,null,null,"",""]
[null,null,null,null,null,null,null,"",""]
[null,null,null,null,null,null,null,"",""]
[null,null,null,null,null,null,null,"",""]
[null,null,null,null,null,null,null,"",""]
[null,null,null,null,null,null,null,"",""]
[null,null,null,null,null,null,null,"",""]
[null,null,null,null,null,null,null,"",""]
[null,null,null,null,null,null,null,"",""]
[null,null,null,null,null,null,null,"",""]
[null,null,null,null,null,null,null,"",""]
[null,null,null,null,null,null,null,"",""]
[null,null,null,null,null,null,null,"",""]
[null,null,null,null,null,null,null,"",""]
[null,null,null,null,null,null,null,"",""]
[null,null,null,null,null,null,null,"",""]
[null,null,null,null,null,null,null,"",""]
[null,null,null,null,null,null,null,"",""]
[null,null,null,null,null,null,null,"",""]
[null,null,null,null,null,null,null,"",""]
[null,null,null,null,null,null,null,"",""]
[null,null,null,null,null,null,null,"",""]
[null,null,null,null,null,null,null,"",""]
[null,null,null,null,null,null,null,"",""]
[null,null,null,null,null,null,null,"",""]
[null,null,null,null,null,null,null,"",""]
[null,null,null,null,null,null,null,"",""]
[null,null,null,null,null,null,null,"",""]
[null,null,null,null,null,null,null,"",""]
[null,null,null,null,null,null,null,"",""]
[null,null,null,null,null,null,null,"",""]
[null,null,null,null,null,null,null,"",""]
[null,null,null,null,null,null,null,"",""]
[null,null,null,null,null,null,null,"",""]
[null,null,null,null,null,null,null,"",""]
[null,null,null,null,null,null,null,"",""]
[null,null,null,null,null,null,null,"",""]
[null,null,null,null,null,null,null,"",""]
[null,null,null,null,null,null,null,"",""]
[null,null,null,null,null,null,null,"",""]
[null,null,null,null,null,null,null,"",""]
[null,null,null,null,null,null,null,"",""]
[null,null,null,null,null,null,null,"",""]
[null,null,null,null,null,null,null,"",""]
[null,null,null,null,null,null,null,"",""]
[null,null,null,null,null,null,null,"",""]
[null,null,null,null,null,null,null,"",""]
[null,null,null,null,null,null,null,"",""]
[null,null,null,null,null,null,null,"",""]
[null,null,null,null,null,null,null,"",""]
[null,null,null,null,null,null,null,"",""]
[null,null,null,null,null,null,null,"",""]
[null,null,null,null,null,null,null,"",""]
[null,null,null,null,null,null,null,"",""]
[null,null,null,null,null,null,null,"",""]
[null,null,null,null,null,null,null,"",""]
[null,null,null,null,null,null,null,"",""]
[null,null,null,null,null,null,null,"",""]
[null,null,null,null,null,null,null,"",""]
[null,null,null,null,null,null,null,"",""]
[null,null,null,null,null,null,null,{"$f":"IF(G652<>\"\", CHIDIST(G652,1), \"\")","v":""},{"$f":"IF(E652<>\"\", IF(E652>F652,\"Positive\", \"Negative\"), \"\")","v":""}]
[null,null,null,null,null,null,null,"",""]
[null,null,null,null,null,null,null,"",""]
[null,null,null,null,null,null,null,"",""]
[null,null,null,null,null,null,null,"",""]
[null,null,null,null,null,null,null,"",""]
[null,null,null,null,null,null,null,"",""]
[null,null,null,null,null,null,null,"",""]
[null,null,null,null,null,null,null,"",""]
[null,null,null,null,null,null,null,"",""]
[null,null,null,null,null,null,null,"",""]
[null,null,null,null,null,null,null,"",""]
[null,null,null,null,null,null,null,"",""]
[null,null,null,null,null,null,null,"",""]
[null,null,null,null,null,null,null,"",""]
[null,null,null,null,null,null,null,"",""]
[null,null,null,null,null,null,null,"",""]
[null,null,null,null,null,null,null,"",""]
[null,null,null,null,null,null,null,"",""]
[null,null,null,null,null,null,null,"",""]
[null,null,null,null,null,null,null,"",""]
[null,null,null,null,null,null,null,"",""]
[null,null,null,null,null,null,null,"",""]
[null,null,null,null,null,null,null,"",""]
[null,null,null,null,null,null,null,"",""]
[null,null,null,null,null,null,null,"",""]
[null,null,null,null,null,null,null,"",""]
[null,null,null,null,null,null,null,"",""]
[null,null,null,null,null,null,null,"",""]
[null,null,null,null,null,null,null,"",""]
[null,null,null,null,null,null,null,"",""]
[null,null,null,null,null,null,null,"",""]
[null,null,null,null,null,null,null,"",""]
[null,null,null,null,null,null,null,"",""]
[null,null,null,null,null,null,null,"",""]
[null,null,null,null,null,null,null,"",""]
[null,null,null,null,null,null,null,"",""]
[null,null,null,null,null,null,null,"",""]
[null,null,null,null,null,null,null,"",""]
[null,null,null,null,null,null,null,"",""]
[null,null,null,null,null,null,null,"",""]
[null,null,null,null,null,null,null,"",""]
[null,null,null,null,null,null,null,"",""]
[null,null,null,null,null,null,null,"",""]
[null,null,null,null,null,null,null,"",""]
[null,null,null,null,null,null,null,"",""]
[null,null,null,null,null,null,null,"",""]
[null,null,null,null,null,null,null,"",""]
[null,null,null,null,null,null,null,"",""]
[null,null,null,null,null,null,null,"",""]
[null,null,null,null,null,null,null,"",""]
[null,null,null,null,null,null,null,"",""]
[null,null,null,null,null,null,null,"",""]
[null,null,null,null,null,null,null,"",""]
[null,null,null,null,null,null,null,"",""]
[null,null,null,null,null,null,null,"",""]
[null,null,null,null,null,null,null,"",""]
[null,null,null,null,null,null,null,"",""]
[null,null,null,null,null,null,null,"",""]
[null,null,null,null,null,null,null,"",""]
[null,null,null,null,null,null,null,"",""]
[null,null,null,null,null,null,null,"",""]
[null,null,null,null,null,null,null,"",""]
[null,null,null,null,null,null,null,"",""]
[null,null,null,null,null,null,null,{"$f":"IF(G716<>\"\", CHIDIST(G716,1), \"\")","v":""},{"$f":"IF(E716<>\"\", IF(E716>F716,\"Positive\", \"Negative\"), \"\")","v":""}]
[null,null,null,null,null,null,null,"",""]
[null,null,null,null,null,null,null,"",""]
[null,null,null,null,null,null,null,"",""]
[null,null,null,null,null,null,null,"",""]
[null,null,null,null,null,null,null,"",""]
[null,null,null,null,null,null,null,"",""]
[null,null,null,null,null,null,null,"",""]
[null,null,null,null,null,null,null,"",""]
[null,null,null,null,null,null,null,"",""]
[null,null,null,null,null,null,null,"",""]
[null,null,null,null,null,null,null,"",""]
[null,null,null,null,null,null,null,"",""]
[null,null,null,null,null,null,null,"",""]
[null,null,null,null,null,null,null,"",""]
[null,null,null,null,null,null,null,"",""]
[null,null,null,null,null,null,null,"",""]
[null,null,null,null,null,null,null,"",""]
[null,null,null,null,null,null,null,"",""]
[null,null,null,null,null,null,null,"",""]
[null,null,null,null,null,null,null,"",""]
[null,null,null,null,null,null,null,"",""]
[null,null,null,null,null,null,null,"",""]
[null,null,null,null,null,null,null,"",""]
[null,null,null,null,null,null,null,"",""]
[null,null,null,null,null,null,null,"",""]
[null,null,null,null,null,null,null,"",""]
[null,null,null,null,null,null,null,"",""]
[null,null,null,null,null,null,null,"",""]
[null,null,null,null,null,null,null,"",""]
[null,null,null,null,null,null,null,"",""]
[null,null,null,null,null,null,null,"",""]
[null,null,null,null,null,null,null,"",""]
[null,null,null,null,null,null,null,"",""]
[null,null,null,null,null,null,null,"",""]
[null,null,null,null,null,null,null,"",""]
[null,null,null,null,null,null,null,"",""]
[null,null,null,null,null,null,null,"",""]
[null,null,null,null,null,null,null,"",""]
[null,null,null,null,null,null,null,"",""]
[null,null,null,null,null,null,null,"",""]
[null,null,null,null,null,null,null,"",""]
[null,null,null,null,null,null,null,"",""]
[null,null,null,null,null,null,null,"",""]
[null,null,null,null,null,null,null,"",""]
[null,null,null,null,null,null,null,"",""]
[null,null,null,null,null,null,null,"",""]
[null,null,null,null,null,null,null,"",""]
[null,null,null,null,null,null,null,"",""]
[null,null,null,null,null,null,null,"",""]
[null,null,null,null,null,null,null,"",""]
[null,null,null,null,null,null,null,"",""]
[null,null,null,null,null,null,null,"",""]
[null,null,null,null,null,null,null,"",""]
[null,null,null,null,null,null,null,"",""]
[null,null,null,null,null,null,null,"",""]
[null,null,null,null,null,null,null,"",""]
[null,null,null,null,null,null,null,"",""]
[null,null,null,null,null,null,null,"",""]
[null,null,null,null,null,null,null,"",""]
[null,null,null,null,null,null,null,"",""]
[null,null,null,null,null,null,null,"",""]
[null,null,null,null,null,null,null,"",""]
[null,null,null,null,null,null,null,"",""]
[null,null,null,null,null,null,null,{"$f":"IF(G780<>\"\", CHIDIST(G780,1), \"\")","v":""},{"$f":"IF(E780<>\"\", IF(E780>F780,\"Positive\", \"Negative\"), \"\")","v":""}]
[null,null,null,null,null,null,null,"",""]
[null,null,null,null,null,null,null,"",""]
[null,null,null,null,null,null,null,"",""]
[null,null,null,null,null,null,null,"",""]
[null,null,null,null,null,null,null,"",""]
[null,null,null,null,null,null,null,"",""]
[null,null,null,null,null,null,null,"",""]
[null,null,null,null,null,null,null,"",""]
[null,null,null,null,null,null,null,"",""]
[null,null,null,null,null,null,null,"",""]
[null,null,null,null,null,null,null,"",""]
[null,null,null,null,null,null,null,"",""]
[null,null,null,null,null,null,null,"",""]
[null,null,null,null,null,null,null,"",""]
[null,null,null,null,null,null,null,"",""]
[null,null,null,null,null,null,null,"",""]
[null,null,null,null,null,null,null,"",""]
[null,null,null,null,null,null,null,"",""]
[null,null,null,null,null,null,null,"",""]
[null,null,null,null,null,null,null,"",""]
[null,null,null,null,null,null,null,"",""]
[null,null,null,null,null,null,null,"",""]
[null,null,null,null,null,null,null,"",""]
[null,null,null,null,null,null,null,"",""]
[null,null,null,null,null,null,null,"",""]
[null,null,null,null,null,null,null,"",""]
[null,null,null,null,null,null,null,"",""]
[null,null,null,null,null,null,null,"",""]
[null,null,null,null,null,null,null,"",""]
[null,null,null,null,null,null,null,"",""]
[null,null,null,null,null,null,null,"",""]
[null,null,null,null,null,null,null,"",""]
[null,null,null,null,null,null,null,"",""]
[null,null,null,null,null,null,null,"",""]
[null,null,null,null,null,null,null,"",""]
[null,null,null,null,null,null,null,"",""]
[null,null,null,null,null,null,null,"",""]
[null,null,null,null,null,null,null,"",""]
[null,null,null,null,null,null,null,"",""]
[null,null,null,null,null,null,null,"",""]
[null,null,null,null,null,null,null,"",""]
[null,null,null,null,null,null,null,"",""]
[null,null,null,null,null,null,null,"",""]
[null,null,null,null,null,null,null,"",""]
[null,null,null,null,null,null,null,"",""]
[null,null,null,null,null,null,null,"",""]
[null,null,null,null,null,null,null,"",""]
[null,null,null,null,null,null,null,"",""]
[null,null,null,null,null,null,null,"",""]
[null,null,null,null,null,null,null,"",""]
[null,null,null,null,null,null,null,"",""]
[null,null,null,null,null,null,null,"",""]
[null,null,null,null,null,null,null,"",""]
[null,null,null,null,null,null,null,"",""]
[null,null,null,null,null,null,null,"",""]
[null,null,null,null,null,null,null,"",""]
[null,null,null,null,null,null,null,"",""]
[null,null,null,null,null,null,null,"",""]
[null,null,null,null,null,null,null,"",""]
[null,null,null,null,null,null,null,"",""]
[null,null,null,null,null,null,null,"",""]
[null,null,null,null,null,null,null,"",""]
[null,null,null,null,null,null,null,"",""]
[null,null,null,null,null,null,null,{"$f":"IF(G844<>\"\", CHIDIST(G844,1), \"\")","v":""},{"$f":"IF(E844<>\"\", IF(E844>F844,\"Positive\", \"Negative\"), \"\")","v":""}]
[null,null,null,null,null,null,null,"",""]
[null,null,null,null,null,null,null,"",""]
[null,null,null,null,null,null,null,"",""]
[null,null,null,null,null,null,null,"",""]
[null,null,null,null,null,null,null,"",""]
[null,null,null,null,null,null,null,"",""]
[null,null,null,null,null,null,null,"",""]
[null,null,null,null,null,null,null,"",""]
[null,null,null,null,null,null,null,"",""]
[null,null,null,null,null,null,null,"",""]
[null,null,null,null,null,null,null,"",""]
[null,null,null,null,null,null,null,"",""]
[null,null,null,null,null,null,null,"",""]
[null,null,null,null,null,null,null,"",""]
[null,null,null,null,null,null,null,"",""]
[null,null,null,null,null,null,null,"",""]
[null,null,null,null,null,null,null,"",""]
[null,null,null,null,null,null,null,"",""]
[null,null,null,null,null,null,null,"",""]
[null,null,null,null,null,null,null,"",""]
[null,null,null,null,null,null,null,"",""]
[null,null,null,null,null,null,null,"",""]
[null,null,null,null,null,null,null,"",""]
[null,null,null,null,null,null,null,"",""]
[null,null,null,null,null,null,null,"",""]
[null,null,null,null,null,null,null,"",""]
[null,null,null,null,null,null,null,"",""]
[null,null,null,null,null,null,null,"",""]
[null,null,null,null,null,null,null,"",""]
[null,null,null,null,null,null,null,"",""]
[null,null,null,null,null,null,null,"",""]